Workbook

Sheet 1. Leeswijzer
C1: Leeswijzer DUTO-applicatie-scan | S1: Overzicht tabbladen
C3: Praktische uitleg voorhet invullen, interpreteren en opvolgen van de scan. | S3: De DUTO-applicatie-scan bestaat uit acht tabbladen. Onderstaand overzicht helpt je snel de juiste informatie te vinden.
C5: Waarvoor gebruik je deze scan? | S5: Tabblad | X5: Wat vind je hier? | AC5: Gebruik
C6: De DUTO-applicatie-scan is een praktisch hulpmiddel om in beeld te brengen in hoeverre bij de inrichting en het beheer van een applicatie rekening is gehouden met duurzame toegankelijkheid van informatie. De scan is bedoeld als gespreks- en analyse-instrument. De uitkomst helpt om te bepalen wat al goed is ingericht, waar nog aandacht nodig is en welke verbetermaatregelen het meest relevant zijn. De scan is nadrukkelijk geen audit of afvinklijst. Niet ieder aspect van duurzame toegankelijkheid is voor iedere applicatie even relevant en een lage score betekent daarom niet automatisch dat een applicatie 'niet DUTO' is.
S7: Gebruiken - van uitleg naar invullen
S9: Leeswijzer | X9: Doel, werkwijze en uitleg over het gebruik van de scan | AC9: Start hier. Lees dit voordat je met je scan begint.
C12: Wie vult de scan in?
C13: Vul de scan bij voorkeur gezamenlijk in met de mensen die vanuit verschillende rollen kennis hebben van de applicatie en de informatie die daarin wordt beheerd. Denk bijvoorbeeld aan: - informatiebeheer; - functioneel beheer; - de proceseigenaar of informatie-eigenaar; - architectuur en IV; - privacy en informatiebeveiliging; - eventueel de leverancier. Niet iedere rol hoeft bij iedere scan betrokken te zijn. Kies de deelnemers die nodig zijn om de antwoorden goed te kunnen onderbouwen.
S14: Toelichting score en vragen | X14: Uitleg bij de scores en inhoudelijke toelichting per vraag. | AC14: Raadpleeg tijdens het invullen van de scan
S19: Scan | X19: Vragen, score en relevantiebepaling van de applicatie. | AC19: Invullen Vul hier de beoordeling en prioriteiten van de applicatie in.
C22: Zo gebruik je de scan
C23: Begin in het tabblad Scan. Beantwoord de vragen op basis van de feitelijke inrichting van de applicatie en de beschikbare documentatie. Geef iedere vraag een score van 0 tot en met 5:
S24: Analyseren - resultaten bekijken en verdiepen
C25: 0 | D25: niet aanwezig of niet niet ingericht
C26: 1 | D26: zeer beperkt aanwezig | S26: Dashboard | X26: Visualisatie van de resultaten vanuit verschillende invalshoeken. | AC26: Analyseerd aandachtspunten, patronen en prioriteiten.
C27: 2 | D27: gedeeltelijk beschreven of ingericht
C28: 3 | D28: aanwezig, maar nog beperkt of onvoldoende geborgd
C29: 4 | D29: goed ingericht en grotendeels aantoonbaar
C30: 5 | D30: volledig ingericht, aantoonbaar werkend en structureel geborgd
C31: Leg waar mogelijk vast waarop de beoordeling is gebaseerd. Denk aan beleid, werkinstructies, schermafbeeldingen, autorisatiematrices, beheerafspraken, architectuurdocumentatie of een toelichting van functioneel beheer. Daarmee wordt de scan niet alleen een momentopname, maar ook bruikbaar bij een volgende kwaliteitscontrole. | S31: Risico en impact (risicoweging) | X31: Weging van risico en impact van onderwerpen. | AC31: Verdiep de uitkomsten help prioriteren
C34: Bepaal wat voor deze applicatie relevant is
C35: Niet iedere eis weegt voor iedere applicatie even zwaar. Gebruik daarom de MoSCoW-classificatie om de relevantie voor de betreffende applicatie te bepalen.
S36: Overzicht risico functie | X36: Overzicht van risico's per DUTO-functie. | AC36: Bekijk waar risico's zich concertreren en waar aandacht nodig is.
C37: Must | F37: Should | I37: Could | L37: Won't | O37: NVT
C38: Noodzakelijk | F38: Belangrijk | I38: Wenselijk | L38: Geen prioriteit | O38: Niet van toepassing
C39: Deze classificatie vraagt om een inhoudelijke afweging. Een eis die voor een DMS essentieel is, kan voor een andere applicatie minder zwaar wegen. Kijk daarbij onder meer naar de functie van een applicatie, het belang van de informatie, de bewaartermijnen, risico's en de plaats van de applicatie binnen het informatielandschap. * Gebruik NVT alleen wanneer een onderwerp daadwerkelijke niet relevant is en niet wanneer iets nog niet is ingericht. **Leg bij Must, Won't en NVT waar nodig vast waarom voor deze classificatie is gekozen.
S41: Naslag- achtergrond en broninformatie
S43: Model-eisen DUTO | X43: Overzicht van de model-eisen vanuit het DUTO-raamwerk | AC43: Naslag en achtergronddocumentatie bij de toetsing
C45: Lees de uitkomsten in samenhang
C46: Het dashboard geeft verschillende doorsneden van de ingevulde scan. De resultaten worden gemaakt naar categorie, DUTO-kenmerk, DUTO-functie en MoSCoW-prioriteit. Gebruik deze uitkomsten vooral om patronen te herkennen. Kijk daarom niet alleen naar maar voor naar: 1. laag scorende Must- en Should-vragen 2. onderwerpen met een hoog risico of grote impact 3. terugkerende zwakke plekken binnen Duto-Kenmerken of functies 4. maatregelen die relatief eenvoudig kunnen worden verbeterd 5. punten die nadere analyse of besluitvorming vragen.
S48: Randvoorwaarden DUTO | X48: Overzicht van de randvoorwaarden vanuit het DUTO-raamwerk | AC48: Naslag en achtergronddocumentatie bij de toetsing
C58: Van scan naar verbeteractie
C59: De scan is pas echt nuttig wanneer de uitkomsten worden vertaald naar concrete afspraken. Bepaal voor relevante aandachtspunten:
C61: wat moet worden verbeterd | G61: wie daarvoor verantwoordelijk is | K61: wanneer dit wordt uitgevoerd | O61: Hoe het resultaat wordt getoetst
C64: Herhaal de scan
C65: Gebruik de scan niet allleen bij de eerste inrichting van een applicatie. Herhaal hem bijvoorbeeld na een grote wijziging, migratie of wijziging van beheerafspraken en periodiek als onderdeel van de kwaliteitscontrole. Zo wordt de DUTO-applicatie-scan geen eenmalige checklist, maar een hulpmiddel om gedurende de levensduur van een applicatie periodiek stil te staan bij de duurzame toegankelijkheid van de informatie.

Sheet 2. Toelichting score en vragen
B2: Scores - Hoe beoordeel je de vragen | M2: Scores - Hoe beoordeel je de vragen
B3: Score | C3: Toelichting | M3: MoSCoW | N3: Betekenis | O3: Toelichting
B4: 0 | C4: Niet aanwezig. Geen documentatie, geen inrichting, geen aanwijzingen dat het onderwerp is meegenomen. Of: niet van toepassing voor deze applicatie/context | M4: Must | N4: Noodzakelijk | O4: Kritiek voor deze applicatie
B5: 1 | C5: Zeer beperkt aanwezig. Alleen intentie, losse verwijzingen of aannames. Niet aantoonbaar ingericht. | M5: Should | N5: Belangrijk | O5: Sterk gewenst, maar niet altijd kritiek
B6: 2 | C6: Gedeeltelijk beschreven of deels ingericht. Onderbouwing beperkt, inconsistent of nog in ontwikkeling. | M6: Could | N6: Wenselijk | O6: Toegevoegde waarde, maar geen noodzaak voor nu
B7: 3 | C7: Beschreven of zichtbaar in de praktijk, maar nog beperkt ingericht, inconsistent toegepast of onvoldoende geborgd. | M7: Won't (nu) | N7: Geen prioriteit | O7: Bewust geen prioriteit op dit moment
B8: 4 | C8: Goed gedocumenteerd en grotendeels ingericht of werkend maar nog niet volledig vastgesteld of praktijk aanwezig maar documentatie nog niet volledig uitgewerkt. | M8: NVT | N8: Niet van toepassing | O8: Niet relevant voor deze applicatie
B9: 5 | C9: Volledig gedocumenteerd en aantoonbaar werkend in de praktijk. Structureel geborgd, controleerbaar en reproduceerbaar.
B12: Toelichting op vragen
B13: Nr | C13: Vraag | K13: Toelichting
B14: 1 | C14: Is vastgelegd wie verantwoordelijk is voor de informatie die in deze applicatie wordt beheerd (bijv. proceseigenaren, domeineigenaren of informatie-eigenaren)? | K14: Binnen een organisatie wordt dezelfde applicatie gebruikt door meerdere organisatieonderdelen voor vergelijkbare processen. Hoewel de processtructuur uniform is ingericht, kunnen onderdelen verschillende informatiebehoeften hebben. De vraag is dan: - Is vastgelegd wie verantwoordelijk is voor de informatie die in deze applicatie wordt beheerd? - Is duidelijk wie eigenaar is van informatiekwaliteit en inrichting? - Wie beslist over wijzigingen in metadata, classificaties of dossierstructuur? - Is er één proceseigenaar of informatie-eigenaar met mandaat? - Of zijn verantwoordelijkheden verdeeld over meerdere organisatieonderdelen? Wanneer eigenaarschap niet expliciet is vastgelegd, ontstaan risico’s zoals: - onduidelijke besluitvorming - versnipperde inrichting - inconsistente metadata - verschillen in lifecyclebeheer - gebrek aan aanspreekbaarheid bij kwaliteitsproblemen Deze vraag richt zich daarom niet op technisch applicatiebeheer, maar op expliciete organisatorische verantwoordelijkheid voor de informatie die binnen de applicatie wordt beheerd.
B15: 2 | C15: Zijn rollen en verantwoordelijkheden voor informatiebeheer vastgelegd (bijv. in een RASCI/RACI, governance- of procesbeschrijving)? | K15: Binnen een organisatie kan informatiebeheer door verschillende partijen worden uitgevoerd, zoals (de)centrale ihh. Het moet expliciet duidelijk zijn waar taken, rollen en verantwoordelijkheden zijn belegd, zodat informatiebeheer volledig en consistent wordt uitgevoerd. De vraag is dan: - Zijn rollen en verantwoordelijkheden voor informatiebeheer expliciet vastgelegd? - Is duidelijk welke taken centraal worden uitgevoerd en welke decentraal? - Is vastgelegd wie verantwoordelijk is voor lifecyclebeheer binnen deze applicatie? - Is helder wie besluiten neemt over metadata, bewaartermijnen en vernietiging? - Zijn verantwoordelijkheden actueel en passend bij de toekomstige inrichting? Wanneer rollen en verantwoordelijkheden niet expliciet zijn vastgelegd, ontstaan risico’s zoals: - taken die tussen partijen blijven liggen - overlap of hiaten in verantwoordelijkheden - verschillen in uitvoering tussen organisatieonderdelen - onduidelijkheid over besluitvorming - beperkte borging van kwaliteit en lifecyclebeheer. Deze vraag richt zich daarom niet alleen op het bestaan van governance-documentatie, maar op de expliciete en actuele verdeling van verantwoordelijkheden binnen de informatieketen.
B16: 3 | C16: Zijn beheerafspraken met leveranciers of ketenpartners vastgelegd? | K16: Binnen een applicatie wordt informatie uitgewisseld met leveranciers of ketenpartners, bijvoorbeeld voor opslag, koppelingen, metadata-uitwisseling of archivering. Omdat meerdere partijen betrokken zijn bij beheer en verwerking, moet duidelijk zijn welke afspraken gelden en wie waarvoor verantwoordelijk is. De vraag is dan: - Zijn beheerafspraken met leveranciers of ketenpartners expliciet vastgelegd? - Is duidelijk wie verantwoordelijk is voor beschikbaarheid, kwaliteit en continuïteit? - Zijn afspraken gemaakt over incidenten, wijzigingen en escalatie? - Is vastgelegd wie controleert of informatie correct wordt uitgewisseld? - Zijn lifecycle-afspraken opgenomen, zoals bewaartermijnen, vernietiging en export? Wanneer beheerafspraken ontbreken of niet expliciet zijn vastgelegd, ontstaan risico’s zoals: - onduidelijke verantwoordelijkheden - verlies van informatie of metadata - beperkte controle op ketenkwaliteit - afhankelijkheid van leveranciers - onduidelijkheid bij incidenten of dataverlies Deze vraag richt zich daarom niet alleen op contractuele afspraken, maar op expliciete vastlegging van rollen, verantwoordelijkheden en beheersafspraken binnen de informatieketen.
B17: 4 | C17: Is er een exitstrategie voor de applicatie? | K17: De applicatie wordt vervangen, uitgefaseerd of de dienstverlening van een leverancier stopt. In de applicatie bevinden zich dossiers, metadata, logging, koppelingen en informatieobjecten die gedurende meerdere jaren zijn opgebouwd. De vraag is dan: - Hoe wordt informatie uit de applicatie veilig overgedragen? - Welke gegevens moeten worden gemigreerd, vernietigd of bewaard? - Blijven metadata, relaties en context behouden? - Is duidelijk in welk formaat export plaatsvindt? - Wie is verantwoordelijk voor migratie en kwaliteitscontrole? - Zijn afspraken gemaakt over toegang tot gegevens na beëindiging van contracten? - Is vastgelegd hoe afhankelijkheden van leveranciers worden afgebouwd? Wanneer geen exitstrategie bestaat, ontstaat risico op: - verlies van informatie of context - afhankelijkheid van leverancier of platform - onvolledige migratie - verlies van metadata of logging - onduidelijkheid over verantwoordelijkheden bij uitfasering Een exitstrategie maakt inzichtelijk hoe informatie duurzaam toegankelijk blijft, ook wanneer de applicatie of leverancier verdwijnt.
B18: 5 | C18: Kunnen informatieobjecten automatisch of via koppelingen worden geregistreerd? | K18: Binnen een organisatie worden informatieobjecten niet altijd handmatig toegevoegd aan een applicatie. Documenten, metadata of dossiers kunnen ook automatisch ontstaan via koppelingen met andere systemen, bijvoorbeeld vanuit zaaksystemen, e-mail, formulieren, sensordata of ketenapplicaties. De vraag is dan: - Kunnen informatieobjecten automatisch worden geregistreerd? - Worden metadata automatisch meegeleverd? - Is duidelijk welke systemen bronhouder zijn? - Wordt dubbele registratie voorkomen? - Is herleidbaar via welke koppeling informatie is binnengekomen? - Worden fouten of mislukte registraties gelogd? - Is duidelijk wie verantwoordelijk is voor de kwaliteit van automatisch aangeleverde informatie? Wanneer automatische registratie of koppelingen niet goed zijn ingericht, ontstaan risico’s zoals: - ontbrekende of onvolledige metadata - dubbele registraties - verlies van context - niet-geregistreerde informatieobjecten - afhankelijkheid van bronapplicaties zonder controle op volledigheid. Deze vraag richt zich daarmee niet alleen op technische koppelingen, maar ook op de borging van volledigheid, herleidbaarheid en kwaliteit van automatisch geregistreerde informatie.
B19: 6 | C19: Krijgt ieder informatieobject een unieke identifier? | K19: Binnen een applicatie worden meerdere informatieobjecten geregistreerd, zoals documenten, dossiers, e-mails, bijlagen of automatisch ingelezen bestanden. De vraag is dan: - Krijgt ieder informatieobject een unieke identifier? - Blijft deze identifier gedurende de volledige lifecycle gelijk? - Is het object hiermee eenduidig terug te vinden? - Kunnen verschillende versies of kopieën van elkaar worden onderscheiden? - Blijft de identifier behouden bij migratie of export? - Is herleidbaar uit welk systeem of proces het object afkomstig is? Wanneer unieke identificatie ontbreekt, ontstaan risico’s zoals: - dubbele of onjuiste registraties; - verwarring tussen versies of dossiers; - verlies van herleidbaarheid; - problemen bij migratie of koppelingen; - beperkte controle op volledigheid en betrouwbaarheid. Een unieke identifier is daarmee essentieel om informatieobjecten gedurende hun hele levenscyclus consistent, herleidbaar en beheersbaar te houden.
B20: 7 | C20: Is vastgelegd welke metadata verplicht zijn? | K20: Binnen een applicatie worden informatieobjecten geregistreerd door verschillende gebruikers, processen of koppelingen. Zonder duidelijke afspraken kan per onderdeel verschillend worden omgegaan met metadata. De vraag is dan: - Is vastgelegd welke metadata verplicht zijn? - Zijn verplichte velden afhankelijk van proces, documenttype of informatiecategorie? - Is duidelijk welke metadata minimaal nodig zijn voor vindbaarheid, context en beheer? - Worden verplichte metadata technisch afgedwongen? - Is vastgelegd wie verantwoordelijk is voor het beheer van metadata-afspraken? - Zijn metadata-eisen consistent tussen verschillende organisatieonderdelen of ketens? Wanneer verplichte metadata niet expliciet zijn vastgelegd, ontstaan risico’s zoals: - onvolledige registratie - beperkte vindbaarheid - verlies van context - inconsistente classificatie - problemen bij vernietiging, overbrenging of openbaarmaking Deze vraag gaat daarom niet alleen over het bestaan van metadata, maar over de expliciete borging van minimale metadata-eisen voor betrouwbaar informatiebeheer.
B21: 8 | C21: Is het metadatamodel van de applicatie gedocumenteerd en is er een mapping beschikbaar naar het organisatiebrede metadatamodel (bijv. MDTO)? | K21: Binnen een applicatie worden metadata gebruikt om informatieobjecten te beschrijven, terug te vinden en te beheren. De applicatie kan daarbij een eigen metadatamodel hanteren, met eigen veldnamen, relaties en classificaties. De vraag is dan: - Is het metadatamodel van de applicatie gedocumenteerd? - Is inzichtelijk welke metadata-attributen beschikbaar zijn? - Zijn definities, relaties en afhankelijkheden beschreven? - Is vastgelegd hoe metadata in de applicatie zich verhouden tot het organisatiebrede metadatamodel? - Is er een mapping beschikbaar naar bijvoorbeeld MDTO? - Is duidelijk welke metadata ontbreken, afwijkend zijn of anders worden geïnterpreteerd? - Wordt de mapping onderhouden bij wijzigingen in applicatie of organisatiemodel? Wanneer een metadatamodel niet expliciet is gedocumenteerd of niet gekoppeld is aan een organisatiebreed model, ontstaan risico’s zoals: - verschillende interpretaties van metadata; - beperkte uitwisselbaarheid tussen systemen; - verlies van context bij migratie; - inconsistente classificatie; - onduidelijkheid over verplichte metadata of bewaartermijnen. Deze vraag richt zich daarmee niet alleen op documentatie, maar ook op de mate waarin metadata structureel aansluiten op organisatiebrede afspraken en standaarden.
B22: 9 | C22: Is er een logische structuur voor informatieobjecten (bijv. dossiers, zaken)? | K22: Binnen een applicatie worden informatieobjecten opgeslagen, zoals documenten, dossiers, zaken, bijlagen of registraties. Zonder duidelijke structuur kan informatie versnipperd raken of moeilijk terugvindbaar zijn. De vraag is dan: - Is vastgelegd hoe informatieobjecten logisch worden gegroepeerd? - Worden documenten gekoppeld aan een dossier, zaak of context? - Is duidelijk welke informatie bij elkaar hoort? - Is de structuur gebaseerd op processen, zaaktypen, onderwerpen of classificaties? - Kunnen relaties tussen informatieobjecten worden vastgelegd? - Blijft de samenhang behouden bij migratie of export? - Is voor gebruikers duidelijk waar informatie moet worden opgeslagen? Wanneer een logische structuur ontbreekt, ontstaan risico’s zoals: - losse documenten zonder context - versnipperde dossiervorming - beperkte vindbaarheid - onduidelijkheid over samenhang tussen informatieobjecten - problemen bij vernietiging, overbrenging of reconstructie Deze vraag richt zich daarmee op de mate waarin informatieobjecten niet alleen worden opgeslagen, maar ook in een begrijpelijke en duurzame context worden georganiseerd.
B23: 10 | C23: Is inzichtelijk hoe de applicatie bewaartermijnen toekent op basis van de juiste selectielijst, inclusief beheer van historische selectieregimes en wijzigingen in regelgeving? | K23: In een applicatie worden zowel nieuwe als historische dossiers beheerd. Een deel van de informatie is gevormd voor de invoering van een nieuwe selectielijst, terwijl nieuwe zaken volgens een ander beheerregime worden bewaard. De vraag is dan: - Hoe bepaalt het systeem welke selectielijst van toepassing is? - Wordt onderscheid gemaakt tussen informatie die onder verschillende regimes valt? - Hoe worden bewaartermijnen gekoppeld aan dossiers die al bestonden vóór invoering van een nieuwe selectielijst? - Blijft de oorspronkelijke selectiecategorie behouden wanneer dossiers worden gemigreerd of gewijzigd? - Hoe wordt voorkomen dat bestaande informatieobjecten automatisch onder een nieuwe selectielijst vallen? - Is inzichtelijk welke selectielijst of BSD op een specifiek informatieobject is toegepast? - Kan achteraf worden gecontroleerd waarom een bepaalde bewaartermijn is toegekend? Wanneer deze overgang niet expliciet is ingericht, ontstaan risico’s zoals: - onjuiste bewaartermijnen - verlies van juridische grondslag - inconsistente vernietiging - onduidelijkheid over welke selectielijst daadwerkelijk geldt - beperkte aantoonbaarheid richting toezicht of archivering Deze vraag richt zich daarom niet alleen op het bestaan van een actuele selectielijst, maar op de wijze waarop meerdere selectieregimes binnen één systeem naast elkaar beheerd en aantoonbaar toegepast worden.
B24: 11 | C24: Wordt bij registratie automatisch een bewaartermijn gekoppeld? | K24: Binnen een applicatie worden informatieobjecten geregistreerd via handmatige invoer, sjablonen of automatische koppelingen. Tijdens registratie moet worden bepaald welke bewaartermijn van toepassing is. De vraag is dan: - Wordt bij registratie automatisch een bewaartermijn gekoppeld? - Op basis waarvan gebeurt dit (zaaktype, procestype, metadata, selectiecategorie)? - Wordt de juiste selectiecategorie automatisch toegepast? - Is de koppeling afhankelijk van verplichte metadata? - Kan een gebruiker de bewaartermijn aanpassen of overschrijven? - Hoe wordt omgegaan met uitzonderingen of afwijkende situaties? - Is achteraf herleidbaar waarom een bepaalde bewaartermijn is toegekend? Wanneer automatische koppeling ontbreekt of onvoldoende is ingericht, ontstaan risico’s zoals: - handmatige fouten bij toekenning van bewaartermijnen - inconsistente toepassing tussen gebruikers of organisatieonderdelen - onjuiste vernietigings- of overbrengingsmomenten - verkeerde koppeling aan selectiecategorieën - ontbrekende of niet-herleidbare besluitvorming over bewaartermijnen - afhankelijkheid van gebruikerskennis in plaats van systeemondersteuning - verhoogde kans op te vroeg vernietigen of te lang bewaren. Deze vraag richt zich daarmee op de mate waarin bewaartermijnen structureel, consistent en herleidbaar worden gekoppeld aan informatieobjecten vanaf het moment van registratie
B25: 12 | C25: Kunnen informatieobjecten gefixeerd worden (onveranderlijk)? | D25: Kunnen informatieobjecten gefixeerd worden (onveranderlijk)? | E25: Kunnen informatieobjecten gefixeerd worden (onveranderlijk)? | F25: Kunnen informatieobjecten gefixeerd worden (onveranderlijk)? | G25: Kunnen informatieobjecten gefixeerd worden (onveranderlijk)? | H25: Kunnen informatieobjecten gefixeerd worden (onveranderlijk)? | I25: Kunnen informatieobjecten gefixeerd worden (onveranderlijk)? | J25: Kunnen informatieobjecten gefixeerd worden (onveranderlijk)? | K25: Binnen een applicatie worden informatieobjecten gedurende hun levenscyclus gewijzigd, aangevuld of verwerkt. Op bepaalde momenten moet informatie echter worden “bevroren”, zodat inhoud en metadata niet meer aangepast kunnen worden. De vraag is dan: Kunnen informatieobjecten worden gefixeerd of onveranderlijk gemaakt? Op welk moment gebeurt dit (bij afsluiting, besluitvorming, archivering)? Geldt fixatie voor zowel inhoud als metadata? Is zichtbaar dat een object gefixeerd is? Kunnen wijzigingen nog plaatsvinden na fixatie? Worden wijzigingen gelogd of geblokkeerd? Is vastgelegd wie bevoegd is om fixatie toe te passen of op te heffen? Praktijkvoorbeeld Een dossier wordt afgesloten nadat een besluit formeel is vastgesteld. Vanaf dat moment moet de inhoud aantoonbaar gelijk blijven, zodat later kan worden bewezen welke informatie ten grondslag lag aan het besluit. Wanneer fixatie ontbreekt of onvoldoende is ingericht, ontstaan risico’s zoals: - wijzigingen achteraf zonder controle - verlies van bewijswaarde - onduidelijkheid over definitieve versies - aantasting van authenticiteit en betrouwbaarheid - beperkte juridische of audittrail-waarde Deze vraag richt zich daarmee op de mate waarin informatieobjecten na een bepaald moment aantoonbaar onveranderlijk kunnen worden vastgelegd. | L25: Binnen een applicatie worden informatieobjecten gedurende hun levenscyclus gewijzigd, aangevuld of verwerkt. Op bepaalde momenten moet informatie echter worden “bevroren”, zodat inhoud en metadata niet meer aangepast kunnen worden. De vraag is dan: Kunnen informatieobjecten worden gefixeerd of onveranderlijk gemaakt? Op welk moment gebeurt dit (bij afsluiting, besluitvorming, archivering)? Geldt fixatie voor zowel inhoud als metadata? Is zichtbaar dat een object gefixeerd is? Kunnen wijzigingen nog plaatsvinden na fixatie? Worden wijzigingen gelogd of geblokkeerd? Is vastgelegd wie bevoegd is om fixatie toe te passen of op te heffen? Praktijkvoorbeeld Een dossier wordt afgesloten nadat een besluit formeel is vastgesteld. Vanaf dat moment moet de inhoud aantoonbaar gelijk blijven, zodat later kan worden bewezen welke informatie ten grondslag lag aan het besluit. Wanneer fixatie ontbreekt of onvoldoende is ingericht, ontstaan risico’s zoals: - wijzigingen achteraf zonder controle - verlies van bewijswaarde - onduidelijkheid over definitieve versies - aantasting van authenticiteit en betrouwbaarheid - beperkte juridische of audittrail-waarde Deze vraag richt zich daarmee op de mate waarin informatieobjecten na een bepaald moment aantoonbaar onveranderlijk kunnen worden vastgelegd. | M25: Binnen een applicatie worden informatieobjecten gedurende hun levenscyclus gewijzigd, aangevuld of verwerkt. Op bepaalde momenten moet informatie echter worden “bevroren”, zodat inhoud en metadata niet meer aangepast kunnen worden. De vraag is dan: Kunnen informatieobjecten worden gefixeerd of onveranderlijk gemaakt? Op welk moment gebeurt dit (bij afsluiting, besluitvorming, archivering)? Geldt fixatie voor zowel inhoud als metadata? Is zichtbaar dat een object gefixeerd is? Kunnen wijzigingen nog plaatsvinden na fixatie? Worden wijzigingen gelogd of geblokkeerd? Is vastgelegd wie bevoegd is om fixatie toe te passen of op te heffen? Praktijkvoorbeeld Een dossier wordt afgesloten nadat een besluit formeel is vastgesteld. Vanaf dat moment moet de inhoud aantoonbaar gelijk blijven, zodat later kan worden bewezen welke informatie ten grondslag lag aan het besluit. Wanneer fixatie ontbreekt of onvoldoende is ingericht, ontstaan risico’s zoals: - wijzigingen achteraf zonder controle - verlies van bewijswaarde - onduidelijkheid over definitieve versies - aantasting van authenticiteit en betrouwbaarheid - beperkte juridische of audittrail-waarde Deze vraag richt zich daarmee op de mate waarin informatieobjecten na een bepaald moment aantoonbaar onveranderlijk kunnen worden vastgelegd. | N25: Binnen een applicatie worden informatieobjecten gedurende hun levenscyclus gewijzigd, aangevuld of verwerkt. Op bepaalde momenten moet informatie echter worden “bevroren”, zodat inhoud en metadata niet meer aangepast kunnen worden. De vraag is dan: Kunnen informatieobjecten worden gefixeerd of onveranderlijk gemaakt? Op welk moment gebeurt dit (bij afsluiting, besluitvorming, archivering)? Geldt fixatie voor zowel inhoud als metadata? Is zichtbaar dat een object gefixeerd is? Kunnen wijzigingen nog plaatsvinden na fixatie? Worden wijzigingen gelogd of geblokkeerd? Is vastgelegd wie bevoegd is om fixatie toe te passen of op te heffen? Praktijkvoorbeeld Een dossier wordt afgesloten nadat een besluit formeel is vastgesteld. Vanaf dat moment moet de inhoud aantoonbaar gelijk blijven, zodat later kan worden bewezen welke informatie ten grondslag lag aan het besluit. Wanneer fixatie ontbreekt of onvoldoende is ingericht, ontstaan risico’s zoals: - wijzigingen achteraf zonder controle - verlies van bewijswaarde - onduidelijkheid over definitieve versies - aantasting van authenticiteit en betrouwbaarheid - beperkte juridische of audittrail-waarde Deze vraag richt zich daarmee op de mate waarin informatieobjecten na een bepaald moment aantoonbaar onveranderlijk kunnen worden vastgelegd. | O25: Binnen een applicatie worden informatieobjecten gedurende hun levenscyclus gewijzigd, aangevuld of verwerkt. Op bepaalde momenten moet informatie echter worden “bevroren”, zodat inhoud en metadata niet meer aangepast kunnen worden. De vraag is dan: Kunnen informatieobjecten worden gefixeerd of onveranderlijk gemaakt? Op welk moment gebeurt dit (bij afsluiting, besluitvorming, archivering)? Geldt fixatie voor zowel inhoud als metadata? Is zichtbaar dat een object gefixeerd is? Kunnen wijzigingen nog plaatsvinden na fixatie? Worden wijzigingen gelogd of geblokkeerd? Is vastgelegd wie bevoegd is om fixatie toe te passen of op te heffen? Praktijkvoorbeeld Een dossier wordt afgesloten nadat een besluit formeel is vastgesteld. Vanaf dat moment moet de inhoud aantoonbaar gelijk blijven, zodat later kan worden bewezen welke informatie ten grondslag lag aan het besluit. Wanneer fixatie ontbreekt of onvoldoende is ingericht, ontstaan risico’s zoals: - wijzigingen achteraf zonder controle - verlies van bewijswaarde - onduidelijkheid over definitieve versies - aantasting van authenticiteit en betrouwbaarheid - beperkte juridische of audittrail-waarde Deze vraag richt zich daarmee op de mate waarin informatieobjecten na een bepaald moment aantoonbaar onveranderlijk kunnen worden vastgelegd.
B26: 13 | C26: Wordt de integriteit van bestanden gecontroleerd (checksum/hash)? | D26: Wordt de integriteit van bestanden gecontroleerd (checksum/hash)? | E26: Wordt de integriteit van bestanden gecontroleerd (checksum/hash)? | F26: Wordt de integriteit van bestanden gecontroleerd (checksum/hash)? | G26: Wordt de integriteit van bestanden gecontroleerd (checksum/hash)? | H26: Wordt de integriteit van bestanden gecontroleerd (checksum/hash)? | I26: Wordt de integriteit van bestanden gecontroleerd (checksum/hash)? | J26: Wordt de integriteit van bestanden gecontroleerd (checksum/hash)? | K26: Binnen een applicatie worden bestanden opgeslagen, gemigreerd, uitgewisseld of geraadpleegd. Tijdens deze lifecycle kunnen bestanden ongemerkt beschadigd raken, wijzigen of incompleet worden overgedragen. De vraag is dan: - Wordt de integriteit van bestanden gecontroleerd? - Worden checksums of hashes gegenereerd bij opslag of opname? - Wordt periodiek gecontroleerd of bestanden nog ongewijzigd zijn? - Is zichtbaar wanneer een integriteitscontrole heeft plaatsgevonden? - Wordt een afwijking automatisch gesignaleerd? - Hoe wordt omgegaan met beschadigde of gewijzigde bestanden? - Blijft integriteitsinformatie behouden bij migratie of export? Wanneer integriteitscontrole ontbreekt of onvoldoende is ingericht, ontstaan risico’s zoals: - ongemerkte beschadiging van bestanden - verlies van betrouwbaarheid van informatieobjecten - onopgemerkte wijzigingen tijdens opslag, migratie of overdracht - onvolledige of corrupte bestanden - onzekerheid of een bestand nog overeenkomt met het origineel - beperkte aantoonbaarheid bij audits of bewijsvoering - verlies van controle op duurzame toegankelijkheid Deze vraag richt zich daarmee op de mate waarin kan worden vastgesteld dat bestanden gedurende hun lifecycle ongewijzigd, volledig en betrouwbaar blijven. | L26: Binnen een applicatie worden bestanden opgeslagen, gemigreerd, uitgewisseld of geraadpleegd. Tijdens deze lifecycle kunnen bestanden ongemerkt beschadigd raken, wijzigen of incompleet worden overgedragen. De vraag is dan: - Wordt de integriteit van bestanden gecontroleerd? - Worden checksums of hashes gegenereerd bij opslag of opname? - Wordt periodiek gecontroleerd of bestanden nog ongewijzigd zijn? - Is zichtbaar wanneer een integriteitscontrole heeft plaatsgevonden? - Wordt een afwijking automatisch gesignaleerd? - Hoe wordt omgegaan met beschadigde of gewijzigde bestanden? - Blijft integriteitsinformatie behouden bij migratie of export? Wanneer integriteitscontrole ontbreekt of onvoldoende is ingericht, ontstaan risico’s zoals: - ongemerkte beschadiging van bestanden - verlies van betrouwbaarheid van informatieobjecten - onopgemerkte wijzigingen tijdens opslag, migratie of overdracht - onvolledige of corrupte bestanden - onzekerheid of een bestand nog overeenkomt met het origineel - beperkte aantoonbaarheid bij audits of bewijsvoering - verlies van controle op duurzame toegankelijkheid Deze vraag richt zich daarmee op de mate waarin kan worden vastgesteld dat bestanden gedurende hun lifecycle ongewijzigd, volledig en betrouwbaar blijven. | M26: Binnen een applicatie worden bestanden opgeslagen, gemigreerd, uitgewisseld of geraadpleegd. Tijdens deze lifecycle kunnen bestanden ongemerkt beschadigd raken, wijzigen of incompleet worden overgedragen. De vraag is dan: - Wordt de integriteit van bestanden gecontroleerd? - Worden checksums of hashes gegenereerd bij opslag of opname? - Wordt periodiek gecontroleerd of bestanden nog ongewijzigd zijn? - Is zichtbaar wanneer een integriteitscontrole heeft plaatsgevonden? - Wordt een afwijking automatisch gesignaleerd? - Hoe wordt omgegaan met beschadigde of gewijzigde bestanden? - Blijft integriteitsinformatie behouden bij migratie of export? Wanneer integriteitscontrole ontbreekt of onvoldoende is ingericht, ontstaan risico’s zoals: - ongemerkte beschadiging van bestanden - verlies van betrouwbaarheid van informatieobjecten - onopgemerkte wijzigingen tijdens opslag, migratie of overdracht - onvolledige of corrupte bestanden - onzekerheid of een bestand nog overeenkomt met het origineel - beperkte aantoonbaarheid bij audits of bewijsvoering - verlies van controle op duurzame toegankelijkheid Deze vraag richt zich daarmee op de mate waarin kan worden vastgesteld dat bestanden gedurende hun lifecycle ongewijzigd, volledig en betrouwbaar blijven. | N26: Binnen een applicatie worden bestanden opgeslagen, gemigreerd, uitgewisseld of geraadpleegd. Tijdens deze lifecycle kunnen bestanden ongemerkt beschadigd raken, wijzigen of incompleet worden overgedragen. De vraag is dan: - Wordt de integriteit van bestanden gecontroleerd? - Worden checksums of hashes gegenereerd bij opslag of opname? - Wordt periodiek gecontroleerd of bestanden nog ongewijzigd zijn? - Is zichtbaar wanneer een integriteitscontrole heeft plaatsgevonden? - Wordt een afwijking automatisch gesignaleerd? - Hoe wordt omgegaan met beschadigde of gewijzigde bestanden? - Blijft integriteitsinformatie behouden bij migratie of export? Wanneer integriteitscontrole ontbreekt of onvoldoende is ingericht, ontstaan risico’s zoals: - ongemerkte beschadiging van bestanden - verlies van betrouwbaarheid van informatieobjecten - onopgemerkte wijzigingen tijdens opslag, migratie of overdracht - onvolledige of corrupte bestanden - onzekerheid of een bestand nog overeenkomt met het origineel - beperkte aantoonbaarheid bij audits of bewijsvoering - verlies van controle op duurzame toegankelijkheid Deze vraag richt zich daarmee op de mate waarin kan worden vastgesteld dat bestanden gedurende hun lifecycle ongewijzigd, volledig en betrouwbaar blijven. | O26: Binnen een applicatie worden bestanden opgeslagen, gemigreerd, uitgewisseld of geraadpleegd. Tijdens deze lifecycle kunnen bestanden ongemerkt beschadigd raken, wijzigen of incompleet worden overgedragen. De vraag is dan: - Wordt de integriteit van bestanden gecontroleerd? - Worden checksums of hashes gegenereerd bij opslag of opname? - Wordt periodiek gecontroleerd of bestanden nog ongewijzigd zijn? - Is zichtbaar wanneer een integriteitscontrole heeft plaatsgevonden? - Wordt een afwijking automatisch gesignaleerd? - Hoe wordt omgegaan met beschadigde of gewijzigde bestanden? - Blijft integriteitsinformatie behouden bij migratie of export? Wanneer integriteitscontrole ontbreekt of onvoldoende is ingericht, ontstaan risico’s zoals: - ongemerkte beschadiging van bestanden - verlies van betrouwbaarheid van informatieobjecten - onopgemerkte wijzigingen tijdens opslag, migratie of overdracht - onvolledige of corrupte bestanden - onzekerheid of een bestand nog overeenkomt met het origineel - beperkte aantoonbaarheid bij audits of bewijsvoering - verlies van controle op duurzame toegankelijkheid Deze vraag richt zich daarmee op de mate waarin kan worden vastgesteld dat bestanden gedurende hun lifecycle ongewijzigd, volledig en betrouwbaar blijven.
B27: 14 | C27: Blijven metadata gekoppeld aan informatieobjecten? | D27: Blijven metadata gekoppeld aan informatieobjecten? | E27: Blijven metadata gekoppeld aan informatieobjecten? | F27: Blijven metadata gekoppeld aan informatieobjecten? | G27: Blijven metadata gekoppeld aan informatieobjecten? | H27: Blijven metadata gekoppeld aan informatieobjecten? | I27: Blijven metadata gekoppeld aan informatieobjecten? | J27: Blijven metadata gekoppeld aan informatieobjecten? | K27: Binnen een applicatie worden informatieobjecten opgeslagen samen met metadata, zoals titel, datum, procestype, bewaartermijn, classificatie of relatie met een dossier. Tijdens de lifecycle kunnen informatieobjecten worden verplaatst, geëxporteerd, gemigreerd of uitgewisseld met andere systemen. De vraag is dan: - Blijven metadata gekoppeld aan het informatieobject? - Gaan metadata mee bij export, migratie of koppelingen? - Blijft de relatie tussen bestand en metadata behouden? - Kunnen metadata los raken van het object? - Worden wijzigingen in metadata gelogd? - Is zichtbaar welke metadata bij welk object horen? - Blijven relaties tussen objecten, dossiers en metadata intact? Wanneer metadata los raken van informatieobjecten, ontstaan risico’s zoals: - verlies van context - verminderde vindbaarheid - onjuiste bewaartermijnen - verlies van dossierrelaties - beperkte aantoonbaarheid van herkomst en lifecycle Deze vraag richt zich daarmee op de mate waarin metadata duurzaam verbonden blijven met informatieobjecten, ook bij wijzigingen, migratie of uitwisseling. | L27: Binnen een applicatie worden informatieobjecten opgeslagen samen met metadata, zoals titel, datum, procestype, bewaartermijn, classificatie of relatie met een dossier. Tijdens de lifecycle kunnen informatieobjecten worden verplaatst, geëxporteerd, gemigreerd of uitgewisseld met andere systemen. De vraag is dan: - Blijven metadata gekoppeld aan het informatieobject? - Gaan metadata mee bij export, migratie of koppelingen? - Blijft de relatie tussen bestand en metadata behouden? - Kunnen metadata los raken van het object? - Worden wijzigingen in metadata gelogd? - Is zichtbaar welke metadata bij welk object horen? - Blijven relaties tussen objecten, dossiers en metadata intact? Wanneer metadata los raken van informatieobjecten, ontstaan risico’s zoals: - verlies van context - verminderde vindbaarheid - onjuiste bewaartermijnen - verlies van dossierrelaties - beperkte aantoonbaarheid van herkomst en lifecycle Deze vraag richt zich daarmee op de mate waarin metadata duurzaam verbonden blijven met informatieobjecten, ook bij wijzigingen, migratie of uitwisseling. | M27: Binnen een applicatie worden informatieobjecten opgeslagen samen met metadata, zoals titel, datum, procestype, bewaartermijn, classificatie of relatie met een dossier. Tijdens de lifecycle kunnen informatieobjecten worden verplaatst, geëxporteerd, gemigreerd of uitgewisseld met andere systemen. De vraag is dan: - Blijven metadata gekoppeld aan het informatieobject? - Gaan metadata mee bij export, migratie of koppelingen? - Blijft de relatie tussen bestand en metadata behouden? - Kunnen metadata los raken van het object? - Worden wijzigingen in metadata gelogd? - Is zichtbaar welke metadata bij welk object horen? - Blijven relaties tussen objecten, dossiers en metadata intact? Wanneer metadata los raken van informatieobjecten, ontstaan risico’s zoals: - verlies van context - verminderde vindbaarheid - onjuiste bewaartermijnen - verlies van dossierrelaties - beperkte aantoonbaarheid van herkomst en lifecycle Deze vraag richt zich daarmee op de mate waarin metadata duurzaam verbonden blijven met informatieobjecten, ook bij wijzigingen, migratie of uitwisseling. | N27: Binnen een applicatie worden informatieobjecten opgeslagen samen met metadata, zoals titel, datum, procestype, bewaartermijn, classificatie of relatie met een dossier. Tijdens de lifecycle kunnen informatieobjecten worden verplaatst, geëxporteerd, gemigreerd of uitgewisseld met andere systemen. De vraag is dan: - Blijven metadata gekoppeld aan het informatieobject? - Gaan metadata mee bij export, migratie of koppelingen? - Blijft de relatie tussen bestand en metadata behouden? - Kunnen metadata los raken van het object? - Worden wijzigingen in metadata gelogd? - Is zichtbaar welke metadata bij welk object horen? - Blijven relaties tussen objecten, dossiers en metadata intact? Wanneer metadata los raken van informatieobjecten, ontstaan risico’s zoals: - verlies van context - verminderde vindbaarheid - onjuiste bewaartermijnen - verlies van dossierrelaties - beperkte aantoonbaarheid van herkomst en lifecycle Deze vraag richt zich daarmee op de mate waarin metadata duurzaam verbonden blijven met informatieobjecten, ook bij wijzigingen, migratie of uitwisseling. | O27: Binnen een applicatie worden informatieobjecten opgeslagen samen met metadata, zoals titel, datum, procestype, bewaartermijn, classificatie of relatie met een dossier. Tijdens de lifecycle kunnen informatieobjecten worden verplaatst, geëxporteerd, gemigreerd of uitgewisseld met andere systemen. De vraag is dan: - Blijven metadata gekoppeld aan het informatieobject? - Gaan metadata mee bij export, migratie of koppelingen? - Blijft de relatie tussen bestand en metadata behouden? - Kunnen metadata los raken van het object? - Worden wijzigingen in metadata gelogd? - Is zichtbaar welke metadata bij welk object horen? - Blijven relaties tussen objecten, dossiers en metadata intact? Wanneer metadata los raken van informatieobjecten, ontstaan risico’s zoals: - verlies van context - verminderde vindbaarheid - onjuiste bewaartermijnen - verlies van dossierrelaties - beperkte aantoonbaarheid van herkomst en lifecycle Deze vraag richt zich daarmee op de mate waarin metadata duurzaam verbonden blijven met informatieobjecten, ook bij wijzigingen, migratie of uitwisseling.
B28: 15 | C28: Worden duurzame bestandsformaten (conform duurzame bestandsformaten Nationaal Archief) ondersteund of toegepast? | D28: Worden duurzame bestandsformaten (conform duurzame bestandsformaten Nationaal Archief) ondersteund of toegepast? | E28: Worden duurzame bestandsformaten (conform duurzame bestandsformaten Nationaal Archief) ondersteund of toegepast? | F28: Worden duurzame bestandsformaten (conform duurzame bestandsformaten Nationaal Archief) ondersteund of toegepast? | G28: Worden duurzame bestandsformaten (conform duurzame bestandsformaten Nationaal Archief) ondersteund of toegepast? | H28: Worden duurzame bestandsformaten (conform duurzame bestandsformaten Nationaal Archief) ondersteund of toegepast? | I28: Worden duurzame bestandsformaten (conform duurzame bestandsformaten Nationaal Archief) ondersteund of toegepast? | J28: Worden duurzame bestandsformaten (conform duurzame bestandsformaten Nationaal Archief) ondersteund of toegepast? | K28: Binnen een applicatie worden informatieobjecten opgeslagen die gedurende langere tijd toegankelijk en leesbaar moeten blijven. Gebruikers kunnen verschillende bestandsformaten uploaden, afkomstig uit uiteenlopende processen en systemen. De vraag is dan: - Worden duurzame bestandsformaten ondersteund of afgedwongen? - Welke bestandsformaten zijn toegestaan? - Sluiten deze aan op de voorkeursformaten van het Nationaal Archief? - Worden minder duurzame of propriëtaire formaten herkend? - Vindt validatie plaats bij opname? - Worden bestanden automatisch geconverteerd naar een duurzaam formaat? - Is inzichtelijk hoe afwijkende bestandsformaten worden behandeld? Wanneer ondersteuning van duurzame bestandsformaten niet expliciet is ingericht, ontstaan risico’s zoals: - verlies van leesbaarheid op lange termijn - afhankelijkheid van specifieke software of leveranciers - problemen bij migratie of archivering - niet-duurzame opslag van informatieobjecten - onduidelijkheid over toegestane formaten binnen de organisatie Deze vraag richt zich daarom niet alleen op het bestaan van eisen, maar op de aantoonbare toepassing van duurzame bestandsformaten binnen de werking van de applicatie. | L28: Binnen een applicatie worden informatieobjecten opgeslagen die gedurende langere tijd toegankelijk en leesbaar moeten blijven. Gebruikers kunnen verschillende bestandsformaten uploaden, afkomstig uit uiteenlopende processen en systemen. De vraag is dan: - Worden duurzame bestandsformaten ondersteund of afgedwongen? - Welke bestandsformaten zijn toegestaan? - Sluiten deze aan op de voorkeursformaten van het Nationaal Archief? - Worden minder duurzame of propriëtaire formaten herkend? - Vindt validatie plaats bij opname? - Worden bestanden automatisch geconverteerd naar een duurzaam formaat? - Is inzichtelijk hoe afwijkende bestandsformaten worden behandeld? Wanneer ondersteuning van duurzame bestandsformaten niet expliciet is ingericht, ontstaan risico’s zoals: - verlies van leesbaarheid op lange termijn - afhankelijkheid van specifieke software of leveranciers - problemen bij migratie of archivering - niet-duurzame opslag van informatieobjecten - onduidelijkheid over toegestane formaten binnen de organisatie Deze vraag richt zich daarom niet alleen op het bestaan van eisen, maar op de aantoonbare toepassing van duurzame bestandsformaten binnen de werking van de applicatie. | M28: Binnen een applicatie worden informatieobjecten opgeslagen die gedurende langere tijd toegankelijk en leesbaar moeten blijven. Gebruikers kunnen verschillende bestandsformaten uploaden, afkomstig uit uiteenlopende processen en systemen. De vraag is dan: - Worden duurzame bestandsformaten ondersteund of afgedwongen? - Welke bestandsformaten zijn toegestaan? - Sluiten deze aan op de voorkeursformaten van het Nationaal Archief? - Worden minder duurzame of propriëtaire formaten herkend? - Vindt validatie plaats bij opname? - Worden bestanden automatisch geconverteerd naar een duurzaam formaat? - Is inzichtelijk hoe afwijkende bestandsformaten worden behandeld? Wanneer ondersteuning van duurzame bestandsformaten niet expliciet is ingericht, ontstaan risico’s zoals: - verlies van leesbaarheid op lange termijn - afhankelijkheid van specifieke software of leveranciers - problemen bij migratie of archivering - niet-duurzame opslag van informatieobjecten - onduidelijkheid over toegestane formaten binnen de organisatie Deze vraag richt zich daarom niet alleen op het bestaan van eisen, maar op de aantoonbare toepassing van duurzame bestandsformaten binnen de werking van de applicatie. | N28: Binnen een applicatie worden informatieobjecten opgeslagen die gedurende langere tijd toegankelijk en leesbaar moeten blijven. Gebruikers kunnen verschillende bestandsformaten uploaden, afkomstig uit uiteenlopende processen en systemen. De vraag is dan: - Worden duurzame bestandsformaten ondersteund of afgedwongen? - Welke bestandsformaten zijn toegestaan? - Sluiten deze aan op de voorkeursformaten van het Nationaal Archief? - Worden minder duurzame of propriëtaire formaten herkend? - Vindt validatie plaats bij opname? - Worden bestanden automatisch geconverteerd naar een duurzaam formaat? - Is inzichtelijk hoe afwijkende bestandsformaten worden behandeld? Wanneer ondersteuning van duurzame bestandsformaten niet expliciet is ingericht, ontstaan risico’s zoals: - verlies van leesbaarheid op lange termijn - afhankelijkheid van specifieke software of leveranciers - problemen bij migratie of archivering - niet-duurzame opslag van informatieobjecten - onduidelijkheid over toegestane formaten binnen de organisatie Deze vraag richt zich daarom niet alleen op het bestaan van eisen, maar op de aantoonbare toepassing van duurzame bestandsformaten binnen de werking van de applicatie. | O28: Binnen een applicatie worden informatieobjecten opgeslagen die gedurende langere tijd toegankelijk en leesbaar moeten blijven. Gebruikers kunnen verschillende bestandsformaten uploaden, afkomstig uit uiteenlopende processen en systemen. De vraag is dan: - Worden duurzame bestandsformaten ondersteund of afgedwongen? - Welke bestandsformaten zijn toegestaan? - Sluiten deze aan op de voorkeursformaten van het Nationaal Archief? - Worden minder duurzame of propriëtaire formaten herkend? - Vindt validatie plaats bij opname? - Worden bestanden automatisch geconverteerd naar een duurzaam formaat? - Is inzichtelijk hoe afwijkende bestandsformaten worden behandeld? Wanneer ondersteuning van duurzame bestandsformaten niet expliciet is ingericht, ontstaan risico’s zoals: - verlies van leesbaarheid op lange termijn - afhankelijkheid van specifieke software of leveranciers - problemen bij migratie of archivering - niet-duurzame opslag van informatieobjecten - onduidelijkheid over toegestane formaten binnen de organisatie Deze vraag richt zich daarom niet alleen op het bestaan van eisen, maar op de aantoonbare toepassing van duurzame bestandsformaten binnen de werking van de applicatie.
B29: 16 | C29: Blijven digitale handtekeningen bewaard en verifieerbaar? | K29: Binnen digitale ondertekening bestaan verschillende niveaus van betrouwbaarheid en bewijswaarde. 1. Gewone elektronische handtekening Kenmerken: beperkte zekerheid over identiteit, weinig technische verificatie, bewijswaarde afhankelijk van context 2. Geavanceerde elektronische handtekening Kenmerken: gekoppeld aan een specifieke ondertekenaar, wijzigingen aan document zijn detecteerbaar, unieke koppeling met ondertekenaar Meer zekerheid, maar niet altijd juridisch gelijkwaardig aan natte handtekening. 3. Gekwalificeerde elektronische handtekening Zwaarste variant. Kenmerken: gebaseerd op gekwalificeerd certificaat, uitgegeven door erkende vertrouwensdienst, juridisch gelijkgesteld aan handgeschreven handtekening, hoogste bewijswaarde. Bij de gekwalificeerde handtekening ontstaan aanvullende eisen voor langdurige archivering en verificatie. Voorbeeld: Een besluit wordt in 2026 ondertekend met een gekwalificeerde elektronische handtekening. Het certificaat van de ondertekenaar verloopt na drie jaar. In 2045 moet worden aangetoond dat: - het document authentiek is - de handtekening geldig was op moment van ondertekening - het document sindsdien niet gewijzigd is. De vraag ontstaat dan: - zijn certificaatketens nog beschikbaar? - is revocationinformatie bewaard? - zijn tijdstempels duurzaam opgeslagen? - blijft verificatie onafhankelijk mogelijk? - of is alleen zichtbaar dat er ooit een handtekening aanwezig was? Bij een gewone elektronische handtekening zijn deze eisen beperkter. Bij een gekwalificeerde handtekening zijn ze essentieel, omdat juist daar juridische bewijswaarde en langdurige verifieerbaarheid centraal staan. Wanneer langdurige verificatie van digitale handtekeningen onvoldoende is ingericht, ontstaan risico’s zoals: - verlies van juridische bewijswaarde - niet meer kunnen aantonen wie heeft ondertekend - onmogelijkheid om authenticiteit achteraf te verifiëren - verlopen certificaten zonder bewaarde verificatiecontext - afhankelijkheid van externe validatiediensten - verlies van tijdstempels of certificaatketens - onzekerheid of een document sinds ondertekening gewijzigd is Deze vraag richt zich daarmee niet alleen op het bewaren van een handtekening als zichtbaar element, maar op de duurzame beschikbaarheid van alle informatie die nodig is om de handtekening gedurende de volledige bewaartermijn te kunnen verifiëren.
B31: 17 | C31: Is Identity & Access Management ingericht? | D31: Is Identity & Access Management ingericht? | E31: Is Identity & Access Management ingericht? | F31: Is Identity & Access Management ingericht? | G31: Is Identity & Access Management ingericht? | H31: Is Identity & Access Management ingericht? | I31: Is Identity & Access Management ingericht? | J31: Is Identity & Access Management ingericht? | K31: Binnen een applicatie hebben verschillende gebruikers toegang tot informatieobjecten, afhankelijk van hun rol, functie of verantwoordelijkheden. Niet iedere gebruiker mag dezelfde informatie bekijken, wijzigen of verwijderen. De vraag is dan: - Is Identity & Access Management (IAM) ingericht? - Is duidelijk wie toegang krijgt tot welke informatie? - Zijn rollen en rechten gekoppeld aan functies of processen? - Worden autorisaties centraal beheerd? - Is toegang gebaseerd op het principe van minimale rechten? - Worden rechten automatisch aangepast bij functiewijziging of uitdiensttreding? - Is inzichtelijk wie wanneer toegang heeft gehad? Wanneer IAM onvoldoende is ingericht, ontstaan risico’s zoals: - ongeautoriseerde toegang - te brede rechten - toegang door ex-medewerkers - onduidelijke verantwoordelijkheden - onvoldoende controle op vertrouwelijkheid en integriteit Deze vraag richt zich daarmee niet alleen op loginfunctionaliteit, maar op de structurele inrichting van identiteit, autorisatie en toegangsbeheer gedurende de volledige lifecycle van gebruikers en informatie. | L31: Binnen een applicatie hebben verschillende gebruikers toegang tot informatieobjecten, afhankelijk van hun rol, functie of verantwoordelijkheden. Niet iedere gebruiker mag dezelfde informatie bekijken, wijzigen of verwijderen. De vraag is dan: - Is Identity & Access Management (IAM) ingericht? - Is duidelijk wie toegang krijgt tot welke informatie? - Zijn rollen en rechten gekoppeld aan functies of processen? - Worden autorisaties centraal beheerd? - Is toegang gebaseerd op het principe van minimale rechten? - Worden rechten automatisch aangepast bij functiewijziging of uitdiensttreding? - Is inzichtelijk wie wanneer toegang heeft gehad? Wanneer IAM onvoldoende is ingericht, ontstaan risico’s zoals: - ongeautoriseerde toegang - te brede rechten - toegang door ex-medewerkers - onduidelijke verantwoordelijkheden - onvoldoende controle op vertrouwelijkheid en integriteit Deze vraag richt zich daarmee niet alleen op loginfunctionaliteit, maar op de structurele inrichting van identiteit, autorisatie en toegangsbeheer gedurende de volledige lifecycle van gebruikers en informatie. | M31: Binnen een applicatie hebben verschillende gebruikers toegang tot informatieobjecten, afhankelijk van hun rol, functie of verantwoordelijkheden. Niet iedere gebruiker mag dezelfde informatie bekijken, wijzigen of verwijderen. De vraag is dan: - Is Identity & Access Management (IAM) ingericht? - Is duidelijk wie toegang krijgt tot welke informatie? - Zijn rollen en rechten gekoppeld aan functies of processen? - Worden autorisaties centraal beheerd? - Is toegang gebaseerd op het principe van minimale rechten? - Worden rechten automatisch aangepast bij functiewijziging of uitdiensttreding? - Is inzichtelijk wie wanneer toegang heeft gehad? Wanneer IAM onvoldoende is ingericht, ontstaan risico’s zoals: - ongeautoriseerde toegang - te brede rechten - toegang door ex-medewerkers - onduidelijke verantwoordelijkheden - onvoldoende controle op vertrouwelijkheid en integriteit Deze vraag richt zich daarmee niet alleen op loginfunctionaliteit, maar op de structurele inrichting van identiteit, autorisatie en toegangsbeheer gedurende de volledige lifecycle van gebruikers en informatie. | N31: Binnen een applicatie hebben verschillende gebruikers toegang tot informatieobjecten, afhankelijk van hun rol, functie of verantwoordelijkheden. Niet iedere gebruiker mag dezelfde informatie bekijken, wijzigen of verwijderen. De vraag is dan: - Is Identity & Access Management (IAM) ingericht? - Is duidelijk wie toegang krijgt tot welke informatie? - Zijn rollen en rechten gekoppeld aan functies of processen? - Worden autorisaties centraal beheerd? - Is toegang gebaseerd op het principe van minimale rechten? - Worden rechten automatisch aangepast bij functiewijziging of uitdiensttreding? - Is inzichtelijk wie wanneer toegang heeft gehad? Wanneer IAM onvoldoende is ingericht, ontstaan risico’s zoals: - ongeautoriseerde toegang - te brede rechten - toegang door ex-medewerkers - onduidelijke verantwoordelijkheden - onvoldoende controle op vertrouwelijkheid en integriteit Deze vraag richt zich daarmee niet alleen op loginfunctionaliteit, maar op de structurele inrichting van identiteit, autorisatie en toegangsbeheer gedurende de volledige lifecycle van gebruikers en informatie. | O31: Binnen een applicatie hebben verschillende gebruikers toegang tot informatieobjecten, afhankelijk van hun rol, functie of verantwoordelijkheden. Niet iedere gebruiker mag dezelfde informatie bekijken, wijzigen of verwijderen. De vraag is dan: - Is Identity & Access Management (IAM) ingericht? - Is duidelijk wie toegang krijgt tot welke informatie? - Zijn rollen en rechten gekoppeld aan functies of processen? - Worden autorisaties centraal beheerd? - Is toegang gebaseerd op het principe van minimale rechten? - Worden rechten automatisch aangepast bij functiewijziging of uitdiensttreding? - Is inzichtelijk wie wanneer toegang heeft gehad? Wanneer IAM onvoldoende is ingericht, ontstaan risico’s zoals: - ongeautoriseerde toegang - te brede rechten - toegang door ex-medewerkers - onduidelijke verantwoordelijkheden - onvoldoende controle op vertrouwelijkheid en integriteit Deze vraag richt zich daarmee niet alleen op loginfunctionaliteit, maar op de structurele inrichting van identiteit, autorisatie en toegangsbeheer gedurende de volledige lifecycle van gebruikers en informatie.
B32: 18 | C32: Kunnen informatieobjecten gedurende de bewaartermijn geopend en weergegeven worden? | D32: Kunnen informatieobjecten gedurende de bewaartermijn geopend en weergegeven worden? | E32: Kunnen informatieobjecten gedurende de bewaartermijn geopend en weergegeven worden? | F32: Kunnen informatieobjecten gedurende de bewaartermijn geopend en weergegeven worden? | G32: Kunnen informatieobjecten gedurende de bewaartermijn geopend en weergegeven worden? | H32: Kunnen informatieobjecten gedurende de bewaartermijn geopend en weergegeven worden? | I32: Kunnen informatieobjecten gedurende de bewaartermijn geopend en weergegeven worden? | J32: Kunnen informatieobjecten gedurende de bewaartermijn geopend en weergegeven worden? | K32: Binnen de applicatie worden documenten opgeslagen die gedurende lange tijd beschikbaar moeten blijven, bijvoorbeeld beleidsstukken, besluiten of toezichtdossiers. In de huidige situatie kunnen documenten worden geopend via een viewer of gekoppelde bronapplicatie. De vraag is dan: - blijven bestanden ook over tientallen jaren leesbaar? - is de viewer dan nog beschikbaar? - zijn gebruikte bestandsformaten duurzaam ondersteund? - kan informatie onafhankelijk van de bronapplicatie worden geraadpleegd? - hoe wordt omgegaan met verouderde software of formaten? Wanneer duurzame toegankelijkheid niet expliciet is ingericht, ontstaan risico’s zoals: - niet-openbare bestanden - afhankelijkheid van verouderde software - verlies van leesbaarheid - beperkte raadpleegbaarheid - verlies van context of bewijswaarde Deze vraag richt zich daarom niet alleen op huidige weergavefunctionaliteit, maar op langdurige toegankelijkheid gedurende de volledige bewaartermijn. | L32: Binnen de applicatie worden documenten opgeslagen die gedurende lange tijd beschikbaar moeten blijven, bijvoorbeeld beleidsstukken, besluiten of toezichtdossiers. In de huidige situatie kunnen documenten worden geopend via een viewer of gekoppelde bronapplicatie. De vraag is dan: - blijven bestanden ook over tientallen jaren leesbaar? - is de viewer dan nog beschikbaar? - zijn gebruikte bestandsformaten duurzaam ondersteund? - kan informatie onafhankelijk van de bronapplicatie worden geraadpleegd? - hoe wordt omgegaan met verouderde software of formaten? Wanneer duurzame toegankelijkheid niet expliciet is ingericht, ontstaan risico’s zoals: - niet-openbare bestanden - afhankelijkheid van verouderde software - verlies van leesbaarheid - beperkte raadpleegbaarheid - verlies van context of bewijswaarde Deze vraag richt zich daarom niet alleen op huidige weergavefunctionaliteit, maar op langdurige toegankelijkheid gedurende de volledige bewaartermijn. | M32: Binnen de applicatie worden documenten opgeslagen die gedurende lange tijd beschikbaar moeten blijven, bijvoorbeeld beleidsstukken, besluiten of toezichtdossiers. In de huidige situatie kunnen documenten worden geopend via een viewer of gekoppelde bronapplicatie. De vraag is dan: - blijven bestanden ook over tientallen jaren leesbaar? - is de viewer dan nog beschikbaar? - zijn gebruikte bestandsformaten duurzaam ondersteund? - kan informatie onafhankelijk van de bronapplicatie worden geraadpleegd? - hoe wordt omgegaan met verouderde software of formaten? Wanneer duurzame toegankelijkheid niet expliciet is ingericht, ontstaan risico’s zoals: - niet-openbare bestanden - afhankelijkheid van verouderde software - verlies van leesbaarheid - beperkte raadpleegbaarheid - verlies van context of bewijswaarde Deze vraag richt zich daarom niet alleen op huidige weergavefunctionaliteit, maar op langdurige toegankelijkheid gedurende de volledige bewaartermijn. | N32: Binnen de applicatie worden documenten opgeslagen die gedurende lange tijd beschikbaar moeten blijven, bijvoorbeeld beleidsstukken, besluiten of toezichtdossiers. In de huidige situatie kunnen documenten worden geopend via een viewer of gekoppelde bronapplicatie. De vraag is dan: - blijven bestanden ook over tientallen jaren leesbaar? - is de viewer dan nog beschikbaar? - zijn gebruikte bestandsformaten duurzaam ondersteund? - kan informatie onafhankelijk van de bronapplicatie worden geraadpleegd? - hoe wordt omgegaan met verouderde software of formaten? Wanneer duurzame toegankelijkheid niet expliciet is ingericht, ontstaan risico’s zoals: - niet-openbare bestanden - afhankelijkheid van verouderde software - verlies van leesbaarheid - beperkte raadpleegbaarheid - verlies van context of bewijswaarde Deze vraag richt zich daarom niet alleen op huidige weergavefunctionaliteit, maar op langdurige toegankelijkheid gedurende de volledige bewaartermijn. | O32: Binnen de applicatie worden documenten opgeslagen die gedurende lange tijd beschikbaar moeten blijven, bijvoorbeeld beleidsstukken, besluiten of toezichtdossiers. In de huidige situatie kunnen documenten worden geopend via een viewer of gekoppelde bronapplicatie. De vraag is dan: - blijven bestanden ook over tientallen jaren leesbaar? - is de viewer dan nog beschikbaar? - zijn gebruikte bestandsformaten duurzaam ondersteund? - kan informatie onafhankelijk van de bronapplicatie worden geraadpleegd? - hoe wordt omgegaan met verouderde software of formaten? Wanneer duurzame toegankelijkheid niet expliciet is ingericht, ontstaan risico’s zoals: - niet-openbare bestanden - afhankelijkheid van verouderde software - verlies van leesbaarheid - beperkte raadpleegbaarheid - verlies van context of bewijswaarde Deze vraag richt zich daarom niet alleen op huidige weergavefunctionaliteit, maar op langdurige toegankelijkheid gedurende de volledige bewaartermijn.
B33: 19 | C33: Wordt periodiek gecontroleerd of informatieobjecten nog leesbaar zijn? | D33: Wordt periodiek gecontroleerd of informatieobjecten nog leesbaar zijn? | E33: Wordt periodiek gecontroleerd of informatieobjecten nog leesbaar zijn? | F33: Wordt periodiek gecontroleerd of informatieobjecten nog leesbaar zijn? | G33: Wordt periodiek gecontroleerd of informatieobjecten nog leesbaar zijn? | H33: Wordt periodiek gecontroleerd of informatieobjecten nog leesbaar zijn? | I33: Wordt periodiek gecontroleerd of informatieobjecten nog leesbaar zijn? | J33: Wordt periodiek gecontroleerd of informatieobjecten nog leesbaar zijn? | K33: Binnen de applicatie worden informatieobjecten langdurig opgeslagen, bijvoorbeeld voor bewaartermijnen van 10, 20 of 50 jaar. Hoewel documenten op moment van opslag leesbaar zijn, kan leesbaarheid in de tijd afnemen door: - verouderde bestandsformaten - corrupte bestanden - software die niet meer ondersteund wordt - beschadiging tijdens migratie of opslag De vraag is dan: - wordt periodiek gecontroleerd of bestanden nog geopend kunnen worden? - wordt vastgesteld of inhoud nog correct wordt weergegeven? - worden afwijkingen automatisch gesignaleerd? - is inzichtelijk welke bestanden risico lopen? - bestaat een proces voor herstel of conversie? Wanneer periodieke leesbaarheidscontrole ontbreekt, ontstaan risico’s zoals: - onopgemerkt verlies van toegankelijkheid - beschadigde of deels onleesbare bestanden - afhankelijkheid van verouderde software - verlies van duurzame toegankelijkheid - niet-aantoonbare kwaliteit van archiefinformatie Deze vraag richt zich daarom niet alleen op actuele leesbaarheid, maar op actieve monitoring en borging van leesbaarheid gedurende de volledige bewaartermijn. | L33: Binnen de applicatie worden informatieobjecten langdurig opgeslagen, bijvoorbeeld voor bewaartermijnen van 10, 20 of 50 jaar. Hoewel documenten op moment van opslag leesbaar zijn, kan leesbaarheid in de tijd afnemen door: - verouderde bestandsformaten - corrupte bestanden - software die niet meer ondersteund wordt - beschadiging tijdens migratie of opslag De vraag is dan: - wordt periodiek gecontroleerd of bestanden nog geopend kunnen worden? - wordt vastgesteld of inhoud nog correct wordt weergegeven? - worden afwijkingen automatisch gesignaleerd? - is inzichtelijk welke bestanden risico lopen? - bestaat een proces voor herstel of conversie? Wanneer periodieke leesbaarheidscontrole ontbreekt, ontstaan risico’s zoals: - onopgemerkt verlies van toegankelijkheid - beschadigde of deels onleesbare bestanden - afhankelijkheid van verouderde software - verlies van duurzame toegankelijkheid - niet-aantoonbare kwaliteit van archiefinformatie Deze vraag richt zich daarom niet alleen op actuele leesbaarheid, maar op actieve monitoring en borging van leesbaarheid gedurende de volledige bewaartermijn. | M33: Binnen de applicatie worden informatieobjecten langdurig opgeslagen, bijvoorbeeld voor bewaartermijnen van 10, 20 of 50 jaar. Hoewel documenten op moment van opslag leesbaar zijn, kan leesbaarheid in de tijd afnemen door: - verouderde bestandsformaten - corrupte bestanden - software die niet meer ondersteund wordt - beschadiging tijdens migratie of opslag De vraag is dan: - wordt periodiek gecontroleerd of bestanden nog geopend kunnen worden? - wordt vastgesteld of inhoud nog correct wordt weergegeven? - worden afwijkingen automatisch gesignaleerd? - is inzichtelijk welke bestanden risico lopen? - bestaat een proces voor herstel of conversie? Wanneer periodieke leesbaarheidscontrole ontbreekt, ontstaan risico’s zoals: - onopgemerkt verlies van toegankelijkheid - beschadigde of deels onleesbare bestanden - afhankelijkheid van verouderde software - verlies van duurzame toegankelijkheid - niet-aantoonbare kwaliteit van archiefinformatie Deze vraag richt zich daarom niet alleen op actuele leesbaarheid, maar op actieve monitoring en borging van leesbaarheid gedurende de volledige bewaartermijn. | N33: Binnen de applicatie worden informatieobjecten langdurig opgeslagen, bijvoorbeeld voor bewaartermijnen van 10, 20 of 50 jaar. Hoewel documenten op moment van opslag leesbaar zijn, kan leesbaarheid in de tijd afnemen door: - verouderde bestandsformaten - corrupte bestanden - software die niet meer ondersteund wordt - beschadiging tijdens migratie of opslag De vraag is dan: - wordt periodiek gecontroleerd of bestanden nog geopend kunnen worden? - wordt vastgesteld of inhoud nog correct wordt weergegeven? - worden afwijkingen automatisch gesignaleerd? - is inzichtelijk welke bestanden risico lopen? - bestaat een proces voor herstel of conversie? Wanneer periodieke leesbaarheidscontrole ontbreekt, ontstaan risico’s zoals: - onopgemerkt verlies van toegankelijkheid - beschadigde of deels onleesbare bestanden - afhankelijkheid van verouderde software - verlies van duurzame toegankelijkheid - niet-aantoonbare kwaliteit van archiefinformatie Deze vraag richt zich daarom niet alleen op actuele leesbaarheid, maar op actieve monitoring en borging van leesbaarheid gedurende de volledige bewaartermijn. | O33: Binnen de applicatie worden informatieobjecten langdurig opgeslagen, bijvoorbeeld voor bewaartermijnen van 10, 20 of 50 jaar. Hoewel documenten op moment van opslag leesbaar zijn, kan leesbaarheid in de tijd afnemen door: - verouderde bestandsformaten - corrupte bestanden - software die niet meer ondersteund wordt - beschadiging tijdens migratie of opslag De vraag is dan: - wordt periodiek gecontroleerd of bestanden nog geopend kunnen worden? - wordt vastgesteld of inhoud nog correct wordt weergegeven? - worden afwijkingen automatisch gesignaleerd? - is inzichtelijk welke bestanden risico lopen? - bestaat een proces voor herstel of conversie? Wanneer periodieke leesbaarheidscontrole ontbreekt, ontstaan risico’s zoals: - onopgemerkt verlies van toegankelijkheid - beschadigde of deels onleesbare bestanden - afhankelijkheid van verouderde software - verlies van duurzame toegankelijkheid - niet-aantoonbare kwaliteit van archiefinformatie Deze vraag richt zich daarom niet alleen op actuele leesbaarheid, maar op actieve monitoring en borging van leesbaarheid gedurende de volledige bewaartermijn.
B34: 20 | C34: Kunnen autorisaties op meerdere niveaus worden ingesteld? | D34: Kunnen autorisaties op meerdere niveaus worden ingesteld? | E34: Kunnen autorisaties op meerdere niveaus worden ingesteld? | F34: Kunnen autorisaties op meerdere niveaus worden ingesteld? | G34: Kunnen autorisaties op meerdere niveaus worden ingesteld? | H34: Kunnen autorisaties op meerdere niveaus worden ingesteld? | I34: Kunnen autorisaties op meerdere niveaus worden ingesteld? | J34: Kunnen autorisaties op meerdere niveaus worden ingesteld? | K34: Binnen een applicatie werken verschillende gebruikersgroepen met informatieobjecten, zoals behandelaars, IHH-specialisten, beheerders en externe ketenpartners. De vraag is dan: - Kunnen rechten worden ingesteld op meerdere niveaus? - Is autorisatie mogelijk op dossier-, document-, proces- of metadata-niveau? - Kunnen rechten verschillen per rol of organisatieonderdeel? - Is het mogelijk bepaalde informatie af te schermen? - Kunnen uitzonderingen worden ingericht voor vertrouwelijke informatie? Wanneer autorisaties slechts op één niveau mogelijk zijn, ontstaan risico’s zoals: - te brede toegang - onvoldoende afscherming - ongeautoriseerde inzage - beperkte toepassing van need-to-know-principes Deze vraag richt zich op de mate waarin toegangsbeheer flexibel en passend kan worden ingericht. | L34: Binnen een applicatie werken verschillende gebruikersgroepen met informatieobjecten, zoals behandelaars, IHH-specialisten, beheerders en externe ketenpartners. De vraag is dan: - Kunnen rechten worden ingesteld op meerdere niveaus? - Is autorisatie mogelijk op dossier-, document-, proces- of metadata-niveau? - Kunnen rechten verschillen per rol of organisatieonderdeel? - Is het mogelijk bepaalde informatie af te schermen? - Kunnen uitzonderingen worden ingericht voor vertrouwelijke informatie? Wanneer autorisaties slechts op één niveau mogelijk zijn, ontstaan risico’s zoals: - te brede toegang - onvoldoende afscherming - ongeautoriseerde inzage - beperkte toepassing van need-to-know-principes Deze vraag richt zich op de mate waarin toegangsbeheer flexibel en passend kan worden ingericht. | M34: Binnen een applicatie werken verschillende gebruikersgroepen met informatieobjecten, zoals behandelaars, IHH-specialisten, beheerders en externe ketenpartners. De vraag is dan: - Kunnen rechten worden ingesteld op meerdere niveaus? - Is autorisatie mogelijk op dossier-, document-, proces- of metadata-niveau? - Kunnen rechten verschillen per rol of organisatieonderdeel? - Is het mogelijk bepaalde informatie af te schermen? - Kunnen uitzonderingen worden ingericht voor vertrouwelijke informatie? Wanneer autorisaties slechts op één niveau mogelijk zijn, ontstaan risico’s zoals: - te brede toegang - onvoldoende afscherming - ongeautoriseerde inzage - beperkte toepassing van need-to-know-principes Deze vraag richt zich op de mate waarin toegangsbeheer flexibel en passend kan worden ingericht. | N34: Binnen een applicatie werken verschillende gebruikersgroepen met informatieobjecten, zoals behandelaars, IHH-specialisten, beheerders en externe ketenpartners. De vraag is dan: - Kunnen rechten worden ingesteld op meerdere niveaus? - Is autorisatie mogelijk op dossier-, document-, proces- of metadata-niveau? - Kunnen rechten verschillen per rol of organisatieonderdeel? - Is het mogelijk bepaalde informatie af te schermen? - Kunnen uitzonderingen worden ingericht voor vertrouwelijke informatie? Wanneer autorisaties slechts op één niveau mogelijk zijn, ontstaan risico’s zoals: - te brede toegang - onvoldoende afscherming - ongeautoriseerde inzage - beperkte toepassing van need-to-know-principes Deze vraag richt zich op de mate waarin toegangsbeheer flexibel en passend kan worden ingericht. | O34: Binnen een applicatie werken verschillende gebruikersgroepen met informatieobjecten, zoals behandelaars, IHH-specialisten, beheerders en externe ketenpartners. De vraag is dan: - Kunnen rechten worden ingesteld op meerdere niveaus? - Is autorisatie mogelijk op dossier-, document-, proces- of metadata-niveau? - Kunnen rechten verschillen per rol of organisatieonderdeel? - Is het mogelijk bepaalde informatie af te schermen? - Kunnen uitzonderingen worden ingericht voor vertrouwelijke informatie? Wanneer autorisaties slechts op één niveau mogelijk zijn, ontstaan risico’s zoals: - te brede toegang - onvoldoende afscherming - ongeautoriseerde inzage - beperkte toepassing van need-to-know-principes Deze vraag richt zich op de mate waarin toegangsbeheer flexibel en passend kan worden ingericht.
B35: 21 | C35: Worden gebruiks- en beheeracties op informatieobjecten gelogd (audittrail)? | D35: Worden gebruiks- en beheeracties op informatieobjecten gelogd (audittrail)? | E35: Worden gebruiks- en beheeracties op informatieobjecten gelogd (audittrail)? | F35: Worden gebruiks- en beheeracties op informatieobjecten gelogd (audittrail)? | G35: Worden gebruiks- en beheeracties op informatieobjecten gelogd (audittrail)? | H35: Worden gebruiks- en beheeracties op informatieobjecten gelogd (audittrail)? | I35: Worden gebruiks- en beheeracties op informatieobjecten gelogd (audittrail)? | J35: Worden gebruiks- en beheeracties op informatieobjecten gelogd (audittrail)? | K35: Binnen een applicatie worden informatieobjecten geraadpleegd, gewijzigd, verwijderd of beheerd door verschillende gebruikers. De vraag is dan: - Worden acties op informatieobjecten gelogd? - Is zichtbaar wie een object heeft geopend of gewijzigd? - Worden beheeracties vastgelegd? - Is logging beschikbaar voor zowel gebruikers als beheerders? - Zijn loggegevens raadpleegbaar en controleerbaar? Wanneer audittrail ontbreekt of beperkt is ingericht, ontstaan risico’s zoals: - niet-herleidbare wijzigingen - beperkte controleerbaarheid - onvoldoende bewijs bij incidenten - onduidelijkheid over verantwoordelijkheden Deze vraag richt zich op de mate waarin gebruik en beheer van informatieobjecten aantoonbaar worden vastgelegd. | L35: Binnen een applicatie worden informatieobjecten geraadpleegd, gewijzigd, verwijderd of beheerd door verschillende gebruikers. De vraag is dan: - Worden acties op informatieobjecten gelogd? - Is zichtbaar wie een object heeft geopend of gewijzigd? - Worden beheeracties vastgelegd? - Is logging beschikbaar voor zowel gebruikers als beheerders? - Zijn loggegevens raadpleegbaar en controleerbaar? Wanneer audittrail ontbreekt of beperkt is ingericht, ontstaan risico’s zoals: - niet-herleidbare wijzigingen - beperkte controleerbaarheid - onvoldoende bewijs bij incidenten - onduidelijkheid over verantwoordelijkheden Deze vraag richt zich op de mate waarin gebruik en beheer van informatieobjecten aantoonbaar worden vastgelegd. | M35: Binnen een applicatie worden informatieobjecten geraadpleegd, gewijzigd, verwijderd of beheerd door verschillende gebruikers. De vraag is dan: - Worden acties op informatieobjecten gelogd? - Is zichtbaar wie een object heeft geopend of gewijzigd? - Worden beheeracties vastgelegd? - Is logging beschikbaar voor zowel gebruikers als beheerders? - Zijn loggegevens raadpleegbaar en controleerbaar? Wanneer audittrail ontbreekt of beperkt is ingericht, ontstaan risico’s zoals: - niet-herleidbare wijzigingen - beperkte controleerbaarheid - onvoldoende bewijs bij incidenten - onduidelijkheid over verantwoordelijkheden Deze vraag richt zich op de mate waarin gebruik en beheer van informatieobjecten aantoonbaar worden vastgelegd. | N35: Binnen een applicatie worden informatieobjecten geraadpleegd, gewijzigd, verwijderd of beheerd door verschillende gebruikers. De vraag is dan: - Worden acties op informatieobjecten gelogd? - Is zichtbaar wie een object heeft geopend of gewijzigd? - Worden beheeracties vastgelegd? - Is logging beschikbaar voor zowel gebruikers als beheerders? - Zijn loggegevens raadpleegbaar en controleerbaar? Wanneer audittrail ontbreekt of beperkt is ingericht, ontstaan risico’s zoals: - niet-herleidbare wijzigingen - beperkte controleerbaarheid - onvoldoende bewijs bij incidenten - onduidelijkheid over verantwoordelijkheden Deze vraag richt zich op de mate waarin gebruik en beheer van informatieobjecten aantoonbaar worden vastgelegd. | O35: Binnen een applicatie worden informatieobjecten geraadpleegd, gewijzigd, verwijderd of beheerd door verschillende gebruikers. De vraag is dan: - Worden acties op informatieobjecten gelogd? - Is zichtbaar wie een object heeft geopend of gewijzigd? - Worden beheeracties vastgelegd? - Is logging beschikbaar voor zowel gebruikers als beheerders? - Zijn loggegevens raadpleegbaar en controleerbaar? Wanneer audittrail ontbreekt of beperkt is ingericht, ontstaan risico’s zoals: - niet-herleidbare wijzigingen - beperkte controleerbaarheid - onvoldoende bewijs bij incidenten - onduidelijkheid over verantwoordelijkheden Deze vraag richt zich op de mate waarin gebruik en beheer van informatieobjecten aantoonbaar worden vastgelegd.
B36: 22 | C36: Kunnen gebruikers informatieobjecten zoeken? | D36: Kunnen gebruikers informatieobjecten zoeken? | E36: Kunnen gebruikers informatieobjecten zoeken? | F36: Kunnen gebruikers informatieobjecten zoeken? | G36: Kunnen gebruikers informatieobjecten zoeken? | H36: Kunnen gebruikers informatieobjecten zoeken? | I36: Kunnen gebruikers informatieobjecten zoeken? | J36: Kunnen gebruikers informatieobjecten zoeken? | K36: Binnen een applicatie worden grote hoeveelheden informatieobjecten opgeslagen. Gebruikers moeten informatie kunnen terugvinden op basis van inhoud, metadata of context. De vraag is dan: - Kunnen gebruikers zoeken op metadata? - Kan gezocht worden op dossier, zaak, datum of classificatie? - Ondersteunt de applicatie full-text zoeken? - Kunnen filters of zoekcombinaties worden gebruikt? - Is zoeken mogelijk over meerdere objecttypen? Wanneer zoekfunctionaliteit beperkt is, ontstaan risico’s zoals: - informatie niet terugvinden - dubbele registrate - inefficiënt beheer - verlies van overzicht Deze vraag richt zich op de mate waarin informatieobjecten daadwerkelijk vindbaar en toegankelijk zijn voor gebruikers. | L36: Binnen een applicatie worden grote hoeveelheden informatieobjecten opgeslagen. Gebruikers moeten informatie kunnen terugvinden op basis van inhoud, metadata of context. De vraag is dan: - Kunnen gebruikers zoeken op metadata? - Kan gezocht worden op dossier, zaak, datum of classificatie? - Ondersteunt de applicatie full-text zoeken? - Kunnen filters of zoekcombinaties worden gebruikt? - Is zoeken mogelijk over meerdere objecttypen? Wanneer zoekfunctionaliteit beperkt is, ontstaan risico’s zoals: - informatie niet terugvinden - dubbele registrate - inefficiënt beheer - verlies van overzicht Deze vraag richt zich op de mate waarin informatieobjecten daadwerkelijk vindbaar en toegankelijk zijn voor gebruikers. | M36: Binnen een applicatie worden grote hoeveelheden informatieobjecten opgeslagen. Gebruikers moeten informatie kunnen terugvinden op basis van inhoud, metadata of context. De vraag is dan: - Kunnen gebruikers zoeken op metadata? - Kan gezocht worden op dossier, zaak, datum of classificatie? - Ondersteunt de applicatie full-text zoeken? - Kunnen filters of zoekcombinaties worden gebruikt? - Is zoeken mogelijk over meerdere objecttypen? Wanneer zoekfunctionaliteit beperkt is, ontstaan risico’s zoals: - informatie niet terugvinden - dubbele registrate - inefficiënt beheer - verlies van overzicht Deze vraag richt zich op de mate waarin informatieobjecten daadwerkelijk vindbaar en toegankelijk zijn voor gebruikers. | N36: Binnen een applicatie worden grote hoeveelheden informatieobjecten opgeslagen. Gebruikers moeten informatie kunnen terugvinden op basis van inhoud, metadata of context. De vraag is dan: - Kunnen gebruikers zoeken op metadata? - Kan gezocht worden op dossier, zaak, datum of classificatie? - Ondersteunt de applicatie full-text zoeken? - Kunnen filters of zoekcombinaties worden gebruikt? - Is zoeken mogelijk over meerdere objecttypen? Wanneer zoekfunctionaliteit beperkt is, ontstaan risico’s zoals: - informatie niet terugvinden - dubbele registrate - inefficiënt beheer - verlies van overzicht Deze vraag richt zich op de mate waarin informatieobjecten daadwerkelijk vindbaar en toegankelijk zijn voor gebruikers. | O36: Binnen een applicatie worden grote hoeveelheden informatieobjecten opgeslagen. Gebruikers moeten informatie kunnen terugvinden op basis van inhoud, metadata of context. De vraag is dan: - Kunnen gebruikers zoeken op metadata? - Kan gezocht worden op dossier, zaak, datum of classificatie? - Ondersteunt de applicatie full-text zoeken? - Kunnen filters of zoekcombinaties worden gebruikt? - Is zoeken mogelijk over meerdere objecttypen? Wanneer zoekfunctionaliteit beperkt is, ontstaan risico’s zoals: - informatie niet terugvinden - dubbele registrate - inefficiënt beheer - verlies van overzicht Deze vraag richt zich op de mate waarin informatieobjecten daadwerkelijk vindbaar en toegankelijk zijn voor gebruikers.
B37: 23 | C37: Kunnen informatieobjecten worden geraadpleegd of gedownload? | D37: Kunnen informatieobjecten worden geraadpleegd of gedownload? | E37: Kunnen informatieobjecten worden geraadpleegd of gedownload? | F37: Kunnen informatieobjecten worden geraadpleegd of gedownload? | G37: Kunnen informatieobjecten worden geraadpleegd of gedownload? | H37: Kunnen informatieobjecten worden geraadpleegd of gedownload? | I37: Kunnen informatieobjecten worden geraadpleegd of gedownload? | J37: Kunnen informatieobjecten worden geraadpleegd of gedownload? | K37: Binnen een applicatie worden informatieobjecten opgeslagen die door gebruikers geraadpleegd moeten kunnen worden voor uitvoering van processen, verantwoording of archivering. De vraag is dan: - Kunnen gebruikers informatieobjecten openen en bekijken? - Kunnen bestanden worden gedownload? - Gelden autorisaties ook bij downloaden? - Is zichtbaar welke versie wordt geraadpleegd? - Wordt downloadgedrag gelogd? - Kunnen gebruikers informatie raadplegen zonder afhankelijk te zijn van de bronapplicatie? Wanneer raadpleging of download onvoldoende is ingericht, ontstaan risico’s zoals: - beperkte toegankelijkheid - afhankelijkheid van specifieke viewers - verlies van context bij losse downloads - onvoldoende controle op verspreiding van informatie Deze vraag richt zich op de mate waarin informatieobjecten daadwerkelijk toegankelijk en bruikbaar zijn voor geautoriseerde gebruikers. | L37: Binnen een applicatie worden informatieobjecten opgeslagen die door gebruikers geraadpleegd moeten kunnen worden voor uitvoering van processen, verantwoording of archivering. De vraag is dan: - Kunnen gebruikers informatieobjecten openen en bekijken? - Kunnen bestanden worden gedownload? - Gelden autorisaties ook bij downloaden? - Is zichtbaar welke versie wordt geraadpleegd? - Wordt downloadgedrag gelogd? - Kunnen gebruikers informatie raadplegen zonder afhankelijk te zijn van de bronapplicatie? Wanneer raadpleging of download onvoldoende is ingericht, ontstaan risico’s zoals: - beperkte toegankelijkheid - afhankelijkheid van specifieke viewers - verlies van context bij losse downloads - onvoldoende controle op verspreiding van informatie Deze vraag richt zich op de mate waarin informatieobjecten daadwerkelijk toegankelijk en bruikbaar zijn voor geautoriseerde gebruikers. | M37: Binnen een applicatie worden informatieobjecten opgeslagen die door gebruikers geraadpleegd moeten kunnen worden voor uitvoering van processen, verantwoording of archivering. De vraag is dan: - Kunnen gebruikers informatieobjecten openen en bekijken? - Kunnen bestanden worden gedownload? - Gelden autorisaties ook bij downloaden? - Is zichtbaar welke versie wordt geraadpleegd? - Wordt downloadgedrag gelogd? - Kunnen gebruikers informatie raadplegen zonder afhankelijk te zijn van de bronapplicatie? Wanneer raadpleging of download onvoldoende is ingericht, ontstaan risico’s zoals: - beperkte toegankelijkheid - afhankelijkheid van specifieke viewers - verlies van context bij losse downloads - onvoldoende controle op verspreiding van informatie Deze vraag richt zich op de mate waarin informatieobjecten daadwerkelijk toegankelijk en bruikbaar zijn voor geautoriseerde gebruikers. | N37: Binnen een applicatie worden informatieobjecten opgeslagen die door gebruikers geraadpleegd moeten kunnen worden voor uitvoering van processen, verantwoording of archivering. De vraag is dan: - Kunnen gebruikers informatieobjecten openen en bekijken? - Kunnen bestanden worden gedownload? - Gelden autorisaties ook bij downloaden? - Is zichtbaar welke versie wordt geraadpleegd? - Wordt downloadgedrag gelogd? - Kunnen gebruikers informatie raadplegen zonder afhankelijk te zijn van de bronapplicatie? Wanneer raadpleging of download onvoldoende is ingericht, ontstaan risico’s zoals: - beperkte toegankelijkheid - afhankelijkheid van specifieke viewers - verlies van context bij losse downloads - onvoldoende controle op verspreiding van informatie Deze vraag richt zich op de mate waarin informatieobjecten daadwerkelijk toegankelijk en bruikbaar zijn voor geautoriseerde gebruikers. | O37: Binnen een applicatie worden informatieobjecten opgeslagen die door gebruikers geraadpleegd moeten kunnen worden voor uitvoering van processen, verantwoording of archivering. De vraag is dan: - Kunnen gebruikers informatieobjecten openen en bekijken? - Kunnen bestanden worden gedownload? - Gelden autorisaties ook bij downloaden? - Is zichtbaar welke versie wordt geraadpleegd? - Wordt downloadgedrag gelogd? - Kunnen gebruikers informatie raadplegen zonder afhankelijk te zijn van de bronapplicatie? Wanneer raadpleging of download onvoldoende is ingericht, ontstaan risico’s zoals: - beperkte toegankelijkheid - afhankelijkheid van specifieke viewers - verlies van context bij losse downloads - onvoldoende controle op verspreiding van informatie Deze vraag richt zich op de mate waarin informatieobjecten daadwerkelijk toegankelijk en bruikbaar zijn voor geautoriseerde gebruikers.
B38: 24 | C38: Kan informatie geëxporteerd worden inclusief metadata? | D38: Kan informatie geëxporteerd worden inclusief metadata? | E38: Kan informatie geëxporteerd worden inclusief metadata? | F38: Kan informatie geëxporteerd worden inclusief metadata? | G38: Kan informatie geëxporteerd worden inclusief metadata? | H38: Kan informatie geëxporteerd worden inclusief metadata? | I38: Kan informatie geëxporteerd worden inclusief metadata? | J38: Kan informatie geëxporteerd worden inclusief metadata? | K38: Binnen een applicatie moeten informatieobjecten soms worden geëxporteerd, bijvoorbeeld voor migratie, overbrenging, of informatie-uitwisseling met andere systemen. De vraag is dan: - Kan informatie worden geëxporteerd inclusief metadata? - Worden relaties tussen objecten behouden? - Gaan bewaartermijnen, classificaties en dossierstructuur mee? - Worden metadata in een gestructureerd formaat meegeleverd? - Is export onafhankelijk van leverancierspecifieke formaten? - Kan export volledig en controleerbaar plaatsvinden? Wanneer export alleen bestanden bevat zonder metadata, ontstaan risico’s zoals: - verlies van context - onbruikbare migraties - niet-herleidbare informatie - verlies van bewaartermijnen of classificatie - afhankelijkheid van leverancier of systeem Deze vraag richt zich daarom niet alleen op exportfunctionaliteit, maar op de duurzame overdraagbaarheid van informatie inclusief context en beheerinformatie. | L38: Binnen een applicatie moeten informatieobjecten soms worden geëxporteerd, bijvoorbeeld voor migratie, overbrenging, of informatie-uitwisseling met andere systemen. De vraag is dan: - Kan informatie worden geëxporteerd inclusief metadata? - Worden relaties tussen objecten behouden? - Gaan bewaartermijnen, classificaties en dossierstructuur mee? - Worden metadata in een gestructureerd formaat meegeleverd? - Is export onafhankelijk van leverancierspecifieke formaten? - Kan export volledig en controleerbaar plaatsvinden? Wanneer export alleen bestanden bevat zonder metadata, ontstaan risico’s zoals: - verlies van context - onbruikbare migraties - niet-herleidbare informatie - verlies van bewaartermijnen of classificatie - afhankelijkheid van leverancier of systeem Deze vraag richt zich daarom niet alleen op exportfunctionaliteit, maar op de duurzame overdraagbaarheid van informatie inclusief context en beheerinformatie. | M38: Binnen een applicatie moeten informatieobjecten soms worden geëxporteerd, bijvoorbeeld voor migratie, overbrenging, of informatie-uitwisseling met andere systemen. De vraag is dan: - Kan informatie worden geëxporteerd inclusief metadata? - Worden relaties tussen objecten behouden? - Gaan bewaartermijnen, classificaties en dossierstructuur mee? - Worden metadata in een gestructureerd formaat meegeleverd? - Is export onafhankelijk van leverancierspecifieke formaten? - Kan export volledig en controleerbaar plaatsvinden? Wanneer export alleen bestanden bevat zonder metadata, ontstaan risico’s zoals: - verlies van context - onbruikbare migraties - niet-herleidbare informatie - verlies van bewaartermijnen of classificatie - afhankelijkheid van leverancier of systeem Deze vraag richt zich daarom niet alleen op exportfunctionaliteit, maar op de duurzame overdraagbaarheid van informatie inclusief context en beheerinformatie. | N38: Binnen een applicatie moeten informatieobjecten soms worden geëxporteerd, bijvoorbeeld voor migratie, overbrenging, of informatie-uitwisseling met andere systemen. De vraag is dan: - Kan informatie worden geëxporteerd inclusief metadata? - Worden relaties tussen objecten behouden? - Gaan bewaartermijnen, classificaties en dossierstructuur mee? - Worden metadata in een gestructureerd formaat meegeleverd? - Is export onafhankelijk van leverancierspecifieke formaten? - Kan export volledig en controleerbaar plaatsvinden? Wanneer export alleen bestanden bevat zonder metadata, ontstaan risico’s zoals: - verlies van context - onbruikbare migraties - niet-herleidbare informatie - verlies van bewaartermijnen of classificatie - afhankelijkheid van leverancier of systeem Deze vraag richt zich daarom niet alleen op exportfunctionaliteit, maar op de duurzame overdraagbaarheid van informatie inclusief context en beheerinformatie. | O38: Binnen een applicatie moeten informatieobjecten soms worden geëxporteerd, bijvoorbeeld voor migratie, overbrenging, of informatie-uitwisseling met andere systemen. De vraag is dan: - Kan informatie worden geëxporteerd inclusief metadata? - Worden relaties tussen objecten behouden? - Gaan bewaartermijnen, classificaties en dossierstructuur mee? - Worden metadata in een gestructureerd formaat meegeleverd? - Is export onafhankelijk van leverancierspecifieke formaten? - Kan export volledig en controleerbaar plaatsvinden? Wanneer export alleen bestanden bevat zonder metadata, ontstaan risico’s zoals: - verlies van context - onbruikbare migraties - niet-herleidbare informatie - verlies van bewaartermijnen of classificatie - afhankelijkheid van leverancier of systeem Deze vraag richt zich daarom niet alleen op exportfunctionaliteit, maar op de duurzame overdraagbaarheid van informatie inclusief context en beheerinformatie.
B39: 25 | C39: Is er een vernietigingsprotocol voor informatie in de applicatie? | D39: Is er een vernietigingsprotocol voor informatie in de applicatie? | E39: Is er een vernietigingsprotocol voor informatie in de applicatie? | F39: Is er een vernietigingsprotocol voor informatie in de applicatie? | G39: Is er een vernietigingsprotocol voor informatie in de applicatie? | H39: Is er een vernietigingsprotocol voor informatie in de applicatie? | I39: Is er een vernietigingsprotocol voor informatie in de applicatie? | J39: Is er een vernietigingsprotocol voor informatie in de applicatie? | K39: Binnen een organisatie worden meerdere applicaties gebruikt voor het beheren van informatieobjecten. Voor vernietiging bestaat een algemeen vernietigingsprotocol waarin is vastgelegd onder welke voorwaarden informatie vernietigd mag worden, welke autorisaties nodig zijn en welke besluitvorming plaatsvindt. De vraag is dan: Hoe wordt dit vernietigingsprotocol toegepast binnen de specifieke applicatie? Welke functionaliteit ondersteunt vernietiging? Wie voert vernietiging uit? Welke rollen zijn betrokken bij controle en autorisatie? Wordt vernietiging aantoonbaar vastgelegd? Hoe wordt omgegaan met back-ups, exports of gekoppelde systemen? Omdat applicaties verschillende opslagmechanismen, koppelingen en beheerfunctionaliteiten hebben, is een generiek vernietigingsprotocol niet altijd voldoende om de uitvoering binnen een specifieke applicatie te begrijpen. Wanneer een applicatiegerichte uitwerking ontbreekt, ontstaan risico’s zoals: - onduidelijkheid over verantwoordelijkheden - verschillende interpretaties van vernietiging - onvolledige verwijdering - beperkte controleerbaarheid - afhankelijkheid van impliciete aannames over systeemgedrag Deze vraag richt zich daarom op de mate waarin vernietiging niet alleen organisatorisch is beschreven, maar ook expliciet en aantoonbaar binnen de applicatie is ingericht. | L39: Binnen een organisatie worden meerdere applicaties gebruikt voor het beheren van informatieobjecten. Voor vernietiging bestaat een algemeen vernietigingsprotocol waarin is vastgelegd onder welke voorwaarden informatie vernietigd mag worden, welke autorisaties nodig zijn en welke besluitvorming plaatsvindt. De vraag is dan: Hoe wordt dit vernietigingsprotocol toegepast binnen de specifieke applicatie? Welke functionaliteit ondersteunt vernietiging? Wie voert vernietiging uit? Welke rollen zijn betrokken bij controle en autorisatie? Wordt vernietiging aantoonbaar vastgelegd? Hoe wordt omgegaan met back-ups, exports of gekoppelde systemen? Omdat applicaties verschillende opslagmechanismen, koppelingen en beheerfunctionaliteiten hebben, is een generiek vernietigingsprotocol niet altijd voldoende om de uitvoering binnen een specifieke applicatie te begrijpen. Wanneer een applicatiegerichte uitwerking ontbreekt, ontstaan risico’s zoals: - onduidelijkheid over verantwoordelijkheden - verschillende interpretaties van vernietiging - onvolledige verwijdering - beperkte controleerbaarheid - afhankelijkheid van impliciete aannames over systeemgedrag Deze vraag richt zich daarom op de mate waarin vernietiging niet alleen organisatorisch is beschreven, maar ook expliciet en aantoonbaar binnen de applicatie is ingericht. | M39: Binnen een organisatie worden meerdere applicaties gebruikt voor het beheren van informatieobjecten. Voor vernietiging bestaat een algemeen vernietigingsprotocol waarin is vastgelegd onder welke voorwaarden informatie vernietigd mag worden, welke autorisaties nodig zijn en welke besluitvorming plaatsvindt. De vraag is dan: Hoe wordt dit vernietigingsprotocol toegepast binnen de specifieke applicatie? Welke functionaliteit ondersteunt vernietiging? Wie voert vernietiging uit? Welke rollen zijn betrokken bij controle en autorisatie? Wordt vernietiging aantoonbaar vastgelegd? Hoe wordt omgegaan met back-ups, exports of gekoppelde systemen? Omdat applicaties verschillende opslagmechanismen, koppelingen en beheerfunctionaliteiten hebben, is een generiek vernietigingsprotocol niet altijd voldoende om de uitvoering binnen een specifieke applicatie te begrijpen. Wanneer een applicatiegerichte uitwerking ontbreekt, ontstaan risico’s zoals: - onduidelijkheid over verantwoordelijkheden - verschillende interpretaties van vernietiging - onvolledige verwijdering - beperkte controleerbaarheid - afhankelijkheid van impliciete aannames over systeemgedrag Deze vraag richt zich daarom op de mate waarin vernietiging niet alleen organisatorisch is beschreven, maar ook expliciet en aantoonbaar binnen de applicatie is ingericht. | N39: Binnen een organisatie worden meerdere applicaties gebruikt voor het beheren van informatieobjecten. Voor vernietiging bestaat een algemeen vernietigingsprotocol waarin is vastgelegd onder welke voorwaarden informatie vernietigd mag worden, welke autorisaties nodig zijn en welke besluitvorming plaatsvindt. De vraag is dan: Hoe wordt dit vernietigingsprotocol toegepast binnen de specifieke applicatie? Welke functionaliteit ondersteunt vernietiging? Wie voert vernietiging uit? Welke rollen zijn betrokken bij controle en autorisatie? Wordt vernietiging aantoonbaar vastgelegd? Hoe wordt omgegaan met back-ups, exports of gekoppelde systemen? Omdat applicaties verschillende opslagmechanismen, koppelingen en beheerfunctionaliteiten hebben, is een generiek vernietigingsprotocol niet altijd voldoende om de uitvoering binnen een specifieke applicatie te begrijpen. Wanneer een applicatiegerichte uitwerking ontbreekt, ontstaan risico’s zoals: - onduidelijkheid over verantwoordelijkheden - verschillende interpretaties van vernietiging - onvolledige verwijdering - beperkte controleerbaarheid - afhankelijkheid van impliciete aannames over systeemgedrag Deze vraag richt zich daarom op de mate waarin vernietiging niet alleen organisatorisch is beschreven, maar ook expliciet en aantoonbaar binnen de applicatie is ingericht. | O39: Binnen een organisatie worden meerdere applicaties gebruikt voor het beheren van informatieobjecten. Voor vernietiging bestaat een algemeen vernietigingsprotocol waarin is vastgelegd onder welke voorwaarden informatie vernietigd mag worden, welke autorisaties nodig zijn en welke besluitvorming plaatsvindt. De vraag is dan: Hoe wordt dit vernietigingsprotocol toegepast binnen de specifieke applicatie? Welke functionaliteit ondersteunt vernietiging? Wie voert vernietiging uit? Welke rollen zijn betrokken bij controle en autorisatie? Wordt vernietiging aantoonbaar vastgelegd? Hoe wordt omgegaan met back-ups, exports of gekoppelde systemen? Omdat applicaties verschillende opslagmechanismen, koppelingen en beheerfunctionaliteiten hebben, is een generiek vernietigingsprotocol niet altijd voldoende om de uitvoering binnen een specifieke applicatie te begrijpen. Wanneer een applicatiegerichte uitwerking ontbreekt, ontstaan risico’s zoals: - onduidelijkheid over verantwoordelijkheden - verschillende interpretaties van vernietiging - onvolledige verwijdering - beperkte controleerbaarheid - afhankelijkheid van impliciete aannames over systeemgedrag Deze vraag richt zich daarom op de mate waarin vernietiging niet alleen organisatorisch is beschreven, maar ook expliciet en aantoonbaar binnen de applicatie is ingericht.
B40: 26 | C40: Is aantoonbaar dat een eventuele migratie gecontroleerd en gedocumenteerd is uitgevoerd (migratieplan, testrapporten, verklaring)? | D40: Is aantoonbaar dat een eventuele migratie gecontroleerd en gedocumenteerd is uitgevoerd (migratieplan, testrapporten, verklaring)? | E40: Is aantoonbaar dat een eventuele migratie gecontroleerd en gedocumenteerd is uitgevoerd (migratieplan, testrapporten, verklaring)? | F40: Is aantoonbaar dat een eventuele migratie gecontroleerd en gedocumenteerd is uitgevoerd (migratieplan, testrapporten, verklaring)? | G40: Is aantoonbaar dat een eventuele migratie gecontroleerd en gedocumenteerd is uitgevoerd (migratieplan, testrapporten, verklaring)? | H40: Is aantoonbaar dat een eventuele migratie gecontroleerd en gedocumenteerd is uitgevoerd (migratieplan, testrapporten, verklaring)? | I40: Is aantoonbaar dat een eventuele migratie gecontroleerd en gedocumenteerd is uitgevoerd (migratieplan, testrapporten, verklaring)? | J40: Is aantoonbaar dat een eventuele migratie gecontroleerd en gedocumenteerd is uitgevoerd (migratieplan, testrapporten, verklaring)? | K40: Binnen een applicatie wordt informatie gemigreerd vanuit een ouder systeem naar een nieuwe omgeving. Tijdens migratie worden informatieobjecten, metadata, relaties en bewaartermijnen overgezet. De vraag is dan: - Is migratie aantoonbaar gecontroleerd uitgevoerd? - Is een migratieplan beschikbaar? - Zijn testresultaten vastgelegd? - Is gecontroleerd op volledigheid en juistheid? - Zijn afwijkingen gedocumenteerd? - Kan achteraf worden aangetoond dat informatie correct is overgekomen? Wanneer migratie niet gecontroleerd en gedocumenteerd plaatsvindt, ontstaan risico’s zoals: - verlies van informatie - ontbrekende metadata - beschadigde dossiers - onjuiste bewaartermijnen - beperkte aantoonbaarheid richting audit of toezicht Deze vraag richt zich daarom op de mate waarin migratie niet alleen technisch wordt uitgevoerd, maar ook controleerbaar, reproduceerbaar en aantoonbaar wordt vastgelegd. | L40: Binnen een applicatie wordt informatie gemigreerd vanuit een ouder systeem naar een nieuwe omgeving. Tijdens migratie worden informatieobjecten, metadata, relaties en bewaartermijnen overgezet. De vraag is dan: - Is migratie aantoonbaar gecontroleerd uitgevoerd? - Is een migratieplan beschikbaar? - Zijn testresultaten vastgelegd? - Is gecontroleerd op volledigheid en juistheid? - Zijn afwijkingen gedocumenteerd? - Kan achteraf worden aangetoond dat informatie correct is overgekomen? Wanneer migratie niet gecontroleerd en gedocumenteerd plaatsvindt, ontstaan risico’s zoals: - verlies van informatie - ontbrekende metadata - beschadigde dossiers - onjuiste bewaartermijnen - beperkte aantoonbaarheid richting audit of toezicht Deze vraag richt zich daarom op de mate waarin migratie niet alleen technisch wordt uitgevoerd, maar ook controleerbaar, reproduceerbaar en aantoonbaar wordt vastgelegd. | M40: Binnen een applicatie wordt informatie gemigreerd vanuit een ouder systeem naar een nieuwe omgeving. Tijdens migratie worden informatieobjecten, metadata, relaties en bewaartermijnen overgezet. De vraag is dan: - Is migratie aantoonbaar gecontroleerd uitgevoerd? - Is een migratieplan beschikbaar? - Zijn testresultaten vastgelegd? - Is gecontroleerd op volledigheid en juistheid? - Zijn afwijkingen gedocumenteerd? - Kan achteraf worden aangetoond dat informatie correct is overgekomen? Wanneer migratie niet gecontroleerd en gedocumenteerd plaatsvindt, ontstaan risico’s zoals: - verlies van informatie - ontbrekende metadata - beschadigde dossiers - onjuiste bewaartermijnen - beperkte aantoonbaarheid richting audit of toezicht Deze vraag richt zich daarom op de mate waarin migratie niet alleen technisch wordt uitgevoerd, maar ook controleerbaar, reproduceerbaar en aantoonbaar wordt vastgelegd. | N40: Binnen een applicatie wordt informatie gemigreerd vanuit een ouder systeem naar een nieuwe omgeving. Tijdens migratie worden informatieobjecten, metadata, relaties en bewaartermijnen overgezet. De vraag is dan: - Is migratie aantoonbaar gecontroleerd uitgevoerd? - Is een migratieplan beschikbaar? - Zijn testresultaten vastgelegd? - Is gecontroleerd op volledigheid en juistheid? - Zijn afwijkingen gedocumenteerd? - Kan achteraf worden aangetoond dat informatie correct is overgekomen? Wanneer migratie niet gecontroleerd en gedocumenteerd plaatsvindt, ontstaan risico’s zoals: - verlies van informatie - ontbrekende metadata - beschadigde dossiers - onjuiste bewaartermijnen - beperkte aantoonbaarheid richting audit of toezicht Deze vraag richt zich daarom op de mate waarin migratie niet alleen technisch wordt uitgevoerd, maar ook controleerbaar, reproduceerbaar en aantoonbaar wordt vastgelegd. | O40: Binnen een applicatie wordt informatie gemigreerd vanuit een ouder systeem naar een nieuwe omgeving. Tijdens migratie worden informatieobjecten, metadata, relaties en bewaartermijnen overgezet. De vraag is dan: - Is migratie aantoonbaar gecontroleerd uitgevoerd? - Is een migratieplan beschikbaar? - Zijn testresultaten vastgelegd? - Is gecontroleerd op volledigheid en juistheid? - Zijn afwijkingen gedocumenteerd? - Kan achteraf worden aangetoond dat informatie correct is overgekomen? Wanneer migratie niet gecontroleerd en gedocumenteerd plaatsvindt, ontstaan risico’s zoals: - verlies van informatie - ontbrekende metadata - beschadigde dossiers - onjuiste bewaartermijnen - beperkte aantoonbaarheid richting audit of toezicht Deze vraag richt zich daarom op de mate waarin migratie niet alleen technisch wordt uitgevoerd, maar ook controleerbaar, reproduceerbaar en aantoonbaar wordt vastgelegd.
B41: 27 | C41: Is vastgesteld of bij migratie informatie, metadata of context verloren is gegaan en wat de impact is? | D41: Is vastgesteld of bij migratie informatie, metadata of context verloren is gegaan en wat de impact is? | E41: Is vastgesteld of bij migratie informatie, metadata of context verloren is gegaan en wat de impact is? | F41: Is vastgesteld of bij migratie informatie, metadata of context verloren is gegaan en wat de impact is? | G41: Is vastgesteld of bij migratie informatie, metadata of context verloren is gegaan en wat de impact is? | H41: Is vastgesteld of bij migratie informatie, metadata of context verloren is gegaan en wat de impact is? | I41: Is vastgesteld of bij migratie informatie, metadata of context verloren is gegaan en wat de impact is? | J41: Is vastgesteld of bij migratie informatie, metadata of context verloren is gegaan en wat de impact is? | K41: Binnen een migratie worden informatieobjecten vanuit een bestaande applicatie overgezet naar een nieuwe omgeving. Hierbij worden documenten, metadata, relaties en ordeningsstructuren vertaald naar een nieuwe inrichting. De vraag is dan: - Is vastgesteld of informatie verloren gaat? - Wordt metadata volledig meegenomen? - Blijft context behouden? - Zijn verschillen tussen bron en doel inzichtelijk? - Wordt impact van transformaties vastgelegd? Wanneer verliesanalyse ontbreekt, ontstaan risico’s zoals: - onopgemerkt contextverlies - ontbrekende metadata - gewijzigde betekenis van informatie - niet-herleidbare migratiekeuzes - beperkte controleerbaarheid achteraf Deze vraag richt zich daarom niet op de intentie dat migratie volledig is, maar op de aantoonbare vaststelling van verschillen, verlies en impact na uitvoering. | L41: Binnen een migratie worden informatieobjecten vanuit een bestaande applicatie overgezet naar een nieuwe omgeving. Hierbij worden documenten, metadata, relaties en ordeningsstructuren vertaald naar een nieuwe inrichting. De vraag is dan: - Is vastgesteld of informatie verloren gaat? - Wordt metadata volledig meegenomen? - Blijft context behouden? - Zijn verschillen tussen bron en doel inzichtelijk? - Wordt impact van transformaties vastgelegd? Wanneer verliesanalyse ontbreekt, ontstaan risico’s zoals: - onopgemerkt contextverlies - ontbrekende metadata - gewijzigde betekenis van informatie - niet-herleidbare migratiekeuzes - beperkte controleerbaarheid achteraf Deze vraag richt zich daarom niet op de intentie dat migratie volledig is, maar op de aantoonbare vaststelling van verschillen, verlies en impact na uitvoering. | M41: Binnen een migratie worden informatieobjecten vanuit een bestaande applicatie overgezet naar een nieuwe omgeving. Hierbij worden documenten, metadata, relaties en ordeningsstructuren vertaald naar een nieuwe inrichting. De vraag is dan: - Is vastgesteld of informatie verloren gaat? - Wordt metadata volledig meegenomen? - Blijft context behouden? - Zijn verschillen tussen bron en doel inzichtelijk? - Wordt impact van transformaties vastgelegd? Wanneer verliesanalyse ontbreekt, ontstaan risico’s zoals: - onopgemerkt contextverlies - ontbrekende metadata - gewijzigde betekenis van informatie - niet-herleidbare migratiekeuzes - beperkte controleerbaarheid achteraf Deze vraag richt zich daarom niet op de intentie dat migratie volledig is, maar op de aantoonbare vaststelling van verschillen, verlies en impact na uitvoering. | N41: Binnen een migratie worden informatieobjecten vanuit een bestaande applicatie overgezet naar een nieuwe omgeving. Hierbij worden documenten, metadata, relaties en ordeningsstructuren vertaald naar een nieuwe inrichting. De vraag is dan: - Is vastgesteld of informatie verloren gaat? - Wordt metadata volledig meegenomen? - Blijft context behouden? - Zijn verschillen tussen bron en doel inzichtelijk? - Wordt impact van transformaties vastgelegd? Wanneer verliesanalyse ontbreekt, ontstaan risico’s zoals: - onopgemerkt contextverlies - ontbrekende metadata - gewijzigde betekenis van informatie - niet-herleidbare migratiekeuzes - beperkte controleerbaarheid achteraf Deze vraag richt zich daarom niet op de intentie dat migratie volledig is, maar op de aantoonbare vaststelling van verschillen, verlies en impact na uitvoering. | O41: Binnen een migratie worden informatieobjecten vanuit een bestaande applicatie overgezet naar een nieuwe omgeving. Hierbij worden documenten, metadata, relaties en ordeningsstructuren vertaald naar een nieuwe inrichting. De vraag is dan: - Is vastgesteld of informatie verloren gaat? - Wordt metadata volledig meegenomen? - Blijft context behouden? - Zijn verschillen tussen bron en doel inzichtelijk? - Wordt impact van transformaties vastgelegd? Wanneer verliesanalyse ontbreekt, ontstaan risico’s zoals: - onopgemerkt contextverlies - ontbrekende metadata - gewijzigde betekenis van informatie - niet-herleidbare migratiekeuzes - beperkte controleerbaarheid achteraf Deze vraag richt zich daarom niet op de intentie dat migratie volledig is, maar op de aantoonbare vaststelling van verschillen, verlies en impact na uitvoering.
B42: 28 | C42: Wordt periodiek gecontroleerd of informatieobjecten correct zijn geplaatst binnen de juiste proces-, zaak- of dossierstructuur? | D42: Wordt periodiek gecontroleerd of informatieobjecten correct zijn geplaatst binnen de juiste proces-, zaak- of dossierstructuur? | E42: Wordt periodiek gecontroleerd of informatieobjecten correct zijn geplaatst binnen de juiste proces-, zaak- of dossierstructuur? | F42: Wordt periodiek gecontroleerd of informatieobjecten correct zijn geplaatst binnen de juiste proces-, zaak- of dossierstructuur? | G42: Wordt periodiek gecontroleerd of informatieobjecten correct zijn geplaatst binnen de juiste proces-, zaak- of dossierstructuur? | H42: Wordt periodiek gecontroleerd of informatieobjecten correct zijn geplaatst binnen de juiste proces-, zaak- of dossierstructuur? | I42: Wordt periodiek gecontroleerd of informatieobjecten correct zijn geplaatst binnen de juiste proces-, zaak- of dossierstructuur? | J42: Wordt periodiek gecontroleerd of informatieobjecten correct zijn geplaatst binnen de juiste proces-, zaak- of dossierstructuur? | K42: Binnen een applicatie worden informatieobjecten geregistreerd binnen processen, zaken of dossiers. De vraag is dan: - Wordt gecontroleerd of informatieobjecten in de juiste structuur zijn geplaatst? - Zijn dossiers volledig? - Worden documenten gekoppeld aan de juiste context? - Worden verkeerd geplaatste objecten gesignaleerd? | L42: Binnen een applicatie worden informatieobjecten geregistreerd binnen processen, zaken of dossiers. De vraag is dan: - Wordt gecontroleerd of informatieobjecten in de juiste structuur zijn geplaatst? - Zijn dossiers volledig? - Worden documenten gekoppeld aan de juiste context? - Worden verkeerd geplaatste objecten gesignaleerd? | M42: Binnen een applicatie worden informatieobjecten geregistreerd binnen processen, zaken of dossiers. De vraag is dan: - Wordt gecontroleerd of informatieobjecten in de juiste structuur zijn geplaatst? - Zijn dossiers volledig? - Worden documenten gekoppeld aan de juiste context? - Worden verkeerd geplaatste objecten gesignaleerd? | N42: Binnen een applicatie worden informatieobjecten geregistreerd binnen processen, zaken of dossiers. De vraag is dan: - Wordt gecontroleerd of informatieobjecten in de juiste structuur zijn geplaatst? - Zijn dossiers volledig? - Worden documenten gekoppeld aan de juiste context? - Worden verkeerd geplaatste objecten gesignaleerd? | O42: Binnen een applicatie worden informatieobjecten geregistreerd binnen processen, zaken of dossiers. De vraag is dan: - Wordt gecontroleerd of informatieobjecten in de juiste structuur zijn geplaatst? - Zijn dossiers volledig? - Worden documenten gekoppeld aan de juiste context? - Worden verkeerd geplaatste objecten gesignaleerd?
... B46: 32 | C46: Worden de resultaten van deze kwaliteitscontroles vastgelegd en leiden deze tot verbetermaatregelen? | D46: Worden de resultaten van deze kwaliteitscontroles vastgelegd en leiden deze tot verbetermaatregelen? | E46: Worden de resultaten van deze kwaliteitscontroles vastgelegd en leiden deze tot verbetermaatregelen? | F46: Worden de resultaten van deze kwaliteitscontroles vastgelegd en leiden deze tot verbetermaatregelen? | G46: Worden de resultaten van deze kwaliteitscontroles vastgelegd en leiden deze tot verbetermaatregelen? | H46: Worden de resultaten van deze kwaliteitscontroles vastgelegd en leiden deze tot verbetermaatregelen? | I46: Worden de resultaten van deze kwaliteitscontroles vastgelegd en leiden deze tot verbetermaatregelen? | J46: Worden de resultaten van deze kwaliteitscontroles vastgelegd en leiden deze tot verbetermaatregelen? | K46: Kwaliteitscontroles worden uitgevoerd op informatiebeheer. De vraag is dan: - Worden resultaten geregistreerd? - Zijn afwijkingen traceerbaar? - Leiden bevindingen tot verbeteracties? - Is opvolging aantoonbaar? | L46: Kwaliteitscontroles worden uitgevoerd op informatiebeheer. De vraag is dan: - Worden resultaten geregistreerd? - Zijn afwijkingen traceerbaar? - Leiden bevindingen tot verbeteracties? - Is opvolging aantoonbaar? | M46: Kwaliteitscontroles worden uitgevoerd op informatiebeheer. De vraag is dan: - Worden resultaten geregistreerd? - Zijn afwijkingen traceerbaar? - Leiden bevindingen tot verbeteracties? - Is opvolging aantoonbaar? | N46: Kwaliteitscontroles worden uitgevoerd op informatiebeheer. De vraag is dan: - Worden resultaten geregistreerd? - Zijn afwijkingen traceerbaar? - Leiden bevindingen tot verbeteracties? - Is opvolging aantoonbaar? | O46: Kwaliteitscontroles worden uitgevoerd op informatiebeheer. De vraag is dan: - Worden resultaten geregistreerd? - Zijn afwijkingen traceerbaar? - Leiden bevindingen tot verbeteracties? - Is opvolging aantoonbaar?

Sheet 3. Scan
A1: Vraag nr | B1: Vraag | C1: Categorie | D1: Domein | E1: Score (0-5) | F1: DUTO kenmerk | G1: Functie | H1: ID modeleis/ randvoorwaarden | I1: ='7. Modeleisen DUTO'!$E$1 -> MoSCoW | J1: Weging | K1: Gewogen score score met MoSCoW | L1: Bewijs / Opmerking
A3: 1. Governance & beheer (DUTO-kenmerken betrouwbaar, toekomstbestendig)
A4: 1 | B4: Is vastgelegd wie verantwoordelijk is voor de informatie die in deze applicatie wordt beheerd (bijv. proceseigenaren, domeineigenaren of informatie-eigenaren)? | C4: Governance en beheer | D4: Governance | E4: 1 | F4: Betrouwbaar | H4: RVW01, RVW08 | I4: Must | J4: =IF(TRIM(I4)="Must",1,IF(TRIM(I4)="Should",0.75,IF(TRIM(I4)="Could",0.5,IF(TRIM(I4)="Would",0.25,IF(TRIM(I4)="NVT",0,""))))) -> 1 | K4: =E4*J4 -> 1
A5: 2 | B5: Zijn rollen en verantwoordelijkheden voor informatiebeheer vastgelegd (bijv. in een RASCI/RACI, governance- of procesbeschrijving)? | C5: Governance en beheer | D5: Governance | E5: 1 | F5: Betrouwbaar | H5: RVW01 | I5: Must | J5: =IF(TRIM(I5)="Must",1,IF(TRIM(I5)="Should",0.75,IF(TRIM(I5)="Could",0.5,IF(TRIM(I5)="Would",0.25,0)))) -> 1 | K5: =E5*J5 -> 1
A6: 3 | B6: Zijn beheerafspraken met leveranciers of ketenpartners vastgelegd? | C6: Governance en beheer | D6: Governance | E6: 1 | F6: Betrouwbaar | H6: RVW09 | I6: Must | J6: =IF(TRIM(I6)="Must",1,IF(TRIM(I6)="Should",0.75,IF(TRIM(I6)="Could",0.5,IF(TRIM(I6)="Would",0.25,0)))) -> 1 | K6: =E6*J6 -> 1
A7: 4 | B7: Is er een exitstrategie voor de applicatie? | C7: Governance en beheer | D7: Governance | E7: 1 | F7: Toekomstbestendig | G7: Uitwisseling | H7: M06, M07 | I7: Must | J7: =IF(TRIM(I7)="Must",1,IF(TRIM(I7)="Should",0.75,IF(TRIM(I7)="Could",0.5,IF(TRIM(I7)="Would",0.25,0)))) -> 1 | K7: =E7*J7 -> 1
A9: 2. Registratie & metadata (DUTO-kenmerken vindbaar en interpreteerbaar)
A10: 5 | B10: Kunnen informatieobjecten automatisch of via koppelingen worden geregistreerd? | C10: Registratie en metadata | D10: Lifecycle | E10: 1 | F10: Beschikbaar | G10: Opname;Inwinning | H10: R01, R19 | I10: Must | J10: =IF(TRIM(I10)="Must",1,IF(TRIM(I10)="Should",0.75,IF(TRIM(I10)="Could",0.5,IF(TRIM(I10)="Would",0.25,0)))) -> 1 | K10: =E10*J10 -> 1
A11: 6 | B11: Krijgt ieder informatieobject een unieke identifier? | C11: Registratie en metadata | D11: Metadata | E11: 1 | F11: Betrouwbaar | G11: Metagegevensbeheer | H11: R02 | I11: Must | J11: =IF(TRIM(I11)="Must",1,IF(TRIM(I11)="Should",0.75,IF(TRIM(I11)="Could",0.5,IF(TRIM(I11)="Would",0.25,0)))) -> 1 | K11: =E11*J11 -> 1
A12: 7 | B12: Is vastgelegd welke metadata verplicht zijn? | C12: Registratie en metadata | D12: Metadata | E12: 1 | F12: Interpreteerbaar | G12: Metagegevensbeheer | H12: R03, RVW12 | I12: Must | J12: =IF(TRIM(I12)="Must",1,IF(TRIM(I12)="Should",0.75,IF(TRIM(I12)="Could",0.5,IF(TRIM(I12)="Would",0.25,0)))) -> 1 | K12: =E12*J12 -> 1
A13: 8 | B13: Is het metadatamodel van de applicatie gedocumenteerd en is er een mapping beschikbaar naar het organisatiebrede metadatamodel (bijv. MDTO)? | C13: Registratie en metadata | D13: Metadata | E13: 1 | F13: Interpreteerbaar | G13: Metagegevensbeheer | H13: R07, R16 | I13: Must | J13: =IF(TRIM(I13)="Must",1,IF(TRIM(I13)="Should",0.75,IF(TRIM(I13)="Could",0.5,IF(TRIM(I13)="Would",0.25,0)))) -> 1 | K13: =E13*J13 -> 1
A15: 3. Structuur & classificatie (DUTO-kenmerken vindbaar en interpreteerbaar)
A16: 9 | B16: Is er een logische structuur voor informatieobjecten (bijv. dossiers, zaken)? | C16: Structuur en classificatie | D16: Metadata | E16: 1 | F16: Vindbaar | G16: Metagegevensbeheer | H16: B17, RVW11 | I16: Must | J16: =IF(TRIM(I16)="Must",1,IF(TRIM(I16)="Should",0.75,IF(TRIM(I16)="Could",0.5,IF(TRIM(I16)="Would",0.25,0)))) -> 1 | K16: =E16*J16 -> 1
A17: 10 | B17: Wordt bij het toekennen van bewaartermijnen gebruikgemaakt van de meest recente (vigerende) selectielijst? | C17: Structuur en classificatie | D17: Metadata | E17: 1 | F17: Betrouwbaar | G17: Metagegevensbeheer | H17: R04, RVW13 | I17: Must | J17: =IF(TRIM(I17)="Must",1,IF(TRIM(I17)="Should",0.75,IF(TRIM(I17)="Could",0.5,IF(TRIM(I17)="Would",0.25,0)))) -> 1 | K17: =E17*J17 -> 1
A18: 11 | B18: Wordt bij registratie automatisch een bewaartermijn gekoppeld? | C18: Structuur en classificatie | D18: Lifecycle | E18: 1 | F18: Betrouwbaar | G18: Metagegevensbeheer | H18: R04, V01, V02 | I18: Must | J18: =IF(TRIM(I18)="Must",1,IF(TRIM(I18)="Should",0.75,IF(TRIM(I18)="Could",0.5,IF(TRIM(I18)="Would",0.25,0)))) -> 1 | K18: =E18*J18 -> 1
A20: 4. Bewaren & integriteit (DUTO-kenmerken betrouwbaar, leesbaar en toekomstbestendig)
A21: 12 | B21: Kunnen informatieobjecten gefixeerd worden (onveranderlijk)? | C21: Bewaren en integriteit | D21: Techniek | E21: 1 | F21: Betrouwbaar | G21: Bevriezing | H21: B01 | I21: Must | J21: =IF(TRIM(I21)="Must",1,IF(TRIM(I21)="Should",0.75,IF(TRIM(I21)="Could",0.5,IF(TRIM(I21)="Would",0.25,0)))) -> 1 | K21: =E21*J21 -> 1
A22: 13 | B22: Wordt de integriteit van bestanden gecontroleerd (checksum/hash)? | C22: Bewaren en integriteit | D22: Techniek | E22: 1 | F22: Betrouwbaar | G22: Validatie | H22: B09 | I22: Must | J22: =IF(TRIM(I22)="Must",1,IF(TRIM(I22)="Should",0.75,IF(TRIM(I22)="Could",0.5,IF(TRIM(I22)="Would",0.25,0)))) -> 1 | K22: =E22*J22 -> 1
A23: 14 | B23: Blijven metadata gekoppeld aan informatieobjecten? | C23: Bewaren en integriteit | D23: Metadata | E23: 1 | F23: Interpreteerbaar | G23: Metagegevensbeheer | H23: R05, B03 | I23: Must | J23: =IF(TRIM(I23)="Must",1,IF(TRIM(I23)="Should",0.75,IF(TRIM(I23)="Could",0.5,IF(TRIM(I23)="Would",0.25,0)))) -> 1 | K23: =E23*J23 -> 1
A24: 15 | B24: Worden duurzame bestandsformaten (conform duurzame bestandsformaten Nationaal Archief) ondersteund of toegepast? | C24: Bewaren en integriteit | D24: Techniek | E24: 1 | F24: Toekomstbestendig | G24: Opname;Conversie | H24: R11, B02 | I24: Must | J24: =IF(TRIM(I24)="Must",1,IF(TRIM(I24)="Should",0.75,IF(TRIM(I24)="Could",0.5,IF(TRIM(I24)="Would",0.25,0)))) -> 1 | K24: =E24*J24 -> 1
A25: 16 | B25: Blijven digitale handtekeningen bewaard en verifieerbaar? | C25: Bewaren en integriteit | D25: Techniek | E25: 1 | F25: Betrouwbaar | G25: Metagegevensbeheer | H25: R06, B04 | I25: Must | J25: =IF(TRIM(I25)="Must",1,IF(TRIM(I25)="Should",0.75,IF(TRIM(I25)="Could",0.5,IF(TRIM(I25)="Would",0.25,0)))) -> 1 | K25: =E25*J25 -> 1
A26: 17 | B26: Is Identity & Access Management ingericht? | C26: Bewaren en integriteit | D26: Toegang | E26: 1 | F26: Beschikbaar | H26: RVW07 | J26: =IF(TRIM(I26)="Must",1,IF(TRIM(I26)="Should",0.75,IF(TRIM(I26)="Could",0.5,IF(TRIM(I26)="Would",0.25,0)))) -> 0 | K26: =E26*J26 -> 0
A27: 18 | B27: Kunnen informatieobjecten gedurende de bewaartermijn geopend en weergegeven worden? | C27: Bewaren en integriteit | D27: Techniek | E27: 1 | F27: Leesbaar | G27: Opslag;Publicatie;Opname | H27: B06, T04, R11, M03 | I27: Could | J27: =IF(TRIM(I27)="Must",1,IF(TRIM(I27)="Should",0.75,IF(TRIM(I27)="Could",0.5,IF(TRIM(I27)="Would",0.25,0)))) -> 0.5 | K27: =E27*J27 -> 0.5
A28: 19 | B28: Wordt periodiek gecontroleerd of informatieobjecten nog leesbaar zijn? | C28: Bewaren en integriteit | D28: Techniek | E28: 1 | F28: Leesbaar | G28: Validatie | H28: B09, M10, M11, RVW03 | I28: Must | J28: =IF(TRIM(I28)="Must",1,IF(TRIM(I28)="Should",0.75,IF(TRIM(I28)="Could",0.5,IF(TRIM(I28)="Would",0.25,0)))) -> 1 | K28: =E28*J28 -> 1
A30: 5. Toegang & beveiliging (DUTO-kenmerken betrouwbaar en beschikbaar)
A31: 20 | B31: Kunnen autorisaties op meerdere niveaus worden ingesteld? | C31: Toegang en beveiliging | D31: Toegang | E31: 1 | F31: Beschikbaar | G31: Toegangsbeheer | H31: R13, B07, B08, RVW06 | I31: Must | J31: =IF(TRIM(I31)="Must",1,IF(TRIM(I31)="Should",0.75,IF(TRIM(I31)="Could",0.5,IF(TRIM(I31)="Would",0.25,0)))) -> 1 | K31: =E31*J31 -> 1
A32: 21 | B32: Worden gebruiks- en beheeracties op informatieobjecten gelogd (audittrail)? | C32: Toegang en beveiliging | D32: Toegang | E32: 1 | F32: Betrouwbaar | G32: Metagegevensbeheer;Verantwoording | H32: R09, B11, B12 | I32: Won't | J32: =IF(TRIM(I32)="Must",1,IF(TRIM(I32)="Should",0.75,IF(TRIM(I32)="Could",0.5,IF(TRIM(I32)="Would",0.25,0)))) -> 0 | K32: =E32*J32 -> 0
A33: 22 | B33: Kunnen gebruikers informatieobjecten zoeken? | C33: Toegang en beveiliging | D33: Toegang | E33: 1 | F33: Vindbaar | G33: Zoeken | H33: B13, T10 | I33: Must | J33: =IF(TRIM(I33)="Must",1,IF(TRIM(I33)="Should",0.75,IF(TRIM(I33)="Could",0.5,IF(TRIM(I33)="Would",0.25,0)))) -> 1 | K33: =E33*J33 -> 1
A35: 6. Beschikbaarheid & gebruik (DUTO-kenmerken vindbaar en beschikbaar)
A36: 23 | B36: Kunnen informatieobjecten worden geraadpleegd of gedownload? | C36: Beschikbaarheid en gebruik | D36: Toegang | E36: 1 | F36: Beschikbaar | G36: Publicatie | H36: T04, T05, SRVW41 | I36: Must | J36: =IF(TRIM(I36)="Must",1,IF(TRIM(I36)="Should",0.75,IF(TRIM(I36)="Could",0.5,IF(TRIM(I36)="Would",0.25,0)))) -> 1 | K36: =E36*J36 -> 1
A37: 24 | B37: Kan informatie geëxporteerd worden inclusief metadata? | C37: Beschikbaarheid en gebruik | D37: Lifecycle | E37: 1 | F37: Toekomstbestendig | G37: Uitwisseling | H37: M06, M07, M08 | I37: Should | J37: =IF(TRIM(I37)="Must",1,IF(TRIM(I37)="Should",0.75,IF(TRIM(I37)="Could",0.5,IF(TRIM(I37)="Would",0.25,0)))) -> 0.75 | K37: =E37*J37 -> 0.75
A38: 25 | B38: Is er een vernietigingsprotocol voor informatie in de applicatie? | C38: Beschikbaarheid en gebruik | D38: Lifecycle | E38: 1 | F38: Betrouwbaar | G38: Verantwoording;Vernietiging | H38: V06, V07, V08, SRVW11 | I38: Must | J38: =IF(TRIM(I38)="Must",1,IF(TRIM(I38)="Should",0.75,IF(TRIM(I38)="Could",0.5,IF(TRIM(I38)="Would",0.25,0)))) -> 1 | K38: =E38*J38 -> 1
A40: 7. Beheerprocessen (DUTO-kenmerken betrouwbaar en toekomstbestendig)
A41: 26 | B41: Is aantoonbaar dat een eventuele migratie gecontroleerd en gedocumenteerd is uitgevoerd (migratieplan, testrapporten, verklaring)? | C41: Beheerprocessen | D41: Lifecycle | E41: 1 | F41: Betrouwbaar | G41: Validatie;Verantwoording | H41: M10, M11, M12, SRVW31, SRVW32 | I41: Must | J41: =IF(TRIM(I41)="Must",1,IF(TRIM(I41)="Should",0.75,IF(TRIM(I41)="Could",0.5,IF(TRIM(I41)="Would",0.25,0)))) -> 1 | K41: =E41*J41 -> 1
A42: 27 | B42: Is vastgesteld of bij migratie informatie, metadata of context verloren is gegaan en wat de impact is? | C42: Beheerprocessen | D42: Lifecycle | E42: 1 | F42: Toekomstbestendig | G42: Validatie | H42: M10, M11, SRVW31, SRVW32 | I42: Must | J42: =IF(TRIM(I42)="Must",1,IF(TRIM(I42)="Should",0.75,IF(TRIM(I42)="Could",0.5,IF(TRIM(I42)="Would",0.25,0)))) -> 1 | K42: =E42*J42 -> 1
A44: 8. Kwaliteitscontrole informatiebeheer (alle DUTO-kenmerken: vindbaar, beschikbaar, leesbaar, interpreteerbaar, betrouwbaar en toekomstbestendig)
A45: 28 | B45: Wordt periodiek gecontroleerd of informatieobjecten correct zijn geplaatst binnen de juiste proces-, zaak- of dossierstructuur? | C45: Kwaliteitscontrole informatiebeheer | D45: Metadata | E45: 1 | F45: Vindbaar | G45: Metagegevensbeheer | H45: SRVW01 | I45: Must | J45: =IF(TRIM(I45)="Must",1,IF(TRIM(I45)="Should",0.75,IF(TRIM(I45)="Could",0.5,IF(TRIM(I45)="Would",0.25,0)))) -> 1 | K45: =E45*J45 -> 1
A46: 29 | B46: Wordt periodiek gecontroleerd of bewaartermijnen correct zijn toegepast op informatieobjecten? | C46: Kwaliteitscontrole informatiebeheer | D46: Lifecycle | E46: 1 | F46: Betrouwbaar | G46: Metagegevensbeheer | H46: V01, V02, SRVW11 | I46: Could | J46: =IF(TRIM(I46)="Must",1,IF(TRIM(I46)="Should",0.75,IF(TRIM(I46)="Could",0.5,IF(TRIM(I46)="Would",0.25,0)))) -> 0.5 | K46: =E46*J46 -> 0.5
A47: 30 | B47: Wordt periodiek gecontroleerd of informatieobjecten waarvan de bewaartermijn is verlopen tijdig worden vernietigd? | C47: Kwaliteitscontrole informatiebeheer | D47: Lifecycle | E47: 1 | F47: Betrouwbaar | G47: Zoeken;Vernietiging | H47: V10, V08, SRVW11 | I47: Won't | J47: =IF(TRIM(I47)="Must",1,IF(TRIM(I47)="Should",0.75,IF(TRIM(I47)="Could",0.5,IF(TRIM(I47)="Would",0.25,0)))) -> 0 | K47: =E47*J47 -> 0
A48: 31 | B48: Wordt periodiek gecontroleerd of informatieobjecten tijdig worden overgebracht naar een archiefvoorziening? | C48: Kwaliteitscontrole informatiebeheer | D48: Lifecycle | E48: 1 | F48: Toekomstbestendig | G48: Uitwisseling | H48: M06, M07 | I48: Must | J48: =IF(TRIM(I48)="Must",1,IF(TRIM(I48)="Should",0.75,IF(TRIM(I48)="Could",0.5,IF(TRIM(I48)="Would",0.25,0)))) -> 1 | K48: =E48*J48 -> 1
A49: 32 | B49: Worden de resultaten van deze kwaliteitscontroles vastgelegd en leiden deze tot verbetermaatregelen? | C49: Kwaliteitscontrole informatiebeheer | D49: Governance | E49: 1 | F49: Betrouwbaar | H49: RVW03 | I49: Must | J49: =IF(TRIM(I49)="Must",1,IF(TRIM(I49)="Should",0.75,IF(TRIM(I49)="Could",0.5,IF(TRIM(I49)="Would",0.25,0)))) -> 1 | K49: =E49*J49 -> 1
A51: 9. Ter beschikking stellen (DUTO-kenmerken: vindbaar, beschikbaar, interpreteerbaar en betrouwbaar)
A52: 33 | B52: Kunnen informatieobjecten digitaal toegankelijk beschikbaar worden gesteld conform geldende wet- en regelgeving, ook wanneer hiervoor websites of mobiele applicaties worden gebruikt? | C52: Ter beschikking stellen | D52: Toegang | E52: 1 | F52: Beschikbaar | G52: Representatie | H52: T06, T07 | I52: Could | J52: =IF(TRIM(I52)="Must",1,IF(TRIM(I52)="Should",0.75,IF(TRIM(I52)="Could",0.5,IF(TRIM(I52)="Would",0.25,0)))) -> 0.5 | K52: =E52*J52 -> 0.5
A53: 34 | B53: Kunnen informatieobjecten en metadata beschikbaar worden gesteld op mobiele apparaten? | C53: Ter beschikking stellen | D53: Toegang | E53: 1 | F53: Beschikbaar | G53: Representatie | H53: T16 | I53: Won't | J53: =IF(TRIM(I53)="Must",1,IF(TRIM(I53)="Should",0.75,IF(TRIM(I53)="Could",0.5,IF(TRIM(I53)="Would",0.25,0)))) -> 0 | K53: =E53*J53 -> 0
A54: 35 | B54: Kunnen gebruikers gepersonaliseerde weergaven van zoekresultaten configureren? | C54: Ter beschikking stellen | D54: Toegang | E54: 1 | F54: Vindbaar | G54: Representatie | H54: T17 | I54: Should | J54: =IF(TRIM(I54)="Must",1,IF(TRIM(I54)="Should",0.75,IF(TRIM(I54)="Could",0.5,IF(TRIM(I54)="Would",0.25,0)))) -> 0.75 | K54: =E54*J54 -> 0.75
A55: 37 | B55: Kan een gemaskeerde versie van een informatieobject worden gemaakt waarbij gevoelige informatie wordt afgeschermd, het origineel intact blijft en metagegevens over de maskering worden vastgelegd? | C55: Ter beschikking stellen | D55: Toegang | E55: 1 | F55: Betrouwbaar | G55: Maskering | H55: T12 | I55: Must | J55: =IF(TRIM(I55)="Must",1,IF(TRIM(I55)="Should",0.75,IF(TRIM(I55)="Could",0.5,IF(TRIM(I55)="Would",0.25,0)))) -> 1 | K55: =E55*J55 -> 1
A56: 38 | B56: Kan een uittreksel van een informatieobject worden gemaakt waarbij informatie wordt verwijderd, het origineel intact blijft en metagegevens over het maken van het uittreksel worden vastgelegd? | C56: Ter beschikking stellen | D56: Toegang | E56: 1 | F56: Betrouwbaar | G56: Maskering | H56: T13 | I56: Could | J56: =IF(TRIM(I56)="Must",1,IF(TRIM(I56)="Should",0.75,IF(TRIM(I56)="Could",0.5,IF(TRIM(I56)="Would",0.25,0)))) -> 0.5 | K56: =E56*J56 -> 0.5

Sheet 4. Dashboard
A1: Domein | B1: Percentage | C1: Rood | D1: Oranje | E1: Geel | F1: Groen | O1: Het dashboard toont de gewogen volwassenheid van de applicatie op basis van DUTO-eisen.
A2: =Analyse!A2 -> Governance | B2: =IFERROR(SUMIF('3. Scan'!D:D,A2,'3. Scan'!K:K)/(5*SUMIF('3. Scan'!D:D,A2,'3. Scan'!J:J)),"") -> 0.2 | C2: =IF($B2<0.33,$B2,"") -> 0.2 | D2: =IF(AND($B2>=0.33,$B2<0.5),$B2,"") | E2: =IF(AND($B2>=0.5,$B2<0.8),$B2,"") | F2: =IF($B2>=0.8,$B2,"")
A3: =Analyse!A3 -> Metadata | B3: =IFERROR(SUMIF('3. Scan'!D:D,A3,'3. Scan'!K:K)/(5*SUMIF('3. Scan'!D:D,A3,'3. Scan'!J:J)),"") -> 0.2 | C3: =IF($B3<0.33,$B3,"") -> 0.2 | D3: =IF(AND($B3>=0.33,$B3<0.5),$B3,"") | E3: =IF(AND($B3>=0.5,$B3<0.8),$B3,"") | F3: =IF($B3>=0.8,$B3,"")
A4: =Analyse!A4 -> Techniek | B4: =IFERROR(SUMIF('3. Scan'!D:D,A4,'3. Scan'!K:K)/(5*SUMIF('3. Scan'!D:D,A4,'3. Scan'!J:J)),"") -> 0.2 | C4: =IF($B4<0.33,$B4,"") -> 0.2 | D4: =IF(AND($B4>=0.33,$B4<0.5),$B4,"") | E4: =IF(AND($B4>=0.5,$B4<0.8),$B4,"") | F4: =IF($B4>=0.8,$B4,"") | P4: Top 3 te verbeteren DUTO-functies | V4: Top 3 kwetsbare categorieën | AB4: Top 3 disciplines met hoogste risico | AH4: Top 3 sterkst geborgde onderdelen | AP4: Kleur | AQ4: Betekenis
A5: =Analyse!A5 -> Lifecycle | B5: =IFERROR(SUMIF('3. Scan'!D:D,A5,'3. Scan'!K:K)/(5*SUMIF('3. Scan'!D:D,A5,'3. Scan'!J:J)),"") -> 0.2 | C5: =IF($B5<0.33,$B5,"") -> 0.2 | D5: =IF(AND($B5>=0.33,$B5<0.5),$B5,"") | E5: =IF(AND($B5>=0.5,$B5<0.8),$B5,"") | F5: =IF($B5>=0.8,$B5,"") | P5: 1 | Q5: {=INDEX(_xlfn.SORTBY(_xlfn._xlws.FILTER($P$97:$P$111,$S$97:$S$111>0),_xlfn._xlws.FILTER($S$97:$S$111,$S$97:$S$111>0),-1),1)} -> Toegangsbeheer | V5: 1 | W5: =INDEX($A$27:$A$34,MATCH(SMALL($B$27:$B$34,1),$B$27:$B$34,0)) -> Governance en beheer | AB5: 1 | AC5: {=INDEX(_xlfn.SORTBY(_xlfn._xlws.FILTER($H$120:$H$127,$I$120:$I$127>0),_xlfn._xlws.FILTER($I$120:$I$127,$I$120:$I$127>0),-1),1)} -> Informatiebeheer | AH5: 1 | AI5: {=INDEX(_xlfn.SORTBY(_xlfn._xlws.FILTER($A$27:$A$34,$B$27:$B$34<>""),_xlfn._xlws.FILTER($B$27:$B$34,$B$27:$B$34<>""),-1),1)} -> Governance en beheer | AQ5: Onvoldoende
A6: =Analyse!A6 -> Toegang | B6: =IFERROR(SUMIF('3. Scan'!D:D,A6,'3. Scan'!K:K)/(5*SUMIF('3. Scan'!D:D,A6,'3. Scan'!J:J)),"") -> 0.2 | C6: =IF($B6<0.33,$B6,"") -> 0.2 | D6: =IF(AND($B6>=0.33,$B6<0.5),$B6,"") | E6: =IF(AND($B6>=0.5,$B6<0.8),$B6,"") | F6: =IF($B6>=0.8,$B6,"") | P6: 2 | Q6: {=INDEX(_xlfn.SORTBY(_xlfn._xlws.FILTER($P$97:$P$111,$S$97:$S$111>0),_xlfn._xlws.FILTER($S$97:$S$111,$S$97:$S$111>0),-1),2)} -> Validatie | V6: 2 | W6: {=INDEX(_xlfn.SORTBY(_xlfn._xlws.FILTER($A$27:$A$34,$B$27:$B$34<>""),_xlfn._xlws.FILTER($B$27:$B$34,$B$27:$B$34<>""),1),2)} -> Registratie en metadata | AB6: 2 | AC6: {=INDEX(_xlfn.SORTBY(_xlfn._xlws.FILTER($H$120:$H$127,$I$120:$I$127>0),_xlfn._xlws.FILTER($I$120:$I$127,$I$120:$I$127>0),-1),2)} -> Privacy | AH6: 2 | AI6: {=INDEX(_xlfn.SORTBY(_xlfn._xlws.FILTER($A$27:$A$34,$B$27:$B$34<>""),_xlfn._xlws.FILTER($B$27:$B$34,$B$27:$B$34<>""),-1),2)} -> Registratie en metadata | AQ6: Beperkt
P7: 3 | Q7: {=INDEX(_xlfn.SORTBY(_xlfn._xlws.FILTER($P$97:$P$111,$S$97:$S$111>0),_xlfn._xlws.FILTER($S$97:$S$111,$S$97:$S$111>0),-1),3)} -> Verantwoording | V7: 3 | W7: {=INDEX(_xlfn.SORTBY(_xlfn._xlws.FILTER($A$27:$A$34,$B$27:$B$34<>""),_xlfn._xlws.FILTER($B$27:$B$34,$B$27:$B$34<>""),1),3)} -> Structuur en classificatie | AB7: 3 | AC7: {=INDEX(_xlfn.SORTBY(_xlfn._xlws.FILTER($H$120:$H$127,$I$120:$I$127>0),_xlfn._xlws.FILTER($I$120:$I$127,$I$120:$I$127>0),-1),3)} -> Datamanagement | AH7: 3 | AI7: {=INDEX(_xlfn.SORTBY(_xlfn._xlws.FILTER($A$27:$A$34,$B$27:$B$34<>""),_xlfn._xlws.FILTER($B$27:$B$34,$B$27:$B$34<>""),-1),3)} -> Structuur en classificatie | AQ7: Grotendeels op orde
A8: Tabel bij Duto-score per domein | AQ8: Goed ingericht
O11: Algemene volwassenheid
A26: Categorie | B26: Percentage | C26: Rood | D26: Oranje | E26: Geel | F26: Groen
A27: Governance en beheer | B27: =IFERROR(SUMIF('3. Scan'!C:C,A27,'3. Scan'!K:K)/(5*SUMIF('3. Scan'!C:C,A27,'3. Scan'!J:J)),"") -> 0.2 | C27: =IF(B27<0.33,B27,"") -> 0.2 | D27: =IF(AND(B27>=0.33,B27<0.5),B27,"") | E27: =IF(AND(B27>=0.5,B27<=0.75),B27,"") | F27: =IF(B27>0.75,B27,"") | P27: De grafiek toont de gemiddelde score per domein. Eisen met een hogere MoSCoW-prioriteit tellen daarbij zwaarder mee. | AA27: De grafiek toont de gemiddelde score per categorie. Eisen met een hogere MoSCoW-prioriteit tellen daarbij zwaarder mee.
A28: Registratie en metadata | B28: =IFERROR(SUMIF('3. Scan'!C:C,A28,'3. Scan'!K:K)/(5*SUMIF('3. Scan'!C:C,A28,'3. Scan'!J:J)),"") -> 0.2 | C28: =IF(B28<0.33,B28,"") -> 0.2 | D28: =IF(AND(B28>=0.33,B28<0.5),B28,"") | E28: =IF(AND(B28>=0.5,B28<=0.75),B28,"") | F28: =IF(B28>0.75,B28,"")
A29: Structuur en classificatie | B29: =IFERROR(SUMIF('3. Scan'!C:C,A29,'3. Scan'!K:K)/(5*SUMIF('3. Scan'!C:C,A29,'3. Scan'!J:J)),"") -> 0.2 | C29: =IF(B29<0.33,B29,"") -> 0.2 | D29: =IF(AND(B29>=0.33,B29<0.5),B29,"") | E29: =IF(AND(B29>=0.5,B29<=0.75),B29,"") | F29: =IF(B29>0.75,B29,"") | O29: DUTO-Functies
A30: Bewaren en integriteit | B30: =IFERROR(SUMIF('3. Scan'!C:C,A30,'3. Scan'!K:K)/(5*SUMIF('3. Scan'!C:C,A30,'3. Scan'!J:J)),"") -> 0.2 | C30: =IF(B30<0.33,B30,"") -> 0.2 | D30: =IF(AND(B30>=0.33,B30<0.5),B30,"") | E30: =IF(AND(B30>=0.5,B30<=0.75),B30,"") | F30: =IF(B30>0.75,B30,"")
A31: Toegang en beveiliging | B31: =IFERROR(SUMIF('3. Scan'!C:C,A31,'3. Scan'!K:K)/(5*SUMIF('3. Scan'!C:C,A31,'3. Scan'!J:J)),"") -> 0.2 | C31: =IF(B31<0.33,B31,"") -> 0.2 | D31: =IF(AND(B31>=0.33,B31<0.5),B31,"") | E31: =IF(AND(B31>=0.5,B31<=0.75),B31,"") | F31: =IF(B31>0.75,B31,"")
A32: Beschikbaarheid en gebruik | B32: =IFERROR(SUMIF('3. Scan'!C:C,A32,'3. Scan'!K:K)/(5*SUMIF('3. Scan'!C:C,A32,'3. Scan'!J:J)),"") -> 0.2 | C32: =IF(B32<0.33,B32,"") -> 0.2 | D32: =IF(AND(B32>=0.33,B32<0.5),B32,"") | E32: =IF(AND(B32>=0.5,B32<=0.75),B32,"") | F32: =IF(B32>0.75,B32,"")
A33: Beheerprocessen | B33: =IFERROR(SUMIF('3. Scan'!C:C,A33,'3. Scan'!K:K)/(5*SUMIF('3. Scan'!C:C,A33,'3. Scan'!J:J)),"") -> 0.2 | C33: =IF(B33<0.33,B33,"") -> 0.2 | D33: =IF(AND(B33>=0.33,B33<0.5),B33,"") | E33: =IF(AND(B33>=0.5,B33<=0.75),B33,"") | F33: =IF(B33>0.75,B33,"")
A34: Kwaliteitscontrole informatiebeheer | B34: =IFERROR(SUMIF('3. Scan'!C:C,A34,'3. Scan'!K:K)/(5*SUMIF('3. Scan'!C:C,A34,'3. Scan'!J:J)),"") -> 0.2 | C34: =IF(B34<0.33,B34,"") -> 0.2 | D34: =IF(AND(B34>=0.33,B34<0.5),B34,"") | E34: =IF(AND(B34>=0.5,B34<=0.75),B34,"") | F34: =IF(B34>0.75,B34,"")
A36: Tabel bij Duto-score per categorie
AT39: =COUNTIF('3. Scan'!$G$2:$G$199,"*Conversie*") -> 1
A40: DUTO kenmerk | B40: Percentage | C40: Rood | D40: Oranje | E40: Geel | F40: Groen | AT40: {=SUMPRODUCT((ISNUMBER(SEARCH("Conversie",'3. Scan'!$G$2:$G$199)))*'3. Scan'!$K$2:$K$199)} -> 1
A41: Vindbaar | B41: =IFERROR(SUMIF('3. Scan'!F:F,A41,'3. Scan'!K:K)/(5*SUMIF('3. Scan'!F:F,A41,'3. Scan'!J:J)),"") -> 0.2 | C41: =IF($B41<0.33,$B41,"") -> 0.2 | D41: =IF(AND($B41>=0.33,$B41<0.5),$B41,"") | E41: =IF(AND($B41>=0.5,$B41<0.8),$B41,"") | F41: =IF($B41>=0.8,$B41,"")
A42: Beschikbaar | B42: =IFERROR(SUMIF('3. Scan'!F:F,A42,'3. Scan'!K:K)/(5*SUMIF('3. Scan'!F:F,A42,'3. Scan'!J:J)),"") -> 0.2 | C42: =IF($B42<0.33,$B42,"") -> 0.2 | D42: =IF(AND($B42>=0.33,$B42<0.5),$B42,"") | E42: =IF(AND($B42>=0.5,$B42<0.8),$B42,"") | F42: =IF($B42>=0.8,$B42,"")
A43: Leesbaar | B43: =IFERROR(SUMIF('3. Scan'!F:F,A43,'3. Scan'!K:K)/(5*SUMIF('3. Scan'!F:F,A43,'3. Scan'!J:J)),"") -> 0.2 | C43: =IF($B43<0.33,$B43,"") -> 0.2 | D43: =IF(AND($B43>=0.33,$B43<0.5),$B43,"") | E43: =IF(AND($B43>=0.5,$B43<0.8),$B43,"") | F43: =IF($B43>=0.8,$B43,"")
A44: Interpreteerbaar | B44: =IFERROR(SUMIF('3. Scan'!F:F,A44,'3. Scan'!K:K)/(5*SUMIF('3. Scan'!F:F,A44,'3. Scan'!J:J)),"") -> 0.2 | C44: =IF($B44<0.33,$B44,"") -> 0.2 | D44: =IF(AND($B44>=0.33,$B44<0.5),$B44,"") | E44: =IF(AND($B44>=0.5,$B44<0.8),$B44,"") | F44: =IF($B44>=0.8,$B44,"") | P44: De grafiek toont de gemiddelde score per DUTO-kenmerk. Eisen met een hogere MoSCoW-prioriteit tellen daarbij zwaarder mee. | AA44: De grafiek toont de gemiddelde score per DUTO-functie. Eisen met een hogere MoSCoW-prioriteit tellen daarbij zwaarder mee.
A45: Betrouwbaar | B45: =IFERROR(SUMIF('3. Scan'!F:F,A45,'3. Scan'!K:K)/(5*SUMIF('3. Scan'!F:F,A45,'3. Scan'!J:J)),"") -> 0.2 | C45: =IF($B45<0.33,$B45,"") -> 0.2 | D45: =IF(AND($B45>=0.33,$B45<0.5),$B45,"") | E45: =IF(AND($B45>=0.5,$B45<0.8),$B45,"") | F45: =IF($B45>=0.8,$B45,"")
A46: Toekomstbestendig | B46: =IFERROR(SUMIF('3. Scan'!F:F,A46,'3. Scan'!K:K)/(5*SUMIF('3. Scan'!F:F,A46,'3. Scan'!J:J)),"") -> 0.2 | C46: =IF($B46<0.33,$B46,"") -> 0.2 | D46: =IF(AND($B46>=0.33,$B46<0.5),$B46,"") | E46: =IF(AND($B46>=0.5,$B46<0.8),$B46,"") | F46: =IF($B46>=0.8,$B46,"")
A47: Tabel bij Duto-score per kenmerk
A49: DUTO functies | B49: Percentage | C49: Rood | D49: Oranje | E49: Geel | F49: Groen | I49: DUTO functies
A50: Inwinning | B50: {=IFERROR(SUMPRODUCT((ISNUMBER(SEARCH(SUBSTITUTE($A50," ",""),SUBSTITUTE('3. Scan'!$G$2:$G$199," ",""))))*'3. Scan'!$K$2:$K$199)/(5*SUMPRODUCT((ISNUMBER(SEARCH(SUBSTITUTE($A50," ",""),SUBSTITUTE('3. Scan'!$G$2:$G$199," ",""))))*'3. Scan'!$J$2:$J$199)),"")} -> 0.2 | C50: =IF(B50<0.33,B50,"") -> 0.2 | D50: =IF(AND(B50>=0.33,B50<0.5),B50,"") | E50: =IF(AND(B50>=0.5,B50<=0.75),B50,"") | F50: =IF(B50>0.75,B50,"") | I50: Inwinning
A51: Bevriezing | B51: {=IFERROR(SUMPRODUCT((ISNUMBER(SEARCH(SUBSTITUTE($A51," ",""),SUBSTITUTE('3. Scan'!$G$2:$G$199," ",""))))*'3. Scan'!$K$2:$K$199)/(5*SUMPRODUCT((ISNUMBER(SEARCH(SUBSTITUTE($A51," ",""),SUBSTITUTE('3. Scan'!$G$2:$G$199," ",""))))*'3. Scan'!$J$2:$J$199)),"")} -> 0.2 | C51: =IF(B51<0.33,B51,"") -> 0.2 | D51: =IF(AND(B51>=0.33,B51<0.5),B51,"") | E51: =IF(AND(B51>=0.5,B51<=0.75),B51,"") | F51: =IF(B51>0.75,B51,"") | I51: Bevriezing
A52: Conversie | B52: =IFERROR(SUMIF('3. Scan'!$G$2:$G$199,"*"&A52&"*",'3. Scan'!$K$2:$K$199)/(5*SUMIF('3. Scan'!$G$2:$G$199,"*"&A52&"*",'3. Scan'!$J$2:$J$199)),"") -> 0.2 | C52: =IF(B52<0.33,B52,"") -> 0.2 | D52: =IF(AND(B52>=0.33,B52<0.5),B52,"") | E52: =IF(AND(B52>=0.5,B52<=0.75),B52,"") | F52: =IF(B52>0.75,B52,"") | I52: Conversie
A53: Maskering | B53: {=IFERROR(SUMPRODUCT((ISNUMBER(SEARCH(SUBSTITUTE($A50," ",""),SUBSTITUTE('3. Scan'!$G$2:$G$199," ",""))))*'3. Scan'!$K$2:$K$199)/(5*SUMPRODUCT((ISNUMBER(SEARCH(SUBSTITUTE($A50," ",""),SUBSTITUTE('3. Scan'!$G$2:$G$199," ",""))))*'3. Scan'!$J$2:$J$199)),"")} -> 0.2 | C53: =IF(B53<0.33,B53,"") -> 0.2 | D53: =IF(AND(B53>=0.33,B53<0.5),B53,"") | E53: =IF(AND(B53>=0.5,B53<=0.75),B53,"") | F53: =IF(B53>0.75,B53,"") | I53: Maskering
A54: Metagegevensbeheer | B54: {=IFERROR(SUMPRODUCT((ISNUMBER(SEARCH(SUBSTITUTE($A54," ",""),SUBSTITUTE('3. Scan'!$G$2:$G$199," ",""))))*'3. Scan'!$K$2:$K$199)/(5*SUMPRODUCT((ISNUMBER(SEARCH(SUBSTITUTE($A54," ",""),SUBSTITUTE('3. Scan'!$G$2:$G$199," ",""))))*'3. Scan'!$J$2:$J$199)),"")} -> 0.2 | C54: =IF(B54<0.33,B54,"") -> 0.2 | D54: =IF(AND(B54>=0.33,B54<0.5),B54,"") | E54: =IF(AND(B54>=0.5,B54<=0.75),B54,"") | F54: =IF(B54>0.75,B54,"") | I54: Metagegevensbeheer
A55: Opname | B55: {=IFERROR(SUMPRODUCT((ISNUMBER(SEARCH(SUBSTITUTE($A55," ",""),SUBSTITUTE('3. Scan'!$G$2:$G$199," ",""))))*'3. Scan'!$K$2:$K$199)/(5*SUMPRODUCT((ISNUMBER(SEARCH(SUBSTITUTE($A55," ",""),SUBSTITUTE('3. Scan'!$G$2:$G$199," ",""))))*'3. Scan'!$J$2:$J$199)),"")} -> 0.2 | C55: =IF(B55<0.33,B55,"") -> 0.2 | D55: =IF(AND(B55>=0.33,B55<0.5),B55,"") | E55: =IF(AND(B55>=0.5,B55<=0.75),B55,"") | F55: =IF(B55>0.75,B55,"") | I55: Opname
A56: Opslag | B56: {=IFERROR(SUMPRODUCT((ISNUMBER(SEARCH(SUBSTITUTE($A56," ",""),SUBSTITUTE('3. Scan'!$G$2:$G$199," ",""))))*'3. Scan'!$K$2:$K$199)/(5*SUMPRODUCT((ISNUMBER(SEARCH(SUBSTITUTE($A56," ",""),SUBSTITUTE('3. Scan'!$G$2:$G$199," ",""))))*'3. Scan'!$J$2:$J$199)),"")} -> 0.2 | C56: =IF(B56<0.33,B56,"") -> 0.2 | D56: =IF(AND(B56>=0.33,B56<0.5),B56,"") | E56: =IF(AND(B56>=0.5,B56<=0.75),B56,"") | F56: =IF(B56>0.75,B56,"") | I56: Opslag
A57: Publicatie | B57: {=IFERROR(SUMPRODUCT((ISNUMBER(SEARCH(SUBSTITUTE($A57," ",""),SUBSTITUTE('3. Scan'!$G$2:$G$199," ",""))))*'3. Scan'!$K$2:$K$199)/(5*SUMPRODUCT((ISNUMBER(SEARCH(SUBSTITUTE($A57," ",""),SUBSTITUTE('3. Scan'!$G$2:$G$199," ",""))))*'3. Scan'!$J$2:$J$199)),"")} -> 0.2 | C57: =IF(B57<0.33,B57,"") -> 0.2 | D57: =IF(AND(B57>=0.33,B57<0.5),B57,"") | E57: =IF(AND(B57>=0.5,B57<=0.75),B57,"") | F57: =IF(B57>0.75,B57,"") | I57: Publicatie
A58: Representatie | B58: {=IFERROR(SUMPRODUCT((ISNUMBER(SEARCH(SUBSTITUTE($A58," ",""),SUBSTITUTE('3. Scan'!$G$2:$G$199," ",""))))*'3. Scan'!$K$2:$K$199)/(5*SUMPRODUCT((ISNUMBER(SEARCH(SUBSTITUTE($A58," ",""),SUBSTITUTE('3. Scan'!$G$2:$G$199," ",""))))*'3. Scan'!$J$2:$J$199)),"")} -> 0.2 | C58: =IF(B58<0.33,B58,"") -> 0.2 | D58: =IF(AND(B58>=0.33,B58<0.5),B58,"") | E58: =IF(AND(B58>=0.5,B58<=0.75),B58,"") | F58: =IF(B58>0.75,B58,"") | I58: Representatie
A59: Toegangsbeheer | B59: {=IFERROR(SUMPRODUCT((ISNUMBER(SEARCH(SUBSTITUTE($A59," ",""),SUBSTITUTE('3. Scan'!$G$2:$G$199," ",""))))*'3. Scan'!$K$2:$K$199)/(5*SUMPRODUCT((ISNUMBER(SEARCH(SUBSTITUTE($A59," ",""),SUBSTITUTE('3. Scan'!$G$2:$G$199," ",""))))*'3. Scan'!$J$2:$J$199)),"")} -> 0.2 | C59: =IF(B59<0.33,B59,"") -> 0.2 | D59: =IF(AND(B59>=0.33,B59<0.5),B59,"") | E59: =IF(AND(B59>=0.5,B59<=0.75),B59,"") | F59: =IF(B59>0.75,B59,"") | I59: Toegangsbeheer
A60: Uitwisseling | B60: {=IFERROR(SUMPRODUCT((ISNUMBER(SEARCH(SUBSTITUTE($A60," ",""),SUBSTITUTE('3. Scan'!$G$2:$G$199," ",""))))*'3. Scan'!$K$2:$K$199)/(5*SUMPRODUCT((ISNUMBER(SEARCH(SUBSTITUTE($A60," ",""),SUBSTITUTE('3. Scan'!$G$2:$G$199," ",""))))*'3. Scan'!$J$2:$J$199)),"")} -> 0.2 | C60: =IF(B60<0.33,B60,"") -> 0.2 | D60: =IF(AND(B60>=0.33,B60<0.5),B60,"") | E60: =IF(AND(B60>=0.5,B60<=0.75),B60,"") | F60: =IF(B60>0.75,B60,"") | I60: Uitwisseling
A61: Validatie | B61: {=IFERROR(SUMPRODUCT((ISNUMBER(SEARCH(SUBSTITUTE($A61," ",""),SUBSTITUTE('3. Scan'!$G$2:$G$199," ",""))))*'3. Scan'!$K$2:$K$199)/(5*SUMPRODUCT((ISNUMBER(SEARCH(SUBSTITUTE($A61," ",""),SUBSTITUTE('3. Scan'!$G$2:$G$199," ",""))))*'3. Scan'!$J$2:$J$199)),"")} -> 0.2 | C61: =IF(B61<0.33,B61,"") -> 0.2 | D61: =IF(AND(B61>=0.33,B61<0.5),B61,"") | E61: =IF(AND(B61>=0.5,B61<=0.75),B61,"") | F61: =IF(B61>0.75,B61,"") | I61: Validatie
A62: Verantwoording | B62: {=IFERROR(SUMPRODUCT((ISNUMBER(SEARCH(SUBSTITUTE($A62," ",""),SUBSTITUTE('3. Scan'!$G$2:$G$199," ",""))))*'3. Scan'!$K$2:$K$199)/(5*SUMPRODUCT((ISNUMBER(SEARCH(SUBSTITUTE($A62," ",""),SUBSTITUTE('3. Scan'!$G$2:$G$199," ",""))))*'3. Scan'!$J$2:$J$199)),"")} -> 0.2 | C62: =IF(B62<0.33,B62,"") -> 0.2 | D62: =IF(AND(B62>=0.33,B62<0.5),B62,"") | E62: =IF(AND(B62>=0.5,B62<=0.75),B62,"") | F62: =IF(B62>0.75,B62,"") | I62: Verantwoording
A63: Vernietiging | B63: {=IFERROR(SUMPRODUCT((ISNUMBER(SEARCH(SUBSTITUTE($A63," ",""),SUBSTITUTE('3. Scan'!$G$2:$G$199," ",""))))*'3. Scan'!$K$2:$K$199)/(5*SUMPRODUCT((ISNUMBER(SEARCH(SUBSTITUTE($A63," ",""),SUBSTITUTE('3. Scan'!$G$2:$G$199," ",""))))*'3. Scan'!$J$2:$J$199)),"")} -> 0.2 | C63: =IF(B63<0.33,B63,"") -> 0.2 | D63: =IF(AND(B63>=0.33,B63<0.5),B63,"") | E63: =IF(AND(B63>=0.5,B63<=0.75),B63,"") | F63: =IF(B63>0.75,B63,"") | I63: Vernietiging
A64: Zoeken | B64: {=IFERROR(SUMPRODUCT((ISNUMBER(SEARCH(SUBSTITUTE($A64," ",""),SUBSTITUTE('3. Scan'!$G$2:$G$199," ",""))))*'3. Scan'!$K$2:$K$199)/(5*SUMPRODUCT((ISNUMBER(SEARCH(SUBSTITUTE($A64," ",""),SUBSTITUTE('3. Scan'!$G$2:$G$199," ",""))))*'3. Scan'!$J$2:$J$199)),"")} -> 0.2 | C64: =IF(B64<0.33,B64,"") -> 0.2 | D64: =IF(AND(B64>=0.33,B64<0.5),B64,"") | E64: =IF(AND(B64>=0.5,B64<=0.75),B64,"") | F64: =IF(B64>0.75,B64,"") | I64: Zoeken
A65: Tabel bij Duto-score per functie
P66: De grafiek laat zien welk deel van de eisen per MoSCoW-prioriteit een score 4 of 5 behaalt. Hierdoor wordt zichtbaar in hoeverre belangrijke eisen aantoonbaar zijn ingericht. | AA66: De grafiek toont de gemiddelde score per DUTO-proces. Eisen met een hogere MoSCoW-prioriteit tellen daarbij zwaarder mee.
A67: MoScoW | B67: Totaal | C67: Score 4-5 | D67: % ingevuld
A69: Must | B69: =COUNTIF('3. Scan'!I:I,"Must") -> 27 | C69: =COUNTIFS('3. Scan'!I:I,"Must",'3. Scan'!E:E,">=4") -> 0 | D69: =C69/B69 -> 0
A70: Should | B70: =COUNTIF('3. Scan'!I:I,"Should") -> 2 | C70: =COUNTIFS('3. Scan'!I:I,"Should",'3. Scan'!E:E,">=4") -> 0 | D70: =C70/B70 -> 0
A71: Could | B71: =COUNTIF('3. Scan'!I:I,"Could") -> 4 | C71: =COUNTIFS('3. Scan'!I:I,"Could",'3. Scan'!E:E,">=4") -> 0 | D71: =C71/B71 -> 0
A72: Would | B72: =COUNTIF('3. Scan'!I:I,"Would") -> 0 | C72: =COUNTIFS('3. Scan'!I:I,"Would",'3. Scan'!E:E,">=4") -> 0 | D72: =C72/B72 -> #DIV/0!
A73: Tabel bij Duto-eisen MoSCoW
O75: Disciplinaire impact | P75: DUTO functies | Q75: Volwassenheid | S75: Hoge impact | AD75: Risico | AF75: Discipline | AH75: =IF(F257<25%,"HOOG",IF(F257<50%,"MIDDEL",IF(F257<75%,"LAAG","GOED"))) -> HOOG | AN75: MIDDEL | AQ75: LAAG | AR75: GOED
A76: Processen | B76: Functies | C76: Functiescore | E76: Duto-proces | F76: score | G76: Rood | H76: Oranje | I76: Geel | J76: Groen | P76: Inwinning | Q76: =B50 -> 0.2 | S76: Datamanagement , Privacy , Informatiebeheer | AD76: =IF(B258<25%,"Direct aandacht vereist",IF(B258<50%,"Aandachtspunt",IF(B258<75%,"Redelijk beheerst","Goed beheerst"))) -> Direct aandacht vereist | AF76: Datamanagement | AH76: {=IFERROR(_xlfn.TEXTJOIN(", ",TRUE,_xlfn._xlws.FILTER($P$76:$P$90,(ISNUMBER(SEARCH($AF76,$S$76:$S$90)))*($AD$76:$AD$90="Direct aandacht vereist"))),"")} -> Inwinning, Conversie, Metagegevensbeheer, Opname, Opslag, Toegangsbeheer, Uitwisseling, Validatie, Verantwoording, Vernietiging, Zoeken | AN76: {=IFERROR(_xlfn.TEXTJOIN(", ",TRUE,_xlfn._xlws.FILTER($P$76:$P$90,(ISNUMBER(SEARCH($AF76,$S$76:$S$90)))*($AD$76:$AD$90="Aandachtspunt"))),"")} | AQ76: {=IFERROR(_xlfn.TEXTJOIN(", ",TRUE,_xlfn._xlws.FILTER($P$76:$P$90,(ISNUMBER(SEARCH($AF76,$S$76:$S$90)))*($AD$76:$AD$90="Redelijk beheerst"))),"")} | AR76: {=IFERROR(_xlfn.TEXTJOIN(", ",TRUE,_xlfn._xlws.FILTER($P$76:$P$90,(ISNUMBER(SEARCH($AF76,$S$76:$S$90)))*($AD$76:$AD$90="Goed beheerst"))),"")}
A77: Registratie | B77: Toegangsbeheer | C77: =_xlfn.XLOOKUP(B77,$A$50:$A$64,$B$50:$B$64,"") -> 0.2 | E77: Registratie | F77: =IFERROR(AVERAGEIF($A:$A,E77,$C:$C),"") -> 0.2 | G77: =IF(F77<0.25,F77,"") -> 0.2 | H77: =IF(AND(F77>=0.25,F77<0.5),F77,"") | I77: =IF(AND(F77>=0.5,F77<0.75),F77,"") | J77: =IF(F77>=0.75,F77,"") | P77: Bevriezing | Q77: =B51 -> 0.2 | S77: Privacy , Informatiebeveiliging , Cybersecurity, Informatiebeheer , Governance | AD77: =IF(B259<25%,"Direct aandacht vereist",IF(B259<50%,"Aandachtspunt",IF(B259<75%,"Redelijk beheerst","Goed beheerst"))) -> Direct aandacht vereist | AF77: Privacy | AH77: {=IFERROR(_xlfn.TEXTJOIN(", ",TRUE,_xlfn._xlws.FILTER($P$76:$P$90,(ISNUMBER(SEARCH($AF77,$S$76:$S$90)))*($AD$76:$AD$90="Direct aandacht vereist"))),"")} -> Inwinning, Bevriezing, Maskering, Metagegevensbeheer, Opname, Opslag, Publicatie, Toegangsbeheer, Uitwisseling, Validatie, Verantwoording, Vernietiging, Zoeken | AN77: {=IFERROR(_xlfn.TEXTJOIN(", ",TRUE,_xlfn._xlws.FILTER($P$76:$P$90,(ISNUMBER(SEARCH($AF77,$S$76:$S$90)))*($AD$76:$AD$90="Aandachtspunt"))),"")} | AQ77: {=IFERROR(_xlfn.TEXTJOIN(", ",TRUE,_xlfn._xlws.FILTER($P$76:$P$90,(ISNUMBER(SEARCH($AF77,$S$76:$S$90)))*($AD$76:$AD$90="Redelijk beheerst"))),"")} | AR77: {=IFERROR(_xlfn.TEXTJOIN(", ",TRUE,_xlfn._xlws.FILTER($P$76:$P$90,(ISNUMBER(SEARCH($AF77,$S$76:$S$90)))*($AD$76:$AD$90="Goed beheerst"))),"")}
A78: Registratie | B78: Inwinning | C78: =_xlfn.XLOOKUP(B78,$A$50:$A$64,$B$50:$B$64,"") -> 0.2 | E78: Migreren | F78: =IFERROR(AVERAGEIF($A:$A,E78,$C:$C),"") -> 0.2 | G78: =IF(F78<0.25,F78,"") -> 0.2 | H78: =IF(AND(F78>=0.25,F78<0.5),F78,"") | I78: =IF(AND(F78>=0.5,F78<0.75),F78,"") | J78: =IF(F78>=0.75,F78,"") | P78: Conversie | Q78: =B52 -> 0.2 | S78: Datamanagement , Informatiebeheer | AD78: =IF(B260<25%,"Direct aandacht vereist",IF(B260<50%,"Aandachtspunt",IF(B260<75%,"Redelijk beheerst","Goed beheerst"))) -> Direct aandacht vereist | AF78: Informatiebeveiliging | AH78: {=IFERROR(_xlfn.TEXTJOIN(", ",TRUE,_xlfn._xlws.FILTER($P$76:$P$90,(ISNUMBER(SEARCH($AF78,$S$76:$S$90)))*($AD$76:$AD$90="Direct aandacht vereist"))),"")} -> Bevriezing, Maskering, Metagegevensbeheer, Opname, Opslag, Publicatie, Toegangsbeheer, Uitwisseling, Validatie, Verantwoording, Vernietiging | AN78: {=IFERROR(_xlfn.TEXTJOIN(", ",TRUE,_xlfn._xlws.FILTER($P$76:$P$90,(ISNUMBER(SEARCH($AF78,$S$76:$S$90)))*($AD$76:$AD$90="Aandachtspunt"))),"")} | AQ78: {=IFERROR(_xlfn.TEXTJOIN(", ",TRUE,_xlfn._xlws.FILTER($P$76:$P$90,(ISNUMBER(SEARCH($AF78,$S$76:$S$90)))*($AD$76:$AD$90="Redelijk beheerst"))),"")} | AR78: {=IFERROR(_xlfn.TEXTJOIN(", ",TRUE,_xlfn._xlws.FILTER($P$76:$P$90,(ISNUMBER(SEARCH($AF78,$S$76:$S$90)))*($AD$76:$AD$90="Goed beheerst"))),"")}
A79: Registratie | B79: Validatie | C79: =_xlfn.XLOOKUP(B79,$A$50:$A$64,$B$50:$B$64,"") -> 0.2 | E79: Bewaren | F79: =IFERROR(AVERAGEIF($A:$A,E79,$C:$C),"") -> 0.2 | G79: =IF(F79<0.25,F79,"") -> 0.2 | H79: =IF(AND(F79>=0.25,F79<0.5),F79,"") | I79: =IF(AND(F79>=0.5,F79<0.75),F79,"") | J79: =IF(F79>=0.75,F79,"") | P79: Maskering | Q79: =B53 -> 0.2 | S79: Privacy , Informatiebeveiliging , Woo | AD79: =IF(B261<25%,"Direct aandacht vereist",IF(B261<50%,"Aandachtspunt",IF(B261<75%,"Redelijk beheerst","Goed beheerst"))) -> Direct aandacht vereist | AF79: Cybersecurity | AH79: {=IFERROR(_xlfn.TEXTJOIN(", ",TRUE,_xlfn._xlws.FILTER($P$76:$P$90,(ISNUMBER(SEARCH($AF79,$S$76:$S$90)))*($AD$76:$AD$90="Direct aandacht vereist"))),"")} -> Bevriezing, Opslag, Toegangsbeheer, Validatie, Verantwoording, Vernietiging | AN79: {=IFERROR(_xlfn.TEXTJOIN(", ",TRUE,_xlfn._xlws.FILTER($P$76:$P$90,(ISNUMBER(SEARCH($AF79,$S$76:$S$90)))*($AD$76:$AD$90="Aandachtspunt"))),"")} | AQ79: {=IFERROR(_xlfn.TEXTJOIN(", ",TRUE,_xlfn._xlws.FILTER($P$76:$P$90,(ISNUMBER(SEARCH($AF79,$S$76:$S$90)))*($AD$76:$AD$90="Redelijk beheerst"))),"")} | AR79: {=IFERROR(_xlfn.TEXTJOIN(", ",TRUE,_xlfn._xlws.FILTER($P$76:$P$90,(ISNUMBER(SEARCH($AF79,$S$76:$S$90)))*($AD$76:$AD$90="Goed beheerst"))),"")}
A80: Registratie | B80: Opname | C80: =_xlfn.XLOOKUP(B80,$A$50:$A$64,$B$50:$B$64,"") -> 0.2 | E80: Vernietigen | F80: =IFERROR(AVERAGEIF($A:$A,E80,$C:$C),"") -> 0.2 | G80: =IF(F80<0.25,F80,"") -> 0.2 | H80: =IF(AND(F80>=0.25,F80<0.5),F80,"") | I80: =IF(AND(F80>=0.5,F80<0.75),F80,"") | J80: =IF(F80>=0.75,F80,"") | P80: Metagegevensbeheer | Q80: =B54 -> 0.2 | S80: Datamanagement , Privacy , Informatiebeveiliging , Informatiebeheer , Woo , Governance | AD80: =IF(B262<25%,"Direct aandacht vereist",IF(B262<50%,"Aandachtspunt",IF(B262<75%,"Redelijk beheerst","Goed beheerst"))) -> Direct aandacht vereist | AF80: Functioneel Beheer | AH80: {=IFERROR(_xlfn.TEXTJOIN(", ",TRUE,_xlfn._xlws.FILTER($P$76:$P$90,(ISNUMBER(SEARCH($AF80,$S$76:$S$90)))*($AD$76:$AD$90="Direct aandacht vereist"))),"")} -> Opname, Opslag, Representatie, Toegangsbeheer, Uitwisseling, Validatie | AN80: {=IFERROR(_xlfn.TEXTJOIN(", ",TRUE,_xlfn._xlws.FILTER($P$76:$P$90,(ISNUMBER(SEARCH($AF80,$S$76:$S$90)))*($AD$76:$AD$90="Aandachtspunt"))),"")} | AQ80: {=IFERROR(_xlfn.TEXTJOIN(", ",TRUE,_xlfn._xlws.FILTER($P$76:$P$90,(ISNUMBER(SEARCH($AF80,$S$76:$S$90)))*($AD$76:$AD$90="Redelijk beheerst"))),"")} | AR80: {=IFERROR(_xlfn.TEXTJOIN(", ",TRUE,_xlfn._xlws.FILTER($P$76:$P$90,(ISNUMBER(SEARCH($AF80,$S$76:$S$90)))*($AD$76:$AD$90="Goed beheerst"))),"")}
A81: Registratie | B81: Metagegevensbeheer | C81: =_xlfn.XLOOKUP(B81,$A$50:$A$64,$B$50:$B$64,"") -> 0.2 | E81: Ter beschikking stellen | F81: =IFERROR(AVERAGEIF($A:$A,E81,$C:$C),"") -> 0.2 | G81: =IF(F81<0.25,F81,"") -> 0.2 | H81: =IF(AND(F81>=0.25,F81<0.5),F81,"") | I81: =IF(AND(F81>=0.5,F81<0.75),F81,"") | J81: =IF(F81>=0.75,F81,"") | P81: Opname | Q81: =B55 -> 0.2 | S81: Datamanagement , Privacy , Informatiebeveiliging , Functioneel beheer , Informatiebeheer | AD81: =IF(B263<25%,"Direct aandacht vereist",IF(B263<50%,"Aandachtspunt",IF(B263<75%,"Redelijk beheerst","Goed beheerst"))) -> Direct aandacht vereist | AF81: Informatiebeheer | AH81: {=IFERROR(_xlfn.TEXTJOIN(", ",TRUE,_xlfn._xlws.FILTER($P$76:$P$90,(ISNUMBER(SEARCH($AF81,$S$76:$S$90)))*($AD$76:$AD$90="Direct aandacht vereist"))),"")} -> Inwinning, Bevriezing, Conversie, Metagegevensbeheer, Opname, Opslag, Representatie, Toegangsbeheer, Uitwisseling, Validatie, Verantwoording, Vernietiging, Zoeken | AN81: {=IFERROR(_xlfn.TEXTJOIN(", ",TRUE,_xlfn._xlws.FILTER($P$76:$P$90,(ISNUMBER(SEARCH($AF81,$S$76:$S$90)))*($AD$76:$AD$90="Aandachtspunt"))),"")} | AQ81: {=IFERROR(_xlfn.TEXTJOIN(", ",TRUE,_xlfn._xlws.FILTER($P$76:$P$90,(ISNUMBER(SEARCH($AF81,$S$76:$S$90)))*($AD$76:$AD$90="Redelijk beheerst"))),"")} | AR81: {=IFERROR(_xlfn.TEXTJOIN(", ",TRUE,_xlfn._xlws.FILTER($P$76:$P$90,(ISNUMBER(SEARCH($AF81,$S$76:$S$90)))*($AD$76:$AD$90="Goed beheerst"))),"")}
A82: Registratie | B82: Opslag | C82: =_xlfn.XLOOKUP(B82,$A$50:$A$64,$B$50:$B$64,"") -> 0.2 | P82: Opslag | Q82: =B56 -> 0.2 | S82: Datamanagement , Privacy , Informatiebeveiliging , Cybersecurity, Functioneel beheer , Informatiebeheer | AD82: =IF(B264<25%,"Direct aandacht vereist",IF(B264<50%,"Aandachtspunt",IF(B264<75%,"Redelijk beheerst","Goed beheerst"))) -> Direct aandacht vereist | AF82: Woo | AH82: {=IFERROR(_xlfn.TEXTJOIN(", ",TRUE,_xlfn._xlws.FILTER($P$76:$P$90,(ISNUMBER(SEARCH($AF82,$S$76:$S$90)))*($AD$76:$AD$90="Direct aandacht vereist"))),"")} -> Maskering, Metagegevensbeheer, Publicatie, Verantwoording, Vernietiging, Zoeken | AN82: {=IFERROR(_xlfn.TEXTJOIN(", ",TRUE,_xlfn._xlws.FILTER($P$76:$P$90,(ISNUMBER(SEARCH($AF82,$S$76:$S$90)))*($AD$76:$AD$90="Aandachtspunt"))),"")} | AQ82: {=IFERROR(_xlfn.TEXTJOIN(", ",TRUE,_xlfn._xlws.FILTER($P$76:$P$90,(ISNUMBER(SEARCH($AF82,$S$76:$S$90)))*($AD$76:$AD$90="Redelijk beheerst"))),"")} | AR82: {=IFERROR(_xlfn.TEXTJOIN(", ",TRUE,_xlfn._xlws.FILTER($P$76:$P$90,(ISNUMBER(SEARCH($AF82,$S$76:$S$90)))*($AD$76:$AD$90="Goed beheerst"))),"")}
A83: Migreren | B83: Toegangsbeheer | C83: =_xlfn.XLOOKUP(B83,$A$50:$A$64,$B$50:$B$64,"") -> 0.2 | P83: Publicatie | Q83: =B57 -> 0.2 | S83: Privacy , Informatiebeveiliging , Woo , Governance | AD83: =IF(B265<25%,"Direct aandacht vereist",IF(B265<50%,"Aandachtspunt",IF(B265<75%,"Redelijk beheerst","Goed beheerst"))) -> Direct aandacht vereist | AF83: Governance | AH83: {=IFERROR(_xlfn.TEXTJOIN(", ",TRUE,_xlfn._xlws.FILTER($P$76:$P$90,(ISNUMBER(SEARCH($AF83,$S$76:$S$90)))*($AD$76:$AD$90="Direct aandacht vereist"))),"")} -> Bevriezing, Metagegevensbeheer, Publicatie, Toegangsbeheer, Uitwisseling, Validatie, Verantwoording, Vernietiging | AN83: {=IFERROR(_xlfn.TEXTJOIN(", ",TRUE,_xlfn._xlws.FILTER($P$76:$P$90,(ISNUMBER(SEARCH($AF83,$S$76:$S$90)))*($AD$76:$AD$90="Aandachtspunt"))),"")} | AQ83: {=IFERROR(_xlfn.TEXTJOIN(", ",TRUE,_xlfn._xlws.FILTER($P$76:$P$90,(ISNUMBER(SEARCH($AF83,$S$76:$S$90)))*($AD$76:$AD$90="Redelijk beheerst"))),"")} | AR83: {=IFERROR(_xlfn.TEXTJOIN(", ",TRUE,_xlfn._xlws.FILTER($P$76:$P$90,(ISNUMBER(SEARCH($AF83,$S$76:$S$90)))*($AD$76:$AD$90="Goed beheerst"))),"")}
A84: Migreren | B84: Metagegevensbeheer | C84: =_xlfn.XLOOKUP(B84,$A$50:$A$64,$B$50:$B$64,"") -> 0.2 | P84: Representatie | Q84: =B58 -> 0.2 | S84: Functioneel beheer , Informatiebeheer | AD84: =IF(B266<25%,"Direct aandacht vereist",IF(B266<50%,"Aandachtspunt",IF(B266<75%,"Redelijk beheerst","Goed beheerst"))) -> Direct aandacht vereist
A85: Migreren | B85: Zoeken | C85: =_xlfn.XLOOKUP(B85,$A$50:$A$64,$B$50:$B$64,"") -> 0.2 | P85: Toegangsbeheer | Q85: =B59 -> 0.2 | S85: Datamanagement , Privacy , Informatiebeveiliging , Cybersecurity, Functioneel beheer , Informatiebeheer , Governance | AD85: =IF(B267<25%,"Direct aandacht vereist",IF(B267<50%,"Aandachtspunt",IF(B267<75%,"Redelijk beheerst","Goed beheerst"))) -> Direct aandacht vereist | AF85: Deze tabel toont per IV-discipline welke DUTO-functies op basis van de huidige volwassenheid een hoog, middel, laag of beperkt risico vormen. Hierbij zijn uitsluitend functies meegenomen die een hoge impact hebben op de betreffende discipline. Zo wordt zichtbaar waar onvoldoende DUTO-volwassenheid kan doorwerken naar bredere IV-risico’s.
A86: Migreren | B86: Opname | C86: =_xlfn.XLOOKUP(B86,$A$50:$A$64,$B$50:$B$64,"") -> 0.2 | P86: Uitwisseling | Q86: =B60 -> 0.2 | S86: Datamanagement , Privacy , Informatiebeveiliging , Functioneel beheer , Informatiebeheer , Governance | AD86: =IF(B268<25%,"Direct aandacht vereist",IF(B268<50%,"Aandachtspunt",IF(B268<75%,"Redelijk beheerst","Goed beheerst"))) -> Direct aandacht vereist
A87: Migreren | B87: Validatie | C87: =_xlfn.XLOOKUP(B87,$A$50:$A$64,$B$50:$B$64,"") -> 0.2 | P87: Validatie | Q87: =B61 -> 0.2 | S87: Datamanagement , Privacy , Informatiebeveiliging , Cybersecurity, Functioneel beheer , Informatiebeheer , Governance | AD87: =IF(B269<25%,"Direct aandacht vereist",IF(B269<50%,"Aandachtspunt",IF(B269<75%,"Redelijk beheerst","Goed beheerst"))) -> Direct aandacht vereist
A88: Migreren | B88: Opslag | C88: =_xlfn.XLOOKUP(B88,$A$50:$A$64,$B$50:$B$64,"") -> 0.2 | P88: Verantwoording | Q88: =B62 -> 0.2 | S88: Datamanagement , Privacy , Informatiebeveiliging , Cybersecurity, Informatiebeheer , Woo , Governance | AD88: =IF(B270<25%,"Direct aandacht vereist",IF(B270<50%,"Aandachtspunt",IF(B270<75%,"Redelijk beheerst","Goed beheerst"))) -> Direct aandacht vereist
A89: Migreren | B89: Conversie | C89: =_xlfn.XLOOKUP(B89,$A$50:$A$64,$B$50:$B$64,"") -> 0.2 | P89: Vernietiging | Q89: =B63 -> 0.2 | S89: Datamanagement , Privacy , Informatiebeveiliging , Cybersecurity, Informatiebeheer , Woo , Governance | AD89: =IF(B271<25%,"Direct aandacht vereist",IF(B271<50%,"Aandachtspunt",IF(B271<75%,"Redelijk beheerst","Goed beheerst"))) -> Direct aandacht vereist
A90: Migreren | B90: Uitwisseling | C90: =_xlfn.XLOOKUP(B90,$A$50:$A$64,$B$50:$B$64,"") -> 0.2 | P90: Zoeken | Q90: =B64 -> 0.2 | S90: Datamanagement , Privacy , Informatiebeheer , Woo | AD90: =IF(B272<25%,"Direct aandacht vereist",IF(B272<50%,"Aandachtspunt",IF(B272<75%,"Redelijk beheerst","Goed beheerst"))) -> Direct aandacht vereist
A91: Migreren | B91: Verantwoording | C91: =_xlfn.XLOOKUP(B91,$A$50:$A$64,$B$50:$B$64,"") -> 0.2
A92: Bewaren | B92: Metagegevensbeheer | C92: =_xlfn.XLOOKUP(B92,$A$50:$A$64,$B$50:$B$64,"") -> 0.2 | P92: Deze tabel laat zien in welke mate DUTO-functies momenteel volwassen zijn ingericht en welke IV-disciplines hierdoor direct worden geraakt. Een lage volwassenheid op functies met een hoge disciplinaire impact vergroot het risico op knelpunten binnen bijvoorbeeld privacy, informatiebeveiliging, Woo, cybersecurity en governance.
A93: Bewaren | B93: Toegangsbeheer | C93: =_xlfn.XLOOKUP(B93,$A$50:$A$64,$B$50:$B$64,"") -> 0.2
A94: Bewaren | B94: Opname | C94: =_xlfn.XLOOKUP(B94,$A$50:$A$64,$B$50:$B$64,"") -> 0.2
A95: Bewaren | B95: Validatie | C95: =_xlfn.XLOOKUP(B95,$A$50:$A$64,$B$50:$B$64,"") -> 0.2
A96: Bewaren | B96: Conversie | C96: =_xlfn.XLOOKUP(B96,$A$50:$A$64,$B$50:$B$64,"") -> 0.2 | O96: Prioriteitenoverzicht | P96: DUTO-functie | Q96: Volwassenheid | R96: Hoge impact | S96: Prio score | T96: Prio | W96: Kernpunten | AG96: Aandachtspunten/Verbetervoorstellen
A97: Bewaren | B97: Bevriezing | C97: =_xlfn.XLOOKUP(B97,$A$50:$A$64,$B$50:$B$64,"") -> 0.2 | P97: =P76 -> Inwinning | Q97: =Q76 -> 0.2 | R97: =IF(S76="",0,LEN(S76)-LEN(SUBSTITUTE(S76,",",""))+1) -> 3 | S97: =IFERROR((1-Q97)*R97,0) -> 2.4 | T97: =IF(S97>=5,"Hoog",IF(S97>=3,"Middel",IF(S97>=1,"Laag","Geen"))) -> Laag | W97: • | AG97: •
A98: Bewaren | B98: Opslag | C98: =_xlfn.XLOOKUP(B98,$A$50:$A$64,$B$50:$B$64,"") -> 0.2 | P98: =P77 -> Bevriezing | Q98: =Q77 -> 0.2 | R98: =IF(S77="",0,LEN(S77)-LEN(SUBSTITUTE(S77,",",""))+1) -> 5 | S98: =IFERROR((1-Q98)*R98,0) -> 4 | T98: =IF(S98>=5,"Hoog",IF(S98>=3,"Middel",IF(S98>=1,"Laag","Geen"))) -> Middel | W98: • | AG98: •
A99: Bewaren | B99: Zoeken | C99: =_xlfn.XLOOKUP(B99,$A$50:$A$64,$B$50:$B$64,"") -> 0.2 | P99: =P78 -> Conversie | Q99: =Q78 -> 0.2 | R99: =IF(S78="",0,LEN(S78)-LEN(SUBSTITUTE(S78,",",""))+1) -> 2 | S99: =IFERROR((1-Q99)*R99,0) -> 1.6 | T99: =IF(S99>=5,"Hoog",IF(S99>=3,"Middel",IF(S99>=1,"Laag","Geen"))) -> Laag | W99: • | AG99: •
A100: Bewaren | B100: Verantwoording | C100: =_xlfn.XLOOKUP(B100,$A$50:$A$64,$B$50:$B$64,"") -> 0.2 | P100: =P79 -> Maskering | Q100: =Q79 -> 0.2 | R100: =IF(S79="",0,LEN(S79)-LEN(SUBSTITUTE(S79,",",""))+1) -> 3 | S100: =IFERROR((1-Q100)*R100,0) -> 2.4 | T100: =IF(S100>=5,"Hoog",IF(S100>=3,"Middel",IF(S100>=1,"Laag","Geen"))) -> Laag | W100: • | AG100: •
A101: Vernietigen | B101: Metagegevensbeheer | C101: =_xlfn.XLOOKUP(B101,$A$50:$A$64,$B$50:$B$64,"") -> 0.2 | P101: =P80 -> Metagegevensbeheer | Q101: =Q80 -> 0.2 | R101: =IF(S80="",0,LEN(S80)-LEN(SUBSTITUTE(S80,",",""))+1) -> 6 | S101: =IFERROR((1-Q101)*R101,0) -> 4.8 | T101: =IF(S101>=5,"Hoog",IF(S101>=3,"Middel",IF(S101>=1,"Laag","Geen"))) -> Middel | W101: • | AG101: •
A102: Vernietigen | B102: Toegangsbeheer | C102: =_xlfn.XLOOKUP(B102,$A$50:$A$64,$B$50:$B$64,"") -> 0.2 | P102: =P81 -> Opname | Q102: =Q81 -> 0.2 | R102: =IF(S81="",0,LEN(S81)-LEN(SUBSTITUTE(S81,",",""))+1) -> 5 | S102: =IFERROR((1-Q102)*R102,0) -> 4 | T102: =IF(S102>=5,"Hoog",IF(S102>=3,"Middel",IF(S102>=1,"Laag","Geen"))) -> Middel | W102: • | AG102: •
A103: Vernietigen | B103: Validatie | C103: =_xlfn.XLOOKUP(B103,$A$50:$A$64,$B$50:$B$64,"") -> 0.2 | P103: =P82 -> Opslag | Q103: =Q82 -> 0.2 | R103: =IF(S82="",0,LEN(S82)-LEN(SUBSTITUTE(S82,",",""))+1) -> 6 | S103: =IFERROR((1-Q103)*R103,0) -> 4.8 | T103: =IF(S103>=5,"Hoog",IF(S103>=3,"Middel",IF(S103>=1,"Laag","Geen"))) -> Middel | W103: • | AG103: •
A104: Vernietigen | B104: Verantwoording | C104: =_xlfn.XLOOKUP(B104,$A$50:$A$64,$B$50:$B$64,"") -> 0.2 | P104: =P83 -> Publicatie | Q104: =Q83 -> 0.2 | R104: =IF(S83="",0,LEN(S83)-LEN(SUBSTITUTE(S83,",",""))+1) -> 4 | S104: =IFERROR((1-Q104)*R104,0) -> 3.2 | T104: =IF(S104>=5,"Hoog",IF(S104>=3,"Middel",IF(S104>=1,"Laag","Geen"))) -> Middel | W104: • | AG104: •
A105: Vernietigen | B105: Vernietiging | C105: =_xlfn.XLOOKUP(B105,$A$50:$A$64,$B$50:$B$64,"") -> 0.2 | P105: =P84 -> Representatie | Q105: =Q84 -> 0.2 | R105: =IF(S84="",0,LEN(S84)-LEN(SUBSTITUTE(S84,",",""))+1) -> 2 | S105: =IFERROR((1-Q105)*R105,0) -> 1.6 | T105: =IF(S105>=5,"Hoog",IF(S105>=3,"Middel",IF(S105>=1,"Laag","Geen"))) -> Laag
A106: Vernietigen | B106: Zoeken | C106: =_xlfn.XLOOKUP(B106,$A$50:$A$64,$B$50:$B$64,"") -> 0.2 | P106: =P85 -> Toegangsbeheer | Q106: =Q85 -> 0.2 | R106: =IF(S85="",0,LEN(S85)-LEN(SUBSTITUTE(S85,",",""))+1) -> 7 | S106: =IFERROR((1-Q106)*R106,0) -> 5.6 | T106: =IF(S106>=5,"Hoog",IF(S106>=3,"Middel",IF(S106>=1,"Laag","Geen"))) -> Hoog
A107: Ter beschikking stellen | B107: Conversie | C107: =_xlfn.XLOOKUP(B107,$A$50:$A$64,$B$50:$B$64,"") -> 0.2 | P107: =P86 -> Uitwisseling | Q107: =Q86 -> 0.2 | R107: =IF(S86="",0,LEN(S86)-LEN(SUBSTITUTE(S86,",",""))+1) -> 6 | S107: =IFERROR((1-Q107)*R107,0) -> 4.8 | T107: =IF(S107>=5,"Hoog",IF(S107>=3,"Middel",IF(S107>=1,"Laag","Geen"))) -> Middel
A108: Ter beschikking stellen | B108: Maskering | C108: =_xlfn.XLOOKUP(B108,$A$50:$A$64,$B$50:$B$64,"") -> 0.2 | P108: =P87 -> Validatie | Q108: =Q87 -> 0.2 | R108: =IF(S87="",0,LEN(S87)-LEN(SUBSTITUTE(S87,",",""))+1) -> 7 | S108: =IFERROR((1-Q108)*R108,0) -> 5.6 | T108: =IF(S108>=5,"Hoog",IF(S108>=3,"Middel",IF(S108>=1,"Laag","Geen"))) -> Hoog
A109: Ter beschikking stellen | B109: Metagegevensbeheer | C109: =_xlfn.XLOOKUP(B109,$A$50:$A$64,$B$50:$B$64,"") -> 0.2 | P109: =P88 -> Verantwoording | Q109: =Q88 -> 0.2 | R109: =IF(S88="",0,LEN(S88)-LEN(SUBSTITUTE(S88,",",""))+1) -> 7 | S109: =IFERROR((1-Q109)*R109,0) -> 5.6 | T109: =IF(S109>=5,"Hoog",IF(S109>=3,"Middel",IF(S109>=1,"Laag","Geen"))) -> Hoog
A110: Ter beschikking stellen | B110: Publicatie | C110: =_xlfn.XLOOKUP(B110,$A$50:$A$64,$B$50:$B$64,"") -> 0.2 | P110: =P89 -> Vernietiging | Q110: =Q89 -> 0.2 | R110: =IF(S89="",0,LEN(S89)-LEN(SUBSTITUTE(S89,",",""))+1) -> 7 | S110: =IFERROR((1-Q110)*R110,0) -> 5.6 | T110: =IF(S110>=5,"Hoog",IF(S110>=3,"Middel",IF(S110>=1,"Laag","Geen"))) -> Hoog
A111: Ter beschikking stellen | B111: Representatie | C111: =_xlfn.XLOOKUP(B111,$A$50:$A$64,$B$50:$B$64,"") -> 0.2 | P111: =P90 -> Zoeken | Q111: =Q90 -> 0.2 | R111: =IF(S90="",0,LEN(S90)-LEN(SUBSTITUTE(S90,",",""))+1) -> 4 | S111: =IFERROR((1-Q111)*R111,0) -> 3.2 | T111: =IF(S111>=5,"Hoog",IF(S111>=3,"Middel",IF(S111>=1,"Laag","Geen"))) -> Middel
A112: Ter beschikking stellen | B112: Toegangsbeheer | C112: =_xlfn.XLOOKUP(B112,$A$50:$A$64,$B$50:$B$64,"") -> 0.2
A113: Ter beschikking stellen | B113: Uitwisseling | C113: =_xlfn.XLOOKUP(B113,$A$50:$A$64,$B$50:$B$64,"") -> 0.2 | P113: Deze tabel laat zien welke DUTO-functies op basis van de huidige volwassenheid en impact als eerste aandacht vragen. De prioriteitsscore combineert de resterende ontwikkelopgave met de impact van de betreffende functie. Een lage volwassenheid in combinatie met een hoge impact leidt tot een hogere prioriteit. | W113: Dit onderdeel biedt ruimte om de belangrijkste observaties uit de DUTO-analyse te duiden. Hier worden opvallende patronen, risico’s, sterke punten en samenhang tussen functies, categorieën en disciplines kort samengevat. | AG113: Dit onderdeel biedt ruimte om op basis van de analyse concrete aandachtspunten en verbetervoorstellen vast te leggen. Hierbij kan het gaan om verbeteringen in DUTO-functionaliteit, governance, processen, informatiebeveiliging, privacy of multidisciplinaire risico’s.
A114: Ter beschikking stellen | B114: Validatie | C114: =_xlfn.XLOOKUP(B114,$A$50:$A$64,$B$50:$B$64,"") -> 0.2
A115: Ter beschikking stellen | B115: Zoeken | C115: =_xlfn.XLOOKUP(B115,$A$50:$A$64,$B$50:$B$64,"") -> 0.2
A117: Tabel bij DUTO-processen
A119: Discipline | B119: Kwetsbaarheid | C119: Rood | D119: Oranje | E119: Geel | F119: Groen | H119: Discipine | I119: kwetsbaarheid | J119: kwetsbaarheid %
A120: Datamanagement | B120: =IFERROR(AVERAGEIF($A$133:$A$244,A120,$F$133:$F$244),"") -> 0.69333333 | C120: =IF(B120>0.25,B120,"") -> 0.69333333 | D120: =IF(AND(B120>0.2,B120<=0.25),B120,"") | E120: =IF(AND(B120>0.15,B120<=0.2),B120,"") | F120: =IF(B120<=0.15,B120,"") | H120: {=_xlfn.SORTBY(A120:B127,B120:B127,-1)} -> Informatiebeheer | I120: 0.74666667 | J120: =I120 -> 0.74666667
A121: Privacy | B121: =IFERROR(AVERAGEIF($A$133:$A$244,A121,$F$133:$F$244),"") -> 0.74666667 | C121: =IF(B121>0.25,B121,"") -> 0.74666667 | D121: =IF(AND(B121>0.2,B121<=0.25),B121,"") | E121: =IF(AND(B121>0.15,B121<=0.2),B121,"") | F121: =IF(B121<=0.15,B121,"") | H121: Privacy | I121: 0.74666667 | J121: =I121 -> 0.74666667
A122: Informatiebeveiliging | B122: =IFERROR(AVERAGEIF($A$133:$A$244,A122,$F$133:$F$244),"") -> 0.69333333 | C122: =IF(B122>0.25,B122,"") -> 0.69333333 | D122: =IF(AND(B122>0.2,B122<=0.25),B122,"") | E122: =IF(AND(B122>0.15,B122<=0.2),B122,"") | F122: =IF(B122<=0.15,B122,"") | H122: Datamanagement | I122: 0.69333333 | J122: =I122 -> 0.69333333
A123: Cybersecurity | B123: =IFERROR(AVERAGEIF($A$133:$A$244,A123,$F$133:$F$244),"") -> 0.56 | C123: =IF(B123>0.25,B123,"") -> 0.56 | D123: =IF(AND(B123>0.2,B123<=0.25),B123,"") | E123: =IF(AND(B123>0.15,B123<=0.2),B123,"") | F123: =IF(B123<=0.15,B123,"") | H123: Informatiebeveiliging | I123: 0.69333333 | J123: =I123 -> 0.69333333
A124: Functioneel beheer | B124: =IFERROR(AVERAGEIF($A$133:$A$244,A124,$F$133:$F$244),"") -> 0.56 | C124: =IF(B124>0.25,B124,"") -> 0.56 | D124: =IF(AND(B124>0.2,B124<=0.25),B124,"") | E124: =IF(AND(B124>0.15,B124<=0.2),B124,"") | F124: =IF(B124<=0.15,B124,"") | H124: Functioneel beheer | I124: 0.56 | J124: =I124 -> 0.56
...

Sheet 5. Risico en impact
A3: Functie | B3: Omschrijving functie | C3: Datamanagement | D3: Privacy | E3: Informatiebeveiliging | F3: Cybersecurity | G3: Functioneel beheer | H3: Informatiebeheer | I3: Woo | J3: Governance | N3: Score
A4: Bevriezing | B4: Vastzetten informatieobject | C4: M | D4: H | E4: H | F4: H | G4: M | H4: H | I4: M | J4: H | N4: H | O4: Hoog
A5: Conversie | B5: Omzetten naar ander formaat | C5: H | D5: M | E5: M | F5: M | G5: M | H5: H | I5: M | J5: L | N5: M | O5: Middel
A6: Inwinning | B6: Ophalen informatie uit andere systemen | C6: H | D6: H | E6: M | F6: M | G6: M | H6: H | I6: M | J6: M | N6: L | O6: Laag
A7: Maskering | B7: Afschermen gevoelige informatie | C7: M | D7: H | E7: H | F7: M | G7: M | H7: M | I7: H | J7: M | N7: O | O7: Geen
A8: Metagegevensbeheer | B8: Beheer van metadata en context | C8: H | D8: H | E8: H | F8: M | G8: M | H8: H | I8: H | J8: H
A9: Opname | B9: Registreren in beheerde omgeving | C9: H | D9: H | E9: H | F9: M | G9: H | H9: H | I9: M | J9: M
A10: Opslag | B10: Duurzaam bewaren van informatie | C10: H | D10: H | E10: H | F10: H | G10: H | H10: H | I10: M | J10: M
A11: Publicatie | B11: Beschikbaarstellen van informatie | C11: M | D11: H | E11: H | F11: M | G11: M | H11: M | I11: H | J11: H
A12: Representatie | B12: Correct weergeven van informatie | C12: M | D12: M | E12: M | F12: M | G12: H | H12: H | I12: M | J12: M
A13: Toegangsbeheer | B13: Beheer van rechten en toegang | C13: H | D13: H | E13: H | F13: H | G13: H | H13: H | I13: M | J13: H
A14: Uitwisseling | B14: Delen tussen systemen of organisaties | C14: H | D14: H | E14: H | F14: M | G14: H | H14: H | I14: M | J14: H
A15: Validatie | B15: Controleren op juistheid en integriteit | C15: H | D15: H | E15: H | F15: H | G15: H | H15: H | I15: M | J15: H
A16: Verantwoording | B16: Aantonen van verwerking en gebruik | C16: H | D16: H | E16: H | F16: H | G16: M | H16: H | I16: H | J16: H
A17: Vernietiging | B17: Gecontroleerd verwijderen van informatie | C17: H | D17: H | E17: H | F17: H | G17: M | H17: H | I17: H | J17: H
A18: Zoeken | B18: Terugvinden van informatie | C18: H | D18: H | E18: M | F18: M | G18: M | H18: H | I18: H | J18: M

Sheet 6. Overzicht Risico Functie
A1: Functie | B1: Omschrijving functie | C1: Datamangement belang | D1: Datamangement risico | E1: Privacy belang | F1: Privacy risico | G1: Informatiebeveiliging belang | H1: Informatiebeveiliging risico | I1: Cybersecurity belang | J1: Cybersecurity risico | K1: Functioneel beheer belang | L1: Functioneel beheer risico | M1: Informatiebeheer belang | N1: Informatiebeheer risico | O1: Woo belang | P1: Woo risico | Q1: Governance belang | R1: Governance risico | S1: DUTO score
A2: Bevriezing | B2: Bevriezing is het vastzetten van een informatieobject (en eventueel de bijbehorende metagegevens) zodat wijzigingen niet meer mogelijk zijn. | C2: 1. Datasets blijven ongewijzigd tijdens analyse of omderzoek 2. Resultaten blijven reproduceerbaar en controleerbaar | E2: 1. Persoonsgegevens blijven ongewijzigd gedurende onderzoek of procedure. 2. Betrouwbare beoordeling of onderzoek blijft mogelijk | F2: 1. Persoonsgegevens worden gewijzigd of vernietigd tijdens onderzoek 2. Onderzoek of control kan niet betrwoubaar worden uitgevoerd | G2: 1. Bescherming tegen ongeautoriseerde wijzigingen 2. Integrireit van informatieobjecten waarborgen | H2: 1. Ongeautoriseerde wijzigingen in documenten of datasets 2. Manipulatie van informatie of bewijsstukken | I2: 1. Veiligstellen van informatie na incident 2. Behoud loggegevens en relevantie data | J2: 1. Logbestanden of data worden gewijzigd of verwijderd 2. Forensisch onderzoek onmogelijk | K2: 1. Activeren en beheren van bevriezingsfunctionaliteit | L2: 1. Freeze niet correct ingesteld 2. Gebruikers blijven wijzigen | M2: 1. Integriteit dossiers 2. Bescherming tegen voortijdige vernietiging 3. Beschermingen tegen (onbedoelde) wijzigingen | N2: 1. Dossiers of documenten achteraf gewijzigd. 2. Informatie kan onbeodel worden vernietigd 3. Besluitvorming of processen kunnen niet betrouwbaar worden gereconstrueerd | O2: 1. Informatie veiligstellen voor procedures 2. Aantoonbaar hebben dat verstrekte informatie overeenkomst met de informatie die ten grondslag lag aan de besluitvorming of het proces | P2: 1. Dossier is onvolledig bij openbaarmaking (actie en passief) 2. Authenticiteit van het dossier bij openbaarmaking is niet aantoonbaar | Q2: 1. Aantoonbare integriteit van informatie 2. Mogelijkheid tot reconstructie | R2: 1. Organisatie kan geen verantwoording afleggen 2. Reconstructie niet mogelijk | S2: =_xlfn.XLOOKUP(A2,'4. Dashboard'!$A$50:$A$64,'4. Dashboard'!$B$50:$B$64,"") -> 0.2
A3: Conversie | B3: Het omzetten van informatieobjecten en bijbehorende metagegevens naar een ander formaat of een andere structuur, zodat deze bruikbaar blijven binnen een andere applicatie, omgeving of in de tijd. | C3: 1. Dataconsistentie 2. Structuurbehoud | D3: 1. Dataverlies 2. Onbruikbare datasets | E3: 1. Correcte verwerking persoonsgegevens | F3: 1. Persoonsgegevens verdwijnen of veranderen 2. Verkeerde gegevens worden gepubliceerd 3. Dataminimalisatie gaat verloren | G3: 1. Integriteit tijdens omzetting 2. Behoud van beveiligingslabels en rubricering | H3: 1. Manipulatie van bestanden 2. verlies van beveiligingslabels of rubricering | I3: 1. Veilige conversietools 2. Bescherming tegen kwetsbaarheden in de software | J3: 1. Malware via conversietools 2. Exploit van kwetsbare software | K3: 1. correcte configuratie en uitvoering van de conversieprocessen | L3: 1. Conversieprocessen velkeerd ingericht 1. Incomplete of foutieve conversie | M3: 1. Duurzame toegankelijkheid van informatie 2. Behoud van authenticiteit en context 3. Voorkomen (of beperken) van informatieverlies; documenten blijven leesbaar en vindbaar | N3: 1. Metadata raakt verloren 2. Context van informatieobjecten verdwijnt 3. Archiefbescheiden verliezen betrouwbaarheid | O3: 1. Documenten blijven correct reproduceerbaar en leesbaar | P3: 1. Inhoud verandert of wordt onleesbaar 2. Juridische bewijswaarde vermindert; documenten niet meer betrouwbaar worden verstrekt | Q3: 1. aantoonbare integriteit | R3: 1. Niet aantoonbaar dat informatie ongewijzigd is 2. Conversie leidt tot verlies of bruikbaarheid van informatie (incorrecte uitvoering) | S3: =_xlfn.XLOOKUP(A3,'4. Dashboard'!$A$50:$A$64,'4. Dashboard'!$B$50:$B$64,"") -> 0.2
A4: Inwinning | B4: Het ophalen van bestaande informatieobjecten en metadata uit andere applicaties via koppelingen (API’s, services, exports), zodat deze opnieuw in beheer worden genomen. | C4: 1. Dataconsistentie 2. Synchronisatie 3. Datakwaliteit | D4: 1. Verouderde of niet-gesynchroniseerde data 2. Versieconflicten tussen systemen 3. Dubbele registraties | E4: 1. Doelbinding bij hergebruik van gegevens 2. Controle grondslag voor verwerking 3. Beperking van hergebruik van persoonsgegevens | F4: 1. Onrechtmatig gebruik van persoonsgegevens 2. Geen zicht op bron of doelbinding 3. Verkeerde of ontbrekende bewaartermijnen | G4: 1. Veilige API’s 2. Authenticatie 3. Autorisatie | H4: 1. Onbevoegde koppelingen 2. Datadiefstal via koppelingen | I4: 1. Bescherming koppelingen 2. Monitoring API | J4: 1. Misbruik API’s | K4: 1. Koppelingsbeheer 2. Afstemming van releases en wijzigingen | L4: 1. Uitval bij updates koppelingen 2. Onopgemerkte breuken in intelgraties | M4: 1. Behoud van context bij de overname van informatie 2. Registratie van de herkomst van de bron 3. Vastleggen van de relaties tussen infromatieobjecten | N4: 1. Verlies context van de bron 2. Onduidelijke status van informatieobjecten 3. Onjuiste selectie of bewaartermijnen | O4: 1. Herleidbaarheid van informatie naar de bron 2. Bronverantwoording | P4: 1. Niet uitlegbaar dossier 2. Informatiebron is niet aantoonbaar 3. Onvolledige stukken bij openbaarmaking | Q4: 1. Toezicht op ketensamenrwerkingen 2. Vastleggen van afspraken over gegevens uitwisselingen | R4: 1. Ondoorzichtige keten 2. Onduidelijkheid eigenaarschap van informatie 3. Oncontroleerbaarheid informatie/gegevensstromen | S4: =_xlfn.XLOOKUP(A4,'4. Dashboard'!$A$50:$A$64,'4. Dashboard'!$B$50:$B$64,"") -> 0.2
A5: Maskering | B5: Het afschermen of onzichtbaar maken van delen van informatieobjecten of metagegevens zodat deze niet toegankelijk zijn voor bepaalde gebruikers of bij publicatie. | C5: 1. Datasets kunnen veilig worden gedeeld 2. Gevoelige gegevens worden afgeschermd | D5: 1. Datasets bevatten onbedoeld gevoelige informatie 2. Verkeerde gegevens worden openbaar gemaakt | E5: 1. Bescherming van persoonsgegevens bij openbaarmaking | F5: 1. Persoonsgegevens worden zichtbaar 2. Datalek door publicatie | G5: 1. Bescherming van vertrouwelijke informatie | H5: 1. Gevoelige informatie wordt openbaar 2. Vertrouwelijkheid wordt geschonden | I5: 1. Voorkomen dat gevoelige informatie via publicatiesystemen uitlekt | J5: 1. Verborgen gegevens blijven technisch toegankelijk 2. Metadata bevat nog gevoelige informatie | K5: 1. Correcte configuratie van maskeringsfunctionaliteit | L5: 1. Maskering wordt verkeerd toegepast 2. Delen van documenten blijven zichtbaar | M5: 1. Behoud van het oorspronkelijke document 2. Juiste context bij openbaarmaking | N5: 1. Gemaskeerde versie vervangt het origineel 2. Dossiercontext raakt verloren | O5: 1. Juiste toepassing van uitzonderingsgronden | P5: 1. Teveel informatie openbaar 2. Teveel weggelakt | Q5: 1. Transparante en controleerbare openbaarmaking | R5: 1. Onjuiste of inconsistente toepassing van maskering 2. Reputatieschade door fouten bij publicatie | S5: =_xlfn.XLOOKUP(A5,'4. Dashboard'!$A$50:$A$64,'4. Dashboard'!$B$50:$B$64,"") -> 0.2
A6: Metagegevensbeheer | B6: Het vastleggen, beheren, verrijken en onderhouden van contextinformatie over informatieobjecten op basis van een metagegevensschema en classificatieschema, inclusief relaties en wijzigingen. | C6: 1.Datadefinities 2.Consistente structuren 3.Herbruikbaarheid van gegevens | D6: 1. Datasilo’s 2. Inconsistente datasets 3. Onbetrouwbare rapportages | E6: 1. Identificatie persoonsgegevens 2. Doelbinding kunnen vaststellen | F6: 1. Onzichtbare persoonsgegevens 2. Onrechtmatige opslag 3. Onjuiste vernietiging | G6: 1. Rubricering van informatie 2. Beveiligingsniveau bepalen | H6: 1. Vertrouwelijke informatie onvoldoende beschermd 2. Overbeveiliging van niet-gevoelige informatie 3. Onnodige toegangsbeperkingen beperkingen | I6: 1. Detectie gevoelige data 2. Monitoring van kritieke informatie | J6: 1. Kroonjuwelen zijn niet herkenbaar 2. Verhoogde kans aanvallen | K6: 1. Beheer van metadata- en rubriceringsschema's 2. Onderhoud systeemkoppelingen | L6: 1. Verouderde metadata- velden 2. Foutieve mappings tussen system 3. Incidenten gegvensuitwisseling | M6: 1. Ordening van info 2. Toepassen selectie en waardering 3. Authenticiteit waarborgen | N6: 1. Onjuiste bewaartermijnen 2. Verlies context 3. Archief onbruikbaar | O6: 1. Vindbaarheid van informatie 2. Ondersteuning van dossiervorming 3. Toepassing uitzonderingengronden | P6: 1. Onvolledige zoekresultaten 2. Onjuiste openbaarmaking 3. Bezwaar/beroep | Q6: 1. Aantoonbaarheid informatiehuishouding 2. Sturingsmogelijkheden | R6: 1. Niet uitlegbaar beleid 2. Geen grip op informatiehuidhouding | S6: =_xlfn.XLOOKUP(A6,'4. Dashboard'!$A$50:$A$64,'4. Dashboard'!$B$50:$B$64,"") -> 0.2
A7: Opname | B7: Bij creatie of ontvangst wordt een informatieobject toegevoegd aan een beheerde omgeving, zodat het onderdeel wordt van een bedrijfsproces (bijv. aanvraag in behandeling nemen, interne memo starten). | C7: 1. Juiste datasetstructuur 2. Standaardisatie | D7: 1. Onvergelijkbare data 2. Analyse onmogelijk 3. Vervuiling vanaf de bron | E7: 1. Rechtmatige start verwerking 2. Dataminimalisatie 3. Doelbinding | F7: 1. Onnodige persoonsgegevens opgenomen 2. Geen grondslag 3. Verwerking buiten register | G7: 1. Direct juiste classificatie 2. Juiste beveiligingsniveau | H7: 1. Vertrouwelijke info in open omgeving 2. Onbeveiligde opslag | I7: 1. Veilige invoer 2. Bescherming tegen malware | J7: 1. Geïnfecteerde bijlagen 2. Onveilige uploads | K7: 1. Werkende intakeflows 2. Correcte proceskoppeling | L7: 1. Informatie blijft “zweven” 2. Proces niet gestart 3. Status onduidelijk | M7: 1. Dossiervorming vanaf start 2.Context vastleggen | N7: 1. Geen dossierrelatie 2. Losse bestanden 3. Onvolledige reconstructie | O7: 1. Volledig dossier 2. Herleidbaarheid | P7: 1. Ontbrekende stukken 2. Onverdedigbaar besluit | Q7: 1. Aantoonbare start van proces 2. Traceerbaarheid | R7: 1. Geen audittrail 2. Niet uitlegbaar besluitvormingsproces | S7: =_xlfn.XLOOKUP(A7,'4. Dashboard'!$A$50:$A$64,'4. Dashboard'!$B$50:$B$64,"") -> 0.2
A8: Opslag | B8: Het duurzaam opslaan en bewaren van informatieobjecten en bijbehorende metagegevens in een beheerde omgeving, zodat deze beschikbaar, betrouwbaar en beschermd blijven gedurende de gehele levenscyclus. | C8: 1. Consistente dataopslag 2. Versiebeheer | D8: 1. Dubbele datasets 2. Versieconflicten 3. Verkeerde analyses | E8: 1. Veilige opslag persoonsgegevens 2. Juiste bewaartermijnen | F8: 1. Onbeveiligde opslag 2. Ongeautoriseerde toegang 3. Te lang bewaren | G8: 1. Encryptie 2. Toegangscontrole 3. Fysieke beveiliging | H8: 1. Datalekken 2. Ongeautoriseerde kopieën 3. Verlies van vertrouwelijkheid | I8: 1. Bescherming tegen ransomware 2. Detectie manipulatie | J8: 1. Massale dataversleuteling 2. Data-exfiltratie 3. Sabotage van opslag | K8: 1. Beheer opslagstructuren 2. Performance | L8: 1. Opslaglimieten bereikt 2. Foutieve configuratie 3. Incidenten | M8: 1. Duurzame toegankelijkheid 2. Juiste bestandsformaten | N8: 1. Bestanden onleesbaar 2. Formaten verouderd 3. Informatieverlies | O8: 1. Beschikbaarheid dossier 2.Integriteit documenten | P8: 1. Ontbrekende stukken 2. onvolledige reconstructie | Q8: 1. Aantoonbare opslagcontrole 2. Auditability | R8: 1. Oncontroleerbare opslag 2. Compliance-problemen | S8: =_xlfn.XLOOKUP(A8,'4. Dashboard'!$A$50:$A$64,'4. Dashboard'!$B$50:$B$64,"") -> 0.2
A9: Publicatie | B9: Het beschikbaar stellen van informatieobjecten en metagegevens aan externe gebruikers of het publiek via publicatiekanalen zoals websites, portalen of open data-platforms. | C9: 1. Datasets worden correct gepubliceerd 2. Herbruikbaarheid van informatie | D9: 1. Datasets bevatten fouten 2. Verkeerde gegevens worden gedeeld | E9: 1. Persoonsgegevens worden niet onterecht gepubliceerd | F9: 1. Persoonsgegevens worden openbaar 2. Datalek door publicatie | G9: 1. Be-(en af)scherming van vertrouwelijke informatie | H9: 1. Gevoelige informatie wordt (onbedoeld) openbaar | I9: 1. Veilige publicatieplatforms | J9: 1. Manipulatie van gepubliceerde informatie 2. Kwetsbaarheden in publicatiesystemen | K9: 1. Beheer van publicatieplatforms | L9: 1. Verkeerde versie wordt gepubliceerd | M9: 1. Behoud van het originele informatieobject 2. Correcte koppeling tussen interne en gepubliceerde versie | N9: 1. Gepubliceerde versie vervangt origineel 2. Context van documenten raakt verloren | O9: 1. Naleving van openbaarmakingsverplichtingen | P9: 1. Informatie wordt onvolledig gepubliceerd 2. Erw wordt teveel openbaar gemaakt | Q9: 1. Transparante en controleerbare openbaarmaking | R9: 1. Reputatieschade door onjuiste publicatie 2. Organisatie kan publicatie niet verantwoorden | S9: =_xlfn.XLOOKUP(A9,'4. Dashboard'!$A$50:$A$64,'4. Dashboard'!$B$50:$B$64,"") -> 0.2
A10: Representatie | B10: Het beschikbaar maken van informatieobjecten en hun metagegevens in een vorm waarin de inhoud correct kan worden weergegeven en begrepen door gebruikers. | C10: 1. Datasets worden correct geïnterpreteerd | D10: 1. Verkeerde interpretatie van data 2. Foutieve analyses | E10: 1. Correcte weergave van persoonsgegevens | F10: 1. Persoonsgegevens worden verkeerd geïnterpreteerd of weergegeven | G10: 1. Voorkomen dat representatie gevoelige informatie blootlegt | H10: 1. Verborgen informatie wordt zichtbaar | I10: 1. Veilige viewers en software | J10: 1. Kwetsbaarheden in viewers 2. Manipulatie van weergave | K10: 1. Juiste configuratie van systemen en viewers | L10: 1. Bestanden kunnen niet worden geopend | M10: 1. Duurzame toegankelijkheid van informatie | N10: 1. Bestanden worden onleesbaar 2. Informatie kan niet meer worden geïnterpreteerd | O10: 1. Informatie wordt correct en begrijpelijk gepresenteerd | P10: 2. Documenten worden verkeerd geïnterpreteerd | Q10: 1. Betrouwbare informatie voor verantwoording | R10: 1. Verkeerde interpretatie van documenten of datasets | S10: =_xlfn.XLOOKUP(A10,'4. Dashboard'!$A$50:$A$64,'4. Dashboard'!$B$50:$B$64,"") -> 0.2
A11: Toegangsbeheer | B11: Het inrichten, beheren en controleren van wie welke informatie mag inzien, wijzigen, delen en verwijderen, gedurende de hele levenscyclus. | C11: 1. Alleen bevoegden mogen data aanpassen 2. Datakwaliteit bewaken | D11: 1. Ongeautoriseerde wijzigingen 2. Vervuilde datasets | E11: 1. Alleen gerechtvaardigde toegang tot persoonsgegevens 2. Logging | F11: 1. Onrechtmatige inzage 2. Datalekken 3. Boetes | G11: 1. Minimale rechten 2. Functiescheiding | H11: 1. Te brede rechten 2. Misbruik 3. Interne incidenten 4. Verkeerde rubricering | I11: 1. Accountbeveiliging 2. Identity & Access Management | J11: 1. Gehackte accounts | K11: 1. Rolbeheer 2. Gebruikerssupport 3. Lifecycle management | L11: 1. Ex-medewerkers met toegang 2. Trage uitdiensttreding 3. Ingewikkelde autorisatiestructuur | M11: 1. Bescherming van dossiers 2. Vertrouwelijkheid 3. Contextbewaking | N11: 1. Ongeautoriseerde inzage 2. Dossiers ‘opengebroken’ | Q11: 1. Aantoonbare beheersing 2. Audits | R11: 1. Geen logging 2. Geen toezicht 3. Afkeuring audits | S11: =_xlfn.XLOOKUP(A11,'4. Dashboard'!$A$50:$A$64,'4. Dashboard'!$B$50:$B$64,"") -> 0.2
A12: Uitwisseling | B12: Het delen, overdragen of beschikbaar stellen van informatieobjecten en bijbehorende metagegevens tussen systemen, applicaties, organisaties of ketenpartners. | C12: 1. Consistente gegevensuitwisseling 2. Standaardisatie | D12: 1. Dataconflicten 2. Inconsistentie tussen systemen 3. Verkeerde beleidsinformatie | E12: 1. Rechtmatige gegevensdeling 2. Dataminimalisatie | F12: 1. Persoonsgegevens onterecht gedeeld 2. Te brede datasets gedeeld 3. Geen duidelijke verwerkingsgrondslag | G12: 1. Beveiligde overdracht 2. Versleuteling | H12: 1. Onderschepping van gegevens 2. Datalekken | I12: 1. Beveiligde API’s 2. Monitoring van dataverkeer | J12: 1. Misbruik van koppelingen 2. Data-exfiltratie | K12: 1. Beheer van koppelingen 2. Monitoring | L12: 1. Koppelingen breken bij updates 2. Gegevensstromen vallen stil | M12: 1. Behoud van context 2. juiste registratie van ontvangen informatie | N12: 1. Informatie wordt gedeeld zonder context 2. Onduidelijkheid over bron of status | O12: 1. Transparantie over gegevensstromen 2. Herleidbaarheid | P12: 1. Informatie niet meer te herleiden 2. Onduidelijkheid over verantwoordelijkheid | Q12: 1. Afspraken over gegevensdeling 2. Toezicht op ketens | R12: 1. Onduidelijke eigenaarschap 2. Gebrek aan controle | S12: =_xlfn.XLOOKUP(A12,'4. Dashboard'!$A$50:$A$64,'4. Dashboard'!$B$50:$B$64,"") -> 0.2
A13: Validatie | B13: Het controleren van informatieobjecten en bijbehorende metadata op volledigheid, juistheid en integriteit, zodat de betrouwbaarheid kan worden vastgesteld. Bijv. checksums, loganalyse, integriteitscontrole. | C13: 1. Datakwaliteit 2. Betrouwbare datasets | D13: 1. Onjuiste analyses 2. Verkeerde beleidsinformatie 3. Besluiten op foutieve data | E13: 1. Juistheid persoonsgegevens (art. 5 AVG) 2. Correcte verwerking | F13: 1. Onjuiste persoonsgegevens blijven circuleren 2. Foute besluiten over betrokkenen 3. Inzageverzoeken onbetrouwbaar | G13: 1. Integriteit 2. Detectie ongeautoriseerde wijziging | H13: 1. Manipulatie blijft onopgemerkt 2. Interne fraude 3. Onbetrouwbare dossiers | I13: 1. Detectie van compromise 2. Controle op ongewenste mutaties | J13: 1. Ransomware verandert data 2. Onzichtbare wijzigingen 3. Geen forensische zekerheid | K13: 1. Correct werkende controles 2. Logging | L13: 1. Validaties niet actief 2. Onopgemerkte fouten 3. Incidenten te laat ontdekt | M13: 1. Authentieke archiefbescheiden 2. Ongewijzigde dossiers | N13: 1. Bewijswaarde vervalt 2. Archief niet betrouwbaar 3. Onmogelijke reconstructie | O13: 1. Integriteit dossier 2. Bewijskracht | P13: 1. Dossier wordt betwist 2. Geen aantoonbare authenticiteit 3. Juridisch verlies | Q13: 1. Aantoonbare beheersing 2. Auditability | R13: 1. Geen controleerbare integriteit 2. Afkeurende audits 3. Vertrouwenverlies | S13: =_xlfn.XLOOKUP(A13,'4. Dashboard'!$A$50:$A$64,'4. Dashboard'!$B$50:$B$64,"") -> 0.2
A14: Verantwoording | B14: Het kunnen aantonen hoe informatieobjecten zijn ontstaan, verwerkt, gewijzigd, geraadpleegd of vernietigd, inclusief de context waarin dat is gebeurd. | C14: 1. Herleidbaarheid van datasets 2. Versiebeheer | D14: 1. Onduidelijk welke dataset is gebruikt 2. Onbetrouwbare analyses | E14: 1. Accountability 2. Kunnen aantonen hoe persoonsgegevens zijn verwerkt | F14: 1. Rechtmatigheid van verwerking niet aantoonbaar 2. Problemen bij datalekonderzoek | G14: 1. Logging van toegang en wijzigingen | H14: 1. Ongeautoriseerde acties niet detecteerbaar 1. Incidenten niet te reconstrueren | I14: 1. Detectie van aanvallen 2. Forensisch onderzoek | J14: 1. Geen zicht op datalekken 2. Aanvallen niet te analyseren 3. Incidenten onopgemerkt | K14: 1. Beheer van logbestanden 2. Monitoring | L14: 1. Logs worden niet opgeslagen 2. Incidenten onopgemerkt | M14: 1. Reconstructie van dossiers 2. Aantonen besluitvorming | N14: 1. Besluitvorming niet meer te herleiden 2. Onvolledige archieven | O14: 1. Inzicht in totstandkoming besluiten 2. Verantwoording richting burgers | P14: 1. Besluitvorming niet uitlegbaar 2. Bezwaar of beroep | Q14: 1. Toezicht 2. Interne controle | R14: 1. Gebrek aan controleerbaarheid 2. Afkeurende audits | S14: =_xlfn.XLOOKUP(A14,'4. Dashboard'!$A$50:$A$64,'4. Dashboard'!$B$50:$B$64,"") -> 0.2
A15: Vernietiging | B15: Het gecontroleerd en aantoonbaar verwijderen van informatieobjecten en bijbehorende metagegevens wanneer de bewaartermijn is verstreken of wanneer vernietiging op grond van wet- of regelgeving is toegestaan. | C15: 1. Datasets blijven beheersbaar 2. Verwijderen van verouderde of irrelevante data | D15: 1. datasets blijven groeien 2. Hervuilde of verouderde data beïnvloeden analyses | E15: 1. Persoonsgegevens worden niet langer bewaard dan noodzakelijk | F15: 1. Persoonsgegevens blijven bestaan terwijl ze vernietigd hadden moeten worden 2. Organisatie voldoet niet aan opslagbeperking uit AVG | G15: 1. Verwijderen van gevoelige informatie die niet langer nodig is | H15: 1. Oude bestanden blijven beschikbaar 2. Vertrouwelijke informatie blijft circuleren | I15: 1. Verkleinen van het aanvalsoppervlak door het verwijderen van oude data | J15: 1. Oude datasets worden doelwit van datadiefstal 2. Vergeten opslaglocaties bevatten gevoelige informatie | K15: 1. Uitvoeren en monitoren van vernietigingsprocessen | L15: 1. Vernietiging wordt niet uitgevoerd 2. Processen verlopen handmatig en foutgevoelig | M15: 1. Naleving van bewaartermijnen uit selectielijsten 2. Beheersbare en rechtmatige informatiehuishouding | N15: 1. Informatie blijft bestaan terwijl ze vernietigd had moeten worden 2. Organisatie kan vernietiging niet verantwoorden | O15: 1. Correcte toepassing van bewaartermijnen | P15: 1. Informatie wordt te vroeg vernietigd 2. Dossiers raken onvolledig 3. Informatie bestaat langer dan wettelijk is toegestaan | Q15: 1. Aantoonbare uitvoering van vernietiging 2. Beheersbare informatiehuishouding en opslag 3. Voorkomen onnodige kosten voor opslag bij uitblijven vernietiging | R15: 1. Organisatie kan niet aantonen wat is vernietigd en wanneer 2. Oplopende kosten voor opslag, systemen, cloud, netwerkschijven back-ups, plank, door uitlbijvende vernietiging | S15: =_xlfn.XLOOKUP(A15,'4. Dashboard'!$A$50:$A$64,'4. Dashboard'!$B$50:$B$64,"") -> 0.2
A16: Zoeken | B16: Het kunnen terugvinden van informatieobjecten en bijbehorende metagegevens op basis van zoekfunctionaliteit, filters, classificaties of relaties, zodat informatie beschikbaar is voor gebruik, besluitvorming, verantwoording of openbaarmaking. | C16: 1. Vindbaarheid datasets 2. Hergebruik data | D16: 1. Data bestaat maar wordt niet gevonden 2. Duplicatie van datasets 3. Inefficiënt gebruik van informatie | E16: 1. Persoonsgegevens kunnen lokaliseren 2. Inzage- en verwijderverzoeken uitvoeren | F16: 1. Persoonsgegevens niet vindbaar 2. Inzageverzoek niet volledig 3. Vernietiging niet uitvoerbaar | G16: 1.Zoeken binnen juiste autorisaties | H16: 1. Informatie zichtbaar buiten bevoegdheid 2. Vertrouwelijke documenten uitlekbaar | I16: 1. Monitoring toegang tot gevoelige informatie | J16: 1. Massale data-extractie 2. Scraping van gevoelige informatie | K16: 1. Configuratie zoekfunctionaliteit 2. Onderhoud indexen | L16: 1. Zoekresultaten incompleet 2. Performanceproblemen | M16: 1. Vindbaarheid dossiers 1. Reconstructie besluitvorming | N16: 1. Informatie bestaat maar wordt niet gevonden 2. Dossier onvolledig | O16: 1. Documenten kunnen lokaliseren 2. Volledige zoekslag uitvoeren | P16: 1. Woo-verzoeken onvolledig afgehandeld 2. Bezwaar/beroep | Q16: 1. verantwoording 2. auditability | R16: 1. niet kunnen aantonen hoe besluit tot stand kwam | S16: =_xlfn.XLOOKUP(A16,'4. Dashboard'!$A$50:$A$64,'4. Dashboard'!$B$50:$B$64,"") -> 0.2
D21: tot 25% | E21: Hoog risico/onvoldoende beheerst
D22: 25 tot 50 % | E22: Aandacht vereist
D23: 50 tot 75% | E23: Redelijk beheerst
D24: Boven 75% | E24: Goed beheerst

Sheet 7. Modeleisen DUTO
A1: ID | B1: Proces | C1: Eis | D1: Functie | E1: MoSCoW | F1: Bronvermelding
A2: R01 | B2: Registreren | C2: Het moet mogelijk zijn om informatieobjecten en bijbehorende metagegevens rechtstreeks vanuit een interne of externe applicatie en/of voorziening in grote hoeveelheden tegelijk of individueel in te winnen. | D2: Inwinning | E2: M | F2: NEN-ISO 16175-1:2020, R.1.1.4
A3: R02 | B3: Registreren | C3: Het moet mogelijk zijn om op elk aggregatieniveau een uniek identificatiekenmerk toe te wijzen aan informatieobjecten. Het kenmerk is uniek binnen de bijbehorende bron. | D3: Metagegevensbeheer | E3: M | F3: NEN-ISO 16175-1:2020, R.1.2.2; NEN-ISO 15489-1:2016, 9.3; MDTO-identificatiekenmerk
A4: R03 | B4: Registreren | C4: Het moet mogelijk zijn om vooraf te configureren welke metagegevenselementen bij een informatieobject worden vastgelegd. | D4: Metagegevensbeheer | E4: M | F4: NEN-ISO 16175-1:2020, R.1.2.3
A5: R04 | B5: Registreren | C5: Het moet mogelijk zijn om bij creatie of opname van een informatieobject met metagegevens (conditionele) bewaartermijnen toe te kennen conform de vigerende selectielijst. | D5: Metagegevensbeheer | E5: M | F5: NEN-ISO 16175-1:2020, R.2.1.1
A6: R05 | B6: Registreren | C6: Het moet mogelijk zijn om de inhoud van metagegevens op een geautoriseerde manier en volgens vastgesteld beleid te wijzigen. | D6: Metagegevensbeheer | E6: M | F6: NEN-ISO 16175-1:2020, R.3.1.1
A7: R06 | B7: Registreren | C7: Het moet mogelijk zijn, indien er van digitale handtekeningen gebruik gemaakt wordt, om de metagegevens die het gebruik van een digitale handtekening registreren (datum, tijd en validatie) te documenteren. En blijvend bij het informatieobject op te slaan. | D7: Metagegevensbeheer | E7: M | F7: NEN-ISO 16175-1:2020, R.3.1.5
A8: R07 | B8: Registreren | C8: Het moet mogelijk zijn om de metagegevens vast te leggen overeenkomstig één of meerdere vooraf vastgestelde metagegevensschema's. | D8: Metagegevensbeheer | E8: M | F8: Archiefregeling art. 17; NEN-ISO 16175-1:2020, R.1.2.1; NEN-ISO 15489-1:2016, 9.3
A9: R08 | B9: Registreren | C9: Het moet mogelijk zijn om bepaalde metagegevens handmatig in te voeren. | D9: Metagegevensbeheer | E9: M | F9: NEN-ISO 16175-1:2020, R.1.2.4
A10: R09 | B10: Registreren | C10: Het moet mogelijk zijn om toegangs-, gebruiks- en beveiligingsmetagegevens te creëren en te onderhouden die beveiligde registraties van gebeurtenissen genereren voor informatieobjecten op elk aggregatieniveau. Daarmee kun je de toegang tot en het gebruik van informatieobjecten bijhouden (logging) en documenteren. | D10: Metagegevensbeheer | E10: M | F10: NEN-ISO 16175-1:2020, R.4.2.3; NEN-ISO 16175-1:2020, R.3.1.4
A11: R10 | B11: Registreren | C11: Het moet mogelijk zijn om informatieobjecten en bijbehorende metagegevens op te nemen. | D11: Opname | E11: M | F11: NEN-ISO 16175-1:2020, R.1.1.1
A12: R11 | B12: Registreren | C12: Het moet mogelijk zijn om het opnemen van informatieobjecten in gangbare, open bestandsformaten en/of oorspronkelijke bestandsformaten te ondersteunen. | D12: Opname | E12: M | F12: NEN-ISO 16175-1:2020, R.1.1.5
... A90: T19 | B90: Ter beschikking stellen | C90: Het is mogelijk bij het beschikbaar stellen van informatieobjecten en/of metagegevens dat gebruikers terugmeldingen kunnen doen over de weergave en de kwaliteit. | D90: Validatie | E90: C | F90: Handreiking open data 2.0 (KOOP) 4.1

Sheet 8. Randvoorwaarden DUTO
A1: ID | B1: Module | C1: Randvoorwaarde | D1: Nadere toelichting
A2: RVW01 | B2: Generiek deel | C2: Er is beleid voor duurzame toegankelijkheid dat (formeel) is vastgesteld en verankerd binnen de organisatie. Dit beleid bepaalt bijvoorbeeld welke technische en organisatorische maatregelen genomen moeten worden en hoe deze maatregelen vorm krijgen in de praktijk. Bijvoorbeeld bij het inrichten van procedures, het vormgeven van de administratieve organisatie, en het uitvoeren van een PDCA-cyclus (Plan, Do, Check, Act). Rollen en verantwoordelijkheden voor de uitvoer van het beleid worden hierin ook belegd. De organisatie beoordeelt dit beleid periodiek en stelt het zo nodig bij. Dit kan in aansluiting op reguliere planning-en-controlcycli. Of naar aanleiding van interne of externe ontwikkelingen.
A3: RVW02 | B3: Generiek deel | C3: Er is een preserveringsstrategie. Deze bepaalt hoe de instandhouding op lange termijn van de informatieobjecten wordt geborgd. Onderwerpen die daarin kunnen voorkomen zijn vervanging, migratie, conversie en emulatie. Deze strategie beoordeel je periodiek. En stel je zo nodig bij. | D3: https://www.nationaalarchief.nl/archiveren/preservering
A4: RVW03 | B4: Generiek deel | C4: Er is een kwaliteitssysteem dat toetsbare eisen bevat voor het duurzaam toegankelijk beheren van overheidsinformatie. Archiefregeling artikel 16 geeft bijvoorbeeld aan dat overheidsorganisaties ervoor moeten zorgen dat het beheer van archief voldoet aan toetsbare eisen van een door hen toe te passen kwaliteitssysteem.
A5: RVW04 | B5: Generiek deel | C5: Er is voldoende en deskundig personeel om de duurzame toegankelijkheid van overheidsinformatie in de organisatie te borgen.
A6: RVW05 | B6: Generiek deel | C6: Er is opleiding en training over duurzame toegankelijkheid van informatie. Alle medewerkers van de organisatie krijgen een passende instructie. Ze zijn zich daardoor bewust van beleidsregels en procedures van de organisatie op dit gebied.
